From mboxrd@z Thu Jan  1 00:00:00 1970
Return-Path: <test-report-bounces@dpdk.org>
Received: from mails.dpdk.org (mails.dpdk.org [217.70.189.124])
	by inbox.dpdk.org (Postfix) with ESMTP id AB09B43CAE
	for <public@inbox.dpdk.org>; Thu, 14 Mar 2024 09:17:01 +0100 (CET)
Received: from mails.dpdk.org (localhost [127.0.0.1])
	by mails.dpdk.org (Postfix) with ESMTP id A599040297;
	Thu, 14 Mar 2024 09:17:01 +0100 (CET)
Received: from mail-il1-f225.google.com (mail-il1-f225.google.com
 [209.85.166.225])
 by mails.dpdk.org (Postfix) with ESMTP id 0F233400D5
 for <test-report@dpdk.org>; Thu, 14 Mar 2024 09:16:40 +0100 (CET)
Received: by mail-il1-f225.google.com with SMTP id
 e9e14a558f8ab-3666dc3d1fbso4414035ab.1
 for <test-report@dpdk.org>; Thu, 14 Mar 2024 01:16:40 -0700 (PDT)
DKIM-Signature: v=1; a=rsa-sha256; c=relaxed/relaxed;
 d=iol.unh.edu; s=unh-iol; t=1710404199; x=1711008999; darn=dpdk.org;
 h=references:in-reply-to:cc:to:from:subject:message-id:date:from:to
 :cc:subject:date:message-id:reply-to;
 bh=BXsnIS91W+lkNIZ8ByXo6YOATzuBY0BfEEIixKStteM=;
 b=PYVvf4i14TICeHHKIesrNLFASmWmWQtCaa1hdl7lps/jKvl+kmCcXqQg6PBkqu7aGc
 lBucFKwF/gIsdo5VLBvbnKyE+6Y9FIhPeXRZce67v5/TVO/2Y1l6iUN5BA+TdPAj9ulw
 CsBKiFJhx0xcexWJytDqf8oBElD46ZTAMGZZo=
X-Google-DKIM-Signature: v=1; a=rsa-sha256; c=relaxed/relaxed;
 d=1e100.net; s=20230601; t=1710404199; x=1711008999;
 h=references:in-reply-to:cc:to:from:subject:message-id:date
 :x-gm-message-state:from:to:cc:subject:date:message-id:reply-to;
 bh=BXsnIS91W+lkNIZ8ByXo6YOATzuBY0BfEEIixKStteM=;
 b=XrAmT3nRjndk90trP1aLzi92bvMELQ/f0C2NnILUkmNw2gT4Fp7/9mASugxzASXYZ8
 SStyj0DMJTtZ6KJY6zlqPkJSJEvSpuS3+DxuUhZ505EcsvynPoY4BgALkhKaGBz/wdaA
 mfG42SbIQO/jlt6YMQpDhg/1pqFvlmrOSrKbSsG0QALM/wvDOK30/fJUaZAXVooa2ufs
 p+zBkV/nQCP1CDdRwCdnDYqRLNEgknvAOO4eO9v/Y3OS5+Oe6TvyIZ2rCNKANc9Uq20e
 77LSFzgikf+1EkmXhbBZXh+HONLJ9kw6KPQVJMrvAn9zIzF8KPjCgkao8UIQeUmj02Zv
 x7gQ==
X-Gm-Message-State: AOJu0YzzZCRX7YbbqmudU7xckeBQ1tgA3RvupXYdY93IcZJVrDFinc3D
 zisHNRCIgzjZTrMHzynpnZPwrGNGgWQ2mY+HM8bXdDbL74eELDO/JExwkoNv531sehPH233hhpT
 4EKKxJj4UJwJrUzwtjBKByAc1avCaHZO0go4YX8MZ
X-Google-Smtp-Source: AGHT+IFs/pKrNOGiOOTwXKx/MhqZUNMFAAXVYGtNUI8wWSgZoXVbSYZDW+CpY3c6FiVlylbNQYShA0Nr/pNZ
X-Received: by 2002:a5d:8b0f:0:b0:7cb:660c:e5ae with SMTP id
 k15-20020a5d8b0f000000b007cb660ce5aemr213919ion.12.1710404199537; 
 Thu, 14 Mar 2024 01:16:39 -0700 (PDT)
Received: from postal.iol.unh.edu (postal.iol.unh.edu. [132.177.123.84])
 by smtp-relay.gmail.com with ESMTPS id
 el23-20020a0566384d9700b004772287cc2fsm7148jab.3.2024.03.14.01.16.39
 (version=TLS1_2 cipher=ECDHE-ECDSA-AES128-GCM-SHA256 bits=128/128);
 Thu, 14 Mar 2024 01:16:39 -0700 (PDT)
X-Relaying-Domain: iol.unh.edu
Date: Thu, 14 Mar 2024 01:16:39 -0700 (PDT)
Message-ID: <65f2b267.050a0220.af357.086dSMTPIN_ADDED_MISSING@mx.google.com>
Received: from [172.17.0.6] (unknown [172.18.0.217])
 by postal.iol.unh.edu (Postfix) with ESMTP id 2D3896052471;
 Thu, 14 Mar 2024 04:16:39 -0400 (EDT)
Subject: |SUCCESS| pw138338-138345 [PATCH] [8/8] net/nfp: fix tainted scalar
From: dpdklab@iol.unh.edu
To: Test Report <test-report@dpdk.org>
Cc: dpdk-test-reports@iol.unh.edu
In-Reply-To: <20240314070536.3169210-9-chaoyong.he@corigine.com>
References: <20240314070536.3169210-9-chaoyong.he@corigine.com>
Content-Type: text/plain
X-BeenThere: test-report@dpdk.org
X-Mailman-Version: 2.1.29
Precedence: list
List-Id: automatic DPDK test reports <test-report.dpdk.org>
List-Unsubscribe: <https://mails.dpdk.org/options/test-report>,
 <mailto:test-report-request@dpdk.org?subject=unsubscribe>
List-Archive: <http://mails.dpdk.org/archives/test-report/>
List-Post: <mailto:test-report@dpdk.org>
List-Help: <mailto:test-report-request@dpdk.org?subject=help>
List-Subscribe: <https://mails.dpdk.org/listinfo/test-report>,
 <mailto:test-report-request@dpdk.org?subject=subscribe>
Errors-To: test-report-bounces@dpdk.org

Test-Label: iol-compile-arm64-testing
Test-Status: SUCCESS
http://dpdk.org/patch/138345

_Testing PASS_

Submitter: Chaoyong He <chaoyong.he@corigine.com>
Date: Thursday, March 14 2024 07:05:36 
DPDK git baseline: Repo:dpdk
  Branch: master
  CommitID:22b0194263b83fa09a25511b26a38597fff44a2c

138338-138345 --> testing pass

Test environment and result as below:

+----------------------------------------+--------------------+
|              Environment               | dpdk_meson_compile |
+========================================+====================+
| Ubuntu 20.04 ARM SVE                   | PASS               |
+----------------------------------------+--------------------+
| Ubuntu 20.04 ARM GCC Cross Compile     | PASS               |
+----------------------------------------+--------------------+
| Debian 12 with MUSDK                   | PASS               |
+----------------------------------------+--------------------+
| Ubuntu 20.04 aarch32 GCC Cross Compile | PASS               |
+----------------------------------------+--------------------+
| Ubuntu 20.04 ARM Clang Cross Compile   | PASS               |
+----------------------------------------+--------------------+
| Fedora 37 (ARM)                        | PASS               |
+----------------------------------------+--------------------+
| Fedora 38 (ARM)                        | PASS               |
+----------------------------------------+--------------------+
| Ubuntu 20.04 (ARM)                     | PASS               |
+----------------------------------------+--------------------+
| Debian 12 (arm)                        | PASS               |
+----------------------------------------+--------------------+
| Debian 11 (Buster) (ARM)               | PASS               |
+----------------------------------------+--------------------+
| CentOS Stream 9 (ARM)                  | PASS               |
+----------------------------------------+--------------------+


Ubuntu 20.04 ARM SVE
	Kernel: 5.4.0-80-generic
	Compiler: gcc 10.3.0 (Ubuntu 10.3.0-1ubuntu1~20.04)

Ubuntu 20.04 ARM GCC Cross Compile
	Kernel: 5.4.0-72-generic
	Compiler: aarch64-linux-gnu-gcc (Ubuntu 9.3.0-17ubuntu1~20.04) 9.3.0

Debian 12 with MUSDK
	Kernel: Container Host Kernel
	Compiler: gcc 12

Ubuntu 20.04 aarch32 GCC Cross Compile
	Kernel: 5.4.0-72-generic
	Compiler: gcc 9.3.0

Ubuntu 20.04 ARM Clang Cross Compile
	Kernel: 5.4.0-72-generic
	Compiler: clang version 10.0.0-4ubuntu1

Fedora 37 (ARM)
	Kernel: Depends on container host
	Compiler: gcc 12.3.1

Fedora 38 (ARM)
	Kernel: Depends on container host
	Compiler: gcc 13.1.1

Ubuntu 20.04 (ARM)
	Kernel: Container Host Kernel
	Compiler: gcc 9.4.0

Debian 12 (arm)
	Kernel: Container Host Kernel
	Compiler: gcc 11

Debian 11 (Buster) (ARM)
	Kernel: Container Host Kernel
	Compiler: gcc 10.2.1

CentOS Stream 9 (ARM)
	Kernel: Container Host Kernel
	Compiler: gcc 11.3.1

To view detailed results, visit:
https://lab.dpdk.org/results/dashboard/patchsets/29542/

UNH-IOL DPDK Community Lab

To manage your email subscriptions, visit: 
https://lab.dpdk.org/results/dashboard/preferences/subscriptions/