From mboxrd@z Thu Jan  1 00:00:00 1970
Return-Path: <test-report-bounces@dpdk.org>
Received: from mails.dpdk.org (mails.dpdk.org [217.70.189.124])
	by inbox.dpdk.org (Postfix) with ESMTP id E863A43CAE
	for <public@inbox.dpdk.org>; Thu, 14 Mar 2024 09:17:52 +0100 (CET)
Received: from mails.dpdk.org (localhost [127.0.0.1])
	by mails.dpdk.org (Postfix) with ESMTP id E2BCE40297;
	Thu, 14 Mar 2024 09:17:52 +0100 (CET)
Received: from mail-io1-f99.google.com (mail-io1-f99.google.com
 [209.85.166.99]) by mails.dpdk.org (Postfix) with ESMTP id 24D02400D5
 for <test-report@dpdk.org>; Thu, 14 Mar 2024 09:17:51 +0100 (CET)
Received: by mail-io1-f99.google.com with SMTP id
 ca18e2360f4ac-7c8bb3c2494so71706439f.0
 for <test-report@dpdk.org>; Thu, 14 Mar 2024 01:17:51 -0700 (PDT)
DKIM-Signature: v=1; a=rsa-sha256; c=relaxed/relaxed;
 d=iol.unh.edu; s=unh-iol; t=1710404270; x=1711009070; darn=dpdk.org;
 h=references:in-reply-to:cc:to:from:subject:message-id:date:from:to
 :cc:subject:date:message-id:reply-to;
 bh=j7CGvAc5bDV1sAOmcBzCikLC69D8T8BKvjiadxnW6CA=;
 b=dSuxx9PFJ8LjchdPG59Gm3+j5sjNrS3lDPCcUx5L5a1O0id2CvDnUiRb+3oB26JTN2
 t2HVZKfkpe7IxmAHORZmQTD5Rof4RH0ULcqyRBVxkf9HTQY9lIHPnmvfBycHhpg580Sf
 tB2p54WMvD1akdXPKSDpKZ1mjj1TuzfBHoxns=
X-Google-DKIM-Signature: v=1; a=rsa-sha256; c=relaxed/relaxed;
 d=1e100.net; s=20230601; t=1710404270; x=1711009070;
 h=references:in-reply-to:cc:to:from:subject:message-id:date
 :x-gm-message-state:from:to:cc:subject:date:message-id:reply-to;
 bh=j7CGvAc5bDV1sAOmcBzCikLC69D8T8BKvjiadxnW6CA=;
 b=rVXxAAP7C6IGVn0PIrZGqPsiRrF+UYnYEQRf2vMa1AsK6P0VXd0HiQvgU9mCIE6drs
 il3qSwRXXBs0T4mZqQNccRf3Gp+xJyNpCiy8cteF5llMmcnrZoQG7fdcJWLT2HdNdRwV
 b3LIZL5LPdIG0/uOFDGnRKgiG3tReRm5f2WGdsyLn/tO3Xa9rZW+6Qu3Qgtg63JMNALH
 iK3s3ysyO6F/HEZGMLkMWBxDIDl2A4Nc+CRlkoJFgnKeKsxKCG1SwaCNlpLiMpTpvEsY
 ub0BTGE2jH/nBIH7WWN5LNPIMObRqwcJ/rd8ZUGNKfVsLsRSUL8VRViDT/mxDdRTEGQH
 nOMw==
X-Gm-Message-State: AOJu0YzE+Y9LnzEhoU7Ay4jDrC8u1U5zI1csb31S4MJqvGW4Bi8Pev2j
 Pbdj1NkxVAAqy8t3H9o7Vy2VueXojm7fkwQPCGQenxaqZbsixTypkga0b1s9Tfulo03DKkiqr1d
 T19BxE5BFsVhYAgKz3gSnJX/hELEvVV8Nk8WFtC1PEDXZWxe7WL4lfMFB
X-Google-Smtp-Source: AGHT+IF3+f2ftrZfc9NmdySb4/EebJXJ1tJVoKL2cZ0+PclxTKvbO3P0rqd5tJWHY4LZMeUMVwE/cZ1KQULM
X-Received: by 2002:a05:6e02:1068:b0:365:1c5:7a5a with SMTP id
 q8-20020a056e02106800b0036501c57a5amr1303806ilj.4.1710404270567; 
 Thu, 14 Mar 2024 01:17:50 -0700 (PDT)
Received: from postal.iol.unh.edu (postal.iol.unh.edu.
 [2606:4100:3880:1234::84]) by smtp-relay.gmail.com with ESMTPS id
 i15-20020a056e02152f00b00363d09a1729sm3864ilu.30.2024.03.14.01.17.50
 (version=TLS1_2 cipher=ECDHE-ECDSA-AES128-GCM-SHA256 bits=128/128);
 Thu, 14 Mar 2024 01:17:50 -0700 (PDT)
X-Relaying-Domain: iol.unh.edu
Date: Thu, 14 Mar 2024 01:17:50 -0700 (PDT)
Message-ID: <65f2b2ae.050a0220.a6597.04c1SMTPIN_ADDED_MISSING@mx.google.com>
Received: from [172.17.0.6] (unknown [172.18.0.217])
 by postal.iol.unh.edu (Postfix) with ESMTP id 15DBB6052471;
 Thu, 14 Mar 2024 04:17:50 -0400 (EDT)
Subject: |SUCCESS| pw138338-138345 [PATCH] [8/8] net/nfp: fix tainted scalar
From: dpdklab@iol.unh.edu
To: Test Report <test-report@dpdk.org>
Cc: dpdk-test-reports@iol.unh.edu
In-Reply-To: <20240314070536.3169210-9-chaoyong.he@corigine.com>
References: <20240314070536.3169210-9-chaoyong.he@corigine.com>
Content-Type: text/plain
X-BeenThere: test-report@dpdk.org
X-Mailman-Version: 2.1.29
Precedence: list
List-Id: automatic DPDK test reports <test-report.dpdk.org>
List-Unsubscribe: <https://mails.dpdk.org/options/test-report>,
 <mailto:test-report-request@dpdk.org?subject=unsubscribe>
List-Archive: <http://mails.dpdk.org/archives/test-report/>
List-Post: <mailto:test-report@dpdk.org>
List-Help: <mailto:test-report-request@dpdk.org?subject=help>
List-Subscribe: <https://mails.dpdk.org/listinfo/test-report>,
 <mailto:test-report-request@dpdk.org?subject=subscribe>
Errors-To: test-report-bounces@dpdk.org

Test-Label: iol-compile-amd64-testing
Test-Status: SUCCESS
http://dpdk.org/patch/138345

_Testing PASS_

Submitter: Chaoyong He <chaoyong.he@corigine.com>
Date: Thursday, March 14 2024 07:05:36 
DPDK git baseline: Repo:dpdk
  Branch: master
  CommitID:22b0194263b83fa09a25511b26a38597fff44a2c

138338-138345 --> testing pass

Test environment and result as below:

+---------------------+--------------------+----------------------+
|     Environment     | dpdk_meson_compile | dpdk_mingw64_compile |
+=====================+====================+======================+
| CentOS Stream 8     | PASS               | SKIPPED              |
+---------------------+--------------------+----------------------+
| Debian Bullseye     | PASS               | SKIPPED              |
+---------------------+--------------------+----------------------+
| CentOS Stream 9     | PASS               | SKIPPED              |
+---------------------+--------------------+----------------------+
| Fedora 37           | PASS               | SKIPPED              |
+---------------------+--------------------+----------------------+
| Ubuntu 20.04        | PASS               | SKIPPED              |
+---------------------+--------------------+----------------------+
| Debian 12 (arm)     | PASS               | SKIPPED              |
+---------------------+--------------------+----------------------+
| Fedora 38           | PASS               | SKIPPED              |
+---------------------+--------------------+----------------------+
| Windows Server 2022 | PASS               | SKIPPED              |
+---------------------+--------------------+----------------------+
| Windows Server 2019 | PASS               | PASS                 |
+---------------------+--------------------+----------------------+
| openSUSE Leap 15    | PASS               | SKIPPED              |
+---------------------+--------------------+----------------------+
| RHEL8               | PASS               | SKIPPED              |
+---------------------+--------------------+----------------------+
| Ubuntu 22.04        | PASS               | SKIPPED              |
+---------------------+--------------------+----------------------+
| FreeBSD 13.2        | PASS               | SKIPPED              |
+---------------------+--------------------+----------------------+
| Alpine              | PASS               | SKIPPED              |
+---------------------+--------------------+----------------------+


CentOS Stream 8
	Kernel: 4.18.0-240.10.1.el8_3.x86_64
	Compiler: gcc 8.4.1 20200928

Debian Bullseye
	Kernel: 5.4.0-122-generic
	Compiler: gcc 10.2.1-6

CentOS Stream 9
	Kernel: 4.18.0-240.10.1.el8_3.x86_64
	Compiler: gcc 11.3.1 20220421

Fedora 37
	Kernel: Depends on container host system
	Compiler: gcc 12.3.1

Ubuntu 20.04
	Kernel: 5.4.0-153-generic
	Compiler: gcc 9.4.0-1ubuntu1~20.04.1

Debian 12 (arm)
	Kernel: Container Host Kernel
	Compiler: gcc 11

Fedora 38
	Kernel: Depends on container host
	Compiler: gcc 13.1.1

Windows Server 2022
	Kernel: OS Build 20348.2031
	Compiler: MSVC VS-Preview

Windows Server 2019
	Kernel: 10.0
	Compiler: clang 14.0 and gcc 8.1.0 (MinGW)

openSUSE Leap 15
	Kernel: 4.18.0-240.10.1.el8_3.x86_64
	Compiler: gcc 7.5.0

RHEL8
	Kernel: 4.18.0-240.10.1.el8_3.x86_64
	Compiler: gcc 8.3.1 20191121 (Red Hat 8.3.1-5)

Ubuntu 22.04
	Kernel: 4.18.0-240.10.1.el8_3.x86_64
	Compiler: gcc 11.3.0

FreeBSD 13.2
	Kernel: 13.2
	Compiler: clang 11.3.0

Alpine
	Kernel: 5.4.0-73-generic
	Compiler: gcc (Alpine 10.3.1_git20210424) 10.3.1 20210424

To view detailed results, visit:
https://lab.dpdk.org/results/dashboard/patchsets/29542/

UNH-IOL DPDK Community Lab

To manage your email subscriptions, visit: 
https://lab.dpdk.org/results/dashboard/preferences/subscriptions/