From mboxrd@z Thu Jan  1 00:00:00 1970
Return-Path: <test-report-bounces@dpdk.org>
Received: from mails.dpdk.org (mails.dpdk.org [217.70.189.124])
	by inbox.dpdk.org (Postfix) with ESMTP id 5623C43CB2
	for <public@inbox.dpdk.org>; Thu, 14 Mar 2024 10:22:17 +0100 (CET)
Received: from mails.dpdk.org (localhost [127.0.0.1])
	by mails.dpdk.org (Postfix) with ESMTP id 5038540297;
	Thu, 14 Mar 2024 10:22:17 +0100 (CET)
Received: from mail-qv1-f97.google.com (mail-qv1-f97.google.com
 [209.85.219.97]) by mails.dpdk.org (Postfix) with ESMTP id 03060400D5
 for <test-report@dpdk.org>; Thu, 14 Mar 2024 10:22:15 +0100 (CET)
Received: by mail-qv1-f97.google.com with SMTP id
 6a1803df08f44-690e2d194f6so5926466d6.0
 for <test-report@dpdk.org>; Thu, 14 Mar 2024 02:22:15 -0700 (PDT)
DKIM-Signature: v=1; a=rsa-sha256; c=relaxed/relaxed;
 d=iol.unh.edu; s=unh-iol; t=1710408135; x=1711012935; darn=dpdk.org;
 h=references:in-reply-to:cc:to:from:subject:message-id:date:from:to
 :cc:subject:date:message-id:reply-to;
 bh=7DoH656PwxsiRrCsIe//bVrZ52uiaQNwncjvJW6/x8w=;
 b=GXgc8C5K5WggDj7gI/h11DcYGoz7TT606JsNUbfsih0jC+AcYTZmT8o3hMbdsONUsJ
 3dEKJJ7QGNWg/PLYIFs1SYcRxhbnyvU9/je+32kIt+01pyhoigf1lVreXARxjSYWVBuC
 hcsJXqtQSsOmzTyKep2H5h9Nd2bypEo2OTulY=
X-Google-DKIM-Signature: v=1; a=rsa-sha256; c=relaxed/relaxed;
 d=1e100.net; s=20230601; t=1710408135; x=1711012935;
 h=references:in-reply-to:cc:to:from:subject:message-id:date
 :x-gm-message-state:from:to:cc:subject:date:message-id:reply-to;
 bh=7DoH656PwxsiRrCsIe//bVrZ52uiaQNwncjvJW6/x8w=;
 b=jbk6pgdlHqHkbgsBCOpO5ZIGP52eyYXrhuZLCOgHFbfi9O0+8n7aGNMKnV5QVNC6WR
 bg1mA/XqN0RgRenOgLTDmQIpFdJlkQAZmCAvZ+mURoIH+WbbuN1wz1RZDxWXcdHx+3Z6
 a/5q9K6y3m9+C/9fbJeyu6GNP8tnxQZV+mLd3sNl37yzRuOEy5eeojj1S2XN6bRwKS38
 QCFOAjxHa5b36ivIoxAMEtTfOmalPUb0PLhFW1x4uh362H2u4RrK7nANvI3LN5e3+RZs
 hjHXZi8WgbPz/flJurEs/Qofskh1W93ojbuAFsssFbpHoSLRabo+P/8G/h47xq7pSoQf
 7yLQ==
X-Gm-Message-State: AOJu0Yy2/3JElI+IYbrowNFYs63QEwgSpikVjNasxVoB+UDcq5FhIRTi
 xlW4Z2eTKcJt4gjEYzlhx4wFkM6yxtMu35ElJsbSYEmHmEyibTk3d++2b2LTHmDpZAArfNWEfg0
 L+LN1rEnWVztGCysh4YlGFUUUJVf/FRQw3Da3vwZbijSXfZ0b0LwmpyF0
X-Google-Smtp-Source: AGHT+IFgqctsuCFcPbuUy98CNmvH1oERCnH+A7kysWuSezau0J3GLixQSVVZSzw6ELoQt+5LSsTmgneCDXVV
X-Received: by 2002:a0c:aa1a:0:b0:691:3ccd:62cc with SMTP id
 d26-20020a0caa1a000000b006913ccd62ccmr1132279qvb.6.1710408135256; 
 Thu, 14 Mar 2024 02:22:15 -0700 (PDT)
Received: from postal.iol.unh.edu (postal.iol.unh.edu.
 [2606:4100:3880:1234::84]) by smtp-relay.gmail.com with ESMTPS id
 gs8-20020a056214226800b0068fda00db77sm10215qvb.66.2024.03.14.02.22.15
 (version=TLS1_2 cipher=ECDHE-ECDSA-AES128-GCM-SHA256 bits=128/128);
 Thu, 14 Mar 2024 02:22:15 -0700 (PDT)
X-Relaying-Domain: iol.unh.edu
Date: Thu, 14 Mar 2024 02:22:15 -0700 (PDT)
Message-ID: <65f2c1c7.050a0220.c684.0b32SMTPIN_ADDED_MISSING@mx.google.com>
Received: from [172.17.0.7] (unknown [172.18.0.217])
 by postal.iol.unh.edu (Postfix) with ESMTP id E54D26052471;
 Thu, 14 Mar 2024 05:22:14 -0400 (EDT)
Subject: |SUCCESS| pw138354-138365 [PATCH] [12/12] crypto/cnxk: remove the re
From: dpdklab@iol.unh.edu
To: Test Report <test-report@dpdk.org>
Cc: dpdk-test-reports@iol.unh.edu
In-Reply-To: <20240314083844.3319506-13-vvelumuri@marvell.com>
References: <20240314083844.3319506-13-vvelumuri@marvell.com>
Content-Type: text/plain
X-BeenThere: test-report@dpdk.org
X-Mailman-Version: 2.1.29
Precedence: list
List-Id: automatic DPDK test reports <test-report.dpdk.org>
List-Unsubscribe: <https://mails.dpdk.org/options/test-report>,
 <mailto:test-report-request@dpdk.org?subject=unsubscribe>
List-Archive: <http://mails.dpdk.org/archives/test-report/>
List-Post: <mailto:test-report@dpdk.org>
List-Help: <mailto:test-report-request@dpdk.org?subject=help>
List-Subscribe: <https://mails.dpdk.org/listinfo/test-report>,
 <mailto:test-report-request@dpdk.org?subject=subscribe>
Errors-To: test-report-bounces@dpdk.org

Test-Label: iol-compile-amd64-testing
Test-Status: SUCCESS
http://dpdk.org/patch/138365

_Testing PASS_

Submitter: Vidya Sagar Velumuri <vvelumuri@marvell.com>
Date: Thursday, March 14 2024 08:38:44 
DPDK git baseline: Repo:dpdk
  Branch: master
  CommitID:cd218549b686d6be394ef3b171eafa16c038bfe3

138354-138365 --> testing pass

Test environment and result as below:

+---------------------+--------------------+----------------------+
|     Environment     | dpdk_meson_compile | dpdk_mingw64_compile |
+=====================+====================+======================+
| Windows Server 2022 | PASS               | PASS                 |
+---------------------+--------------------+----------------------+
| FreeBSD 13.2        | PASS               | SKIPPED              |
+---------------------+--------------------+----------------------+
| Windows Server 2019 | PASS               | PASS                 |
+---------------------+--------------------+----------------------+
| Debian Bullseye     | PASS               | SKIPPED              |
+---------------------+--------------------+----------------------+
| Debian 12 (arm)     | PASS               | SKIPPED              |
+---------------------+--------------------+----------------------+
| CentOS Stream 9     | PASS               | SKIPPED              |
+---------------------+--------------------+----------------------+
| CentOS Stream 8     | PASS               | SKIPPED              |
+---------------------+--------------------+----------------------+
| Fedora 38           | PASS               | SKIPPED              |
+---------------------+--------------------+----------------------+
| Ubuntu 20.04        | PASS               | SKIPPED              |
+---------------------+--------------------+----------------------+
| Ubuntu 22.04        | PASS               | SKIPPED              |
+---------------------+--------------------+----------------------+
| openSUSE Leap 15    | PASS               | SKIPPED              |
+---------------------+--------------------+----------------------+
| RHEL8               | PASS               | SKIPPED              |
+---------------------+--------------------+----------------------+
| Fedora 37           | PASS               | SKIPPED              |
+---------------------+--------------------+----------------------+


Windows Server 2022
	Kernel: OS Build 20348.2031
	Compiler: MSVC VS-Preview

FreeBSD 13.2
	Kernel: 13.2
	Compiler: clang 11.3.0

Windows Server 2019
	Kernel: 10.0
	Compiler: clang 14.0 and gcc 8.1.0 (MinGW)

Debian Bullseye
	Kernel: 5.4.0-122-generic
	Compiler: gcc 10.2.1-6

Debian 12 (arm)
	Kernel: Container Host Kernel
	Compiler: gcc 11

CentOS Stream 9
	Kernel: 4.18.0-240.10.1.el8_3.x86_64
	Compiler: gcc 11.3.1 20220421

CentOS Stream 8
	Kernel: 4.18.0-240.10.1.el8_3.x86_64
	Compiler: gcc 8.4.1 20200928

Fedora 38
	Kernel: Depends on container host
	Compiler: gcc 13.1.1

Ubuntu 20.04
	Kernel: 5.4.0-153-generic
	Compiler: gcc 9.4.0-1ubuntu1~20.04.1

Ubuntu 22.04
	Kernel: 4.18.0-240.10.1.el8_3.x86_64
	Compiler: gcc 11.3.0

openSUSE Leap 15
	Kernel: 4.18.0-240.10.1.el8_3.x86_64
	Compiler: gcc 7.5.0

RHEL8
	Kernel: 4.18.0-240.10.1.el8_3.x86_64
	Compiler: gcc 8.3.1 20191121 (Red Hat 8.3.1-5)

Fedora 37
	Kernel: Depends on container host system
	Compiler: gcc 12.3.1

To view detailed results, visit:
https://lab.dpdk.org/results/dashboard/patchsets/29544/

UNH-IOL DPDK Community Lab

To manage your email subscriptions, visit: 
https://lab.dpdk.org/results/dashboard/preferences/subscriptions/