From mboxrd@z Thu Jan  1 00:00:00 1970
Return-Path: <test-report-bounces@dpdk.org>
Received: from mails.dpdk.org (mails.dpdk.org [217.70.189.124])
	by inbox.dpdk.org (Postfix) with ESMTP id 53EBD43CB2
	for <public@inbox.dpdk.org>; Thu, 14 Mar 2024 10:26:29 +0100 (CET)
Received: from mails.dpdk.org (localhost [127.0.0.1])
	by mails.dpdk.org (Postfix) with ESMTP id 4F4F342E41;
	Thu, 14 Mar 2024 10:26:29 +0100 (CET)
Received: from mail-ot1-f98.google.com (mail-ot1-f98.google.com
 [209.85.210.98]) by mails.dpdk.org (Postfix) with ESMTP id 61CA840297
 for <test-report@dpdk.org>; Thu, 14 Mar 2024 10:26:28 +0100 (CET)
Received: by mail-ot1-f98.google.com with SMTP id
 46e09a7af769-6ddf26eba3cso491365a34.0
 for <test-report@dpdk.org>; Thu, 14 Mar 2024 02:26:28 -0700 (PDT)
DKIM-Signature: v=1; a=rsa-sha256; c=relaxed/relaxed;
 d=iol.unh.edu; s=unh-iol; t=1710408387; x=1711013187; darn=dpdk.org;
 h=references:in-reply-to:cc:to:from:subject:message-id:date:from:to
 :cc:subject:date:message-id:reply-to;
 bh=7DoH656PwxsiRrCsIe//bVrZ52uiaQNwncjvJW6/x8w=;
 b=ib9TQL8BwTm3Dms7kuC6LMhlbMal8u/gmBLbSGqhgCnreJsyCt06dBBkxNTjTd8e/u
 wJgc7r0D+Z9mGa/XqmrmaxoGmI6RTpZCNFnR3yTRjSgUjhgSEyNJeXmaDus1CzTGz8hP
 zoe1qVlhZTDLUKJJ2MoBMk7Ddmd5wfV1ic5/I=
X-Google-DKIM-Signature: v=1; a=rsa-sha256; c=relaxed/relaxed;
 d=1e100.net; s=20230601; t=1710408387; x=1711013187;
 h=references:in-reply-to:cc:to:from:subject:message-id:date
 :x-gm-message-state:from:to:cc:subject:date:message-id:reply-to;
 bh=7DoH656PwxsiRrCsIe//bVrZ52uiaQNwncjvJW6/x8w=;
 b=FRHF7mcNdWTMZ656FdM1yrjMJ6YOK8yDFiK8oSkU+8Y8RglgE1VRdvmFkX71cYTOIX
 6aQfckrXkD3I59OugI4wuwdoWpL4bhJQ6uZItSuVrU0A1eRc0eQWY7BXVIWo1QxNUsXi
 wPby9CXVRjRDGYaGrwvYz6XTI5qLc36D7wS93qAODxVk3ts7xwuWksCbjGvRsC4Of4Fo
 dCxaAw/nJIrdgkmRRjzW4xaaTqZY/p0ERbNYl0LTFZGkCt4K0XN7aolqaNIR6KL/pAXr
 f8LOu61LnaMGluMv/rf9AwzKbLYREgIQjRTBGZUq+dvxF57Ljd907roLsOFwz/RsRQPT
 /pGw==
X-Gm-Message-State: AOJu0Ywl+TdQGLk1p2s6dSJlBayx90R9ZGD/FZtpJkQ/3T3SNRx5kAWM
 ZQSg8EdUcQ5qM+U67us6d2oRnozlxVsxOYoJAmbgKt8WdPJ+WzClLrPBxP9CE7blyABngiSu/VI
 k4zD0X4IxVzGzYdXA157g/IoIBbltWMxVcREXu4tb
X-Google-Smtp-Source: AGHT+IHhwlQvqavMetS2fYQCw1XhIwj1QJDxvkYci0qMm2k3sT6hpzG5tRNBfIcltlKVx2w4hN+hHELgcmfs
X-Received: by 2002:a9d:6a52:0:b0:6e4:dbcc:d36c with SMTP id
 h18-20020a9d6a52000000b006e4dbccd36cmr1477333otn.18.1710408387578; 
 Thu, 14 Mar 2024 02:26:27 -0700 (PDT)
Received: from postal.iol.unh.edu (postal.iol.unh.edu. [132.177.123.84])
 by smtp-relay.gmail.com with ESMTPS id
 27-20020a630b1b000000b005dc1e620401sm7542pgl.13.2024.03.14.02.26.27
 (version=TLS1_2 cipher=ECDHE-ECDSA-AES128-GCM-SHA256 bits=128/128);
 Thu, 14 Mar 2024 02:26:27 -0700 (PDT)
X-Relaying-Domain: iol.unh.edu
Date: Thu, 14 Mar 2024 02:26:27 -0700 (PDT)
Message-ID: <65f2c2c3.630a0220.faa2c.0706SMTPIN_ADDED_MISSING@mx.google.com>
Received: from [172.17.0.8] (unknown [172.18.0.217])
 by postal.iol.unh.edu (Postfix) with ESMTP id C74686052471;
 Thu, 14 Mar 2024 05:26:26 -0400 (EDT)
Subject: |SUCCESS| pw138354-138365 [PATCH] [12/12] crypto/cnxk: remove the re
From: dpdklab@iol.unh.edu
To: Test Report <test-report@dpdk.org>
Cc: dpdk-test-reports@iol.unh.edu
In-Reply-To: <20240314083844.3319506-13-vvelumuri@marvell.com>
References: <20240314083844.3319506-13-vvelumuri@marvell.com>
Content-Type: text/plain
X-BeenThere: test-report@dpdk.org
X-Mailman-Version: 2.1.29
Precedence: list
List-Id: automatic DPDK test reports <test-report.dpdk.org>
List-Unsubscribe: <https://mails.dpdk.org/options/test-report>,
 <mailto:test-report-request@dpdk.org?subject=unsubscribe>
List-Archive: <http://mails.dpdk.org/archives/test-report/>
List-Post: <mailto:test-report@dpdk.org>
List-Help: <mailto:test-report-request@dpdk.org?subject=help>
List-Subscribe: <https://mails.dpdk.org/listinfo/test-report>,
 <mailto:test-report-request@dpdk.org?subject=subscribe>
Errors-To: test-report-bounces@dpdk.org

Test-Label: iol-compile-amd64-testing
Test-Status: SUCCESS
http://dpdk.org/patch/138365

_Testing PASS_

Submitter: Vidya Sagar Velumuri <vvelumuri@marvell.com>
Date: Thursday, March 14 2024 08:38:44 
DPDK git baseline: Repo:dpdk
  Branch: master
  CommitID:cd218549b686d6be394ef3b171eafa16c038bfe3

138354-138365 --> testing pass

Test environment and result as below:

+---------------------+--------------------+----------------------+
|     Environment     | dpdk_meson_compile | dpdk_mingw64_compile |
+=====================+====================+======================+
| Windows Server 2022 | PASS               | PASS                 |
+---------------------+--------------------+----------------------+
| FreeBSD 13.2        | PASS               | SKIPPED              |
+---------------------+--------------------+----------------------+
| Windows Server 2019 | PASS               | PASS                 |
+---------------------+--------------------+----------------------+
| Debian Bullseye     | PASS               | SKIPPED              |
+---------------------+--------------------+----------------------+
| Debian 12 (arm)     | PASS               | SKIPPED              |
+---------------------+--------------------+----------------------+
| CentOS Stream 9     | PASS               | SKIPPED              |
+---------------------+--------------------+----------------------+
| CentOS Stream 8     | PASS               | SKIPPED              |
+---------------------+--------------------+----------------------+
| Fedora 38           | PASS               | SKIPPED              |
+---------------------+--------------------+----------------------+
| Ubuntu 20.04        | PASS               | SKIPPED              |
+---------------------+--------------------+----------------------+
| Ubuntu 22.04        | PASS               | SKIPPED              |
+---------------------+--------------------+----------------------+
| openSUSE Leap 15    | PASS               | SKIPPED              |
+---------------------+--------------------+----------------------+
| RHEL8               | PASS               | SKIPPED              |
+---------------------+--------------------+----------------------+
| Fedora 37           | PASS               | SKIPPED              |
+---------------------+--------------------+----------------------+


Windows Server 2022
	Kernel: OS Build 20348.2031
	Compiler: MSVC VS-Preview

FreeBSD 13.2
	Kernel: 13.2
	Compiler: clang 11.3.0

Windows Server 2019
	Kernel: 10.0
	Compiler: clang 14.0 and gcc 8.1.0 (MinGW)

Debian Bullseye
	Kernel: 5.4.0-122-generic
	Compiler: gcc 10.2.1-6

Debian 12 (arm)
	Kernel: Container Host Kernel
	Compiler: gcc 11

CentOS Stream 9
	Kernel: 4.18.0-240.10.1.el8_3.x86_64
	Compiler: gcc 11.3.1 20220421

CentOS Stream 8
	Kernel: 4.18.0-240.10.1.el8_3.x86_64
	Compiler: gcc 8.4.1 20200928

Fedora 38
	Kernel: Depends on container host
	Compiler: gcc 13.1.1

Ubuntu 20.04
	Kernel: 5.4.0-153-generic
	Compiler: gcc 9.4.0-1ubuntu1~20.04.1

Ubuntu 22.04
	Kernel: 4.18.0-240.10.1.el8_3.x86_64
	Compiler: gcc 11.3.0

openSUSE Leap 15
	Kernel: 4.18.0-240.10.1.el8_3.x86_64
	Compiler: gcc 7.5.0

RHEL8
	Kernel: 4.18.0-240.10.1.el8_3.x86_64
	Compiler: gcc 8.3.1 20191121 (Red Hat 8.3.1-5)

Fedora 37
	Kernel: Depends on container host system
	Compiler: gcc 12.3.1

To view detailed results, visit:
https://lab.dpdk.org/results/dashboard/patchsets/29544/

UNH-IOL DPDK Community Lab

To manage your email subscriptions, visit: 
https://lab.dpdk.org/results/dashboard/preferences/subscriptions/