From mboxrd@z Thu Jan  1 00:00:00 1970
Return-Path: <test-report-bounces@dpdk.org>
Received: from mails.dpdk.org (mails.dpdk.org [217.70.189.124])
	by inbox.dpdk.org (Postfix) with ESMTP id 87FCC43CB2
	for <public@inbox.dpdk.org>; Thu, 14 Mar 2024 10:26:47 +0100 (CET)
Received: from mails.dpdk.org (localhost [127.0.0.1])
	by mails.dpdk.org (Postfix) with ESMTP id 838A942DD9;
	Thu, 14 Mar 2024 10:26:47 +0100 (CET)
Received: from mail-yw1-f228.google.com (mail-yw1-f228.google.com
 [209.85.128.228])
 by mails.dpdk.org (Postfix) with ESMTP id 127CC40297
 for <test-report@dpdk.org>; Thu, 14 Mar 2024 10:26:37 +0100 (CET)
Received: by mail-yw1-f228.google.com with SMTP id
 00721157ae682-6098b9ed2a3so7638077b3.0
 for <test-report@dpdk.org>; Thu, 14 Mar 2024 02:26:37 -0700 (PDT)
DKIM-Signature: v=1; a=rsa-sha256; c=relaxed/relaxed;
 d=iol.unh.edu; s=unh-iol; t=1710408396; x=1711013196; darn=dpdk.org;
 h=references:in-reply-to:cc:to:from:subject:message-id:date:from:to
 :cc:subject:date:message-id:reply-to;
 bh=6oksprVeDQiQU0UI6ova19bba3lrBc+RIXoxLkibeAs=;
 b=NXnInhOayjBSYeeSGxm4akpJH7rOenAtqYDa+vc5cr3mjAnvVYDbuWgWzDTcGY+bqp
 XXU1P/IofUtJUfmg+ZG8ytuXQLVpHJrBMa77zaA3URbme6n/15K+15I0YDe8D8RSY9jQ
 fsuUZ4qp1iYHcy9J37j//QE3hPAFrot0UY3W4=
X-Google-DKIM-Signature: v=1; a=rsa-sha256; c=relaxed/relaxed;
 d=1e100.net; s=20230601; t=1710408396; x=1711013196;
 h=references:in-reply-to:cc:to:from:subject:message-id:date
 :x-gm-message-state:from:to:cc:subject:date:message-id:reply-to;
 bh=6oksprVeDQiQU0UI6ova19bba3lrBc+RIXoxLkibeAs=;
 b=vOGjGrjxsRvM3GDsiWu/vbMu9AKOUSLGPNwG0MspX1su/vaDFHscRj61X9N5XKJ+0x
 nAyAM9znnGutCjxdsib+SAP5I+R8kAZxp1Gi4sr/7XeB4TQssb/iDa4K1kqnlPftBjb5
 S+vOxS1e7NaNXqVHfoQS9M0xa/t3IGWsYWCtlVAeP3esRtmMQ3c6kzlyZfIJn4PrI2vu
 Ie5atDcbC4QDL8unlv2kyoNHUL0WEvHQ68OqSiVWS2/c4cYnKTD4D03PQCaheZzkWH8w
 Keb1lowpsUlYPgKk1B77NztR21+hd9/uP5XDzA78cERcSiBNp6R1p8fpiSlmdlJt59kK
 e1rg==
X-Gm-Message-State: AOJu0YwwSa3TEv+xjqqrz944QXPVARh6XzhuUckSOk9yCTAifsMKuq6o
 Y6Pb8XKUDEVimQDjCjKR0pkDuwNO9Jcp3OC6UlyYB4X6jH3Dsl6jE8+E05VvI+AtFYV7s1AZ+9q
 tb/VG0Dhle4RYlm8XzYe1W6wUYXi5AuNytWP8GLhW368JcgIOiyflItiC
X-Google-Smtp-Source: AGHT+IF7xRJKxRa09hKe6jAQVE6tijOJC0c+/AMhOF1whDB9+mm3C4SslkDj3xJz6p9Kxdftz8KDpW9bNq3r
X-Received: by 2002:a0d:d511:0:b0:60a:a5c:78e6 with SMTP id
 x17-20020a0dd511000000b0060a0a5c78e6mr1047831ywd.19.1710408396501; 
 Thu, 14 Mar 2024 02:26:36 -0700 (PDT)
Received: from postal.iol.unh.edu (postal.iol.unh.edu.
 [2606:4100:3880:1234::84]) by smtp-relay.gmail.com with ESMTPS id
 x204-20020a817cd5000000b00609ffd07132sm71402ywc.65.2024.03.14.02.26.36
 (version=TLS1_2 cipher=ECDHE-ECDSA-AES128-GCM-SHA256 bits=128/128);
 Thu, 14 Mar 2024 02:26:36 -0700 (PDT)
X-Relaying-Domain: iol.unh.edu
Date: Thu, 14 Mar 2024 02:26:36 -0700 (PDT)
Message-ID: <65f2c2cc.810a0220.540bf.4fe1SMTPIN_ADDED_MISSING@mx.google.com>
Received: from [172.17.0.8] (unknown [172.18.0.217])
 by postal.iol.unh.edu (Postfix) with ESMTP id 23DFA6052471;
 Thu, 14 Mar 2024 05:26:36 -0400 (EDT)
Subject: |SUCCESS| pw138354-138365 [PATCH] [12/12] crypto/cnxk: remove the re
From: dpdklab@iol.unh.edu
To: Test Report <test-report@dpdk.org>
Cc: dpdk-test-reports@iol.unh.edu
In-Reply-To: <20240314083844.3319506-13-vvelumuri@marvell.com>
References: <20240314083844.3319506-13-vvelumuri@marvell.com>
Content-Type: text/plain
X-BeenThere: test-report@dpdk.org
X-Mailman-Version: 2.1.29
Precedence: list
List-Id: automatic DPDK test reports <test-report.dpdk.org>
List-Unsubscribe: <https://mails.dpdk.org/options/test-report>,
 <mailto:test-report-request@dpdk.org?subject=unsubscribe>
List-Archive: <http://mails.dpdk.org/archives/test-report/>
List-Post: <mailto:test-report@dpdk.org>
List-Help: <mailto:test-report-request@dpdk.org?subject=help>
List-Subscribe: <https://mails.dpdk.org/listinfo/test-report>,
 <mailto:test-report-request@dpdk.org?subject=subscribe>
Errors-To: test-report-bounces@dpdk.org

Test-Label: iol-unit-arm64-testing
Test-Status: SUCCESS
http://dpdk.org/patch/138365

_Testing PASS_

Submitter: Vidya Sagar Velumuri <vvelumuri@marvell.com>
Date: Thursday, March 14 2024 08:38:44 
DPDK git baseline: Repo:dpdk
  Branch: master
  CommitID:cd218549b686d6be394ef3b171eafa16c038bfe3

138354-138365 --> testing pass

Test environment and result as below:

+--------------------------+------------------------------+---------------------------+--------------+----------------+
|       Environment        | cryptodev_sw_snow3g_autotest | cryptodev_sw_zuc_autotest | lpm_autotest | dpdk_unit_test |
+==========================+==============================+===========================+==============+================+
| Debian 12 (arm)          | PASS                         | PASS                      | SKIPPED      | SKIPPED        |
+--------------------------+------------------------------+---------------------------+--------------+----------------+
| Ubuntu 20.04 ARM SVE     | SKIPPED                      | SKIPPED                   | PASS         | SKIPPED        |
+--------------------------+------------------------------+---------------------------+--------------+----------------+
| Debian 11 (Buster) (ARM) | SKIPPED                      | SKIPPED                   | SKIPPED      | PASS           |
+--------------------------+------------------------------+---------------------------+--------------+----------------+


Debian 12 (arm)
	Kernel: Container Host Kernel
	Compiler: gcc 11

Ubuntu 20.04 ARM SVE
	Kernel: 5.4.0-80-generic
	Compiler: gcc 10.3.0 (Ubuntu 10.3.0-1ubuntu1~20.04)

Debian 11 (Buster) (ARM)
	Kernel: Container Host Kernel
	Compiler: gcc 10.2.1

To view detailed results, visit:
https://lab.dpdk.org/results/dashboard/patchsets/29544/

UNH-IOL DPDK Community Lab

To manage your email subscriptions, visit: 
https://lab.dpdk.org/results/dashboard/preferences/subscriptions/