From mboxrd@z Thu Jan  1 00:00:00 1970
Return-Path: <test-report-bounces@dpdk.org>
Received: from mails.dpdk.org (mails.dpdk.org [217.70.189.124])
	by inbox.dpdk.org (Postfix) with ESMTP id 498BF43CB2
	for <public@inbox.dpdk.org>; Thu, 14 Mar 2024 10:34:43 +0100 (CET)
Received: from mails.dpdk.org (localhost [127.0.0.1])
	by mails.dpdk.org (Postfix) with ESMTP id 45C9040297;
	Thu, 14 Mar 2024 10:34:43 +0100 (CET)
Received: from mail-yw1-f225.google.com (mail-yw1-f225.google.com
 [209.85.128.225])
 by mails.dpdk.org (Postfix) with ESMTP id 9A36B400D5
 for <test-report@dpdk.org>; Thu, 14 Mar 2024 10:34:35 +0100 (CET)
Received: by mail-yw1-f225.google.com with SMTP id
 00721157ae682-60a0a54869bso6968297b3.1
 for <test-report@dpdk.org>; Thu, 14 Mar 2024 02:34:35 -0700 (PDT)
DKIM-Signature: v=1; a=rsa-sha256; c=relaxed/relaxed;
 d=iol.unh.edu; s=unh-iol; t=1710408875; x=1711013675; darn=dpdk.org;
 h=references:in-reply-to:cc:to:from:subject:message-id:date:from:to
 :cc:subject:date:message-id:reply-to;
 bh=qeFAnuZz2wkKjGJTiyFx61laRo2MqcbKumK8hN0YhCs=;
 b=hsyCRjj0zHeffLXEdJG3UTSYtJrO0F0I68OV2A2JhwLIvyoASfjHMhQhl+ijFQnGks
 xqNYruKFq8/UO/apRhPZd4jYcpgxibprEAEKSIz6PTs+qN7wfBQ9L3er/jPSmGjPWUvI
 fepp8RVgwi4HooCcjq+4Y/q8DR5YbDa0jGhso=
X-Google-DKIM-Signature: v=1; a=rsa-sha256; c=relaxed/relaxed;
 d=1e100.net; s=20230601; t=1710408875; x=1711013675;
 h=references:in-reply-to:cc:to:from:subject:message-id:date
 :x-gm-message-state:from:to:cc:subject:date:message-id:reply-to;
 bh=qeFAnuZz2wkKjGJTiyFx61laRo2MqcbKumK8hN0YhCs=;
 b=TDBmFtpXr42LyeoYh8ZVoLmEFZMxKLM+oVtBQ+m+9R1srBYEW3g8qBO4tHCVQRVIdK
 h3oLPdcMkhP7eIirFfJV9gWH7+Ef0YtbyKm7aZsIIEFtOlDVsTmdMwbut4zOX0kkiagh
 Kl6ElOqr/YwCAgOa9KLTMlVF9sGcd91TYXLqDBagv3yIrUd0Hk/456YaTEl5G/QCGDsF
 8xoZT8ddonPcjFHyq6teial718QVHNxVIEhcnEYLovbx9L8uEVADXmLuXbQC+WLpulz+
 6+1t9rLvdkBIlNNbboi6e8RB9NX/mWQqQPzpoCuZJheTxZxm4Nu0f90TlF/QP2dL3iX5
 W7gw==
X-Gm-Message-State: AOJu0YzG7DMbq3uVkixVnPr0+Et8h5vT/pcjzZJp+zMcws2FPQqJX+vG
 gPtBMGO7EokRlayoJiXB8sxFr3RMq7WcQrTXwwjHao4iY6UrsZhlM51dlpviAnyOYxO2WmQAFP9
 uqZqmEBxf2s9YaS0ie/wAmS+TB1BjEt5oL9P0KveK
X-Google-Smtp-Source: AGHT+IEmtSOibgBExGm2+5Kxjla6S0oMQHhiLM+naIpSOkchxU1PdcZV9VjmJd7g8JP+0uxLyx+ZZvzllhIo
X-Received: by 2002:a81:82c4:0:b0:60c:cabd:d964 with SMTP id
 s187-20020a8182c4000000b0060ccabdd964mr574880ywf.17.1710408875068; 
 Thu, 14 Mar 2024 02:34:35 -0700 (PDT)
Received: from postal.iol.unh.edu (postal.iol.unh.edu. [132.177.123.84])
 by smtp-relay.gmail.com with ESMTPS id
 df8-20020a05690c0f8800b00607fb25f417sm35013ywb.54.2024.03.14.02.34.34
 (version=TLS1_2 cipher=ECDHE-ECDSA-AES128-GCM-SHA256 bits=128/128);
 Thu, 14 Mar 2024 02:34:35 -0700 (PDT)
X-Relaying-Domain: iol.unh.edu
Date: Thu, 14 Mar 2024 02:34:35 -0700 (PDT)
Message-ID: <65f2c4ab.050a0220.910bc.2978SMTPIN_ADDED_MISSING@mx.google.com>
Received: from [172.17.0.9] (unknown [172.18.0.217])
 by postal.iol.unh.edu (Postfix) with ESMTP id C04926052471;
 Thu, 14 Mar 2024 05:34:34 -0400 (EDT)
Subject: |SUCCESS| pw138354-138365 [PATCH] [12/12] crypto/cnxk: remove the re
From: dpdklab@iol.unh.edu
To: Test Report <test-report@dpdk.org>
Cc: dpdk-test-reports@iol.unh.edu
In-Reply-To: <20240314083844.3319506-13-vvelumuri@marvell.com>
References: <20240314083844.3319506-13-vvelumuri@marvell.com>
Content-Type: text/plain
X-BeenThere: test-report@dpdk.org
X-Mailman-Version: 2.1.29
Precedence: list
List-Id: automatic DPDK test reports <test-report.dpdk.org>
List-Unsubscribe: <https://mails.dpdk.org/options/test-report>,
 <mailto:test-report-request@dpdk.org?subject=unsubscribe>
List-Archive: <http://mails.dpdk.org/archives/test-report/>
List-Post: <mailto:test-report@dpdk.org>
List-Help: <mailto:test-report-request@dpdk.org?subject=help>
List-Subscribe: <https://mails.dpdk.org/listinfo/test-report>,
 <mailto:test-report-request@dpdk.org?subject=subscribe>
Errors-To: test-report-bounces@dpdk.org

Test-Label: iol-unit-amd64-testing
Test-Status: SUCCESS
http://dpdk.org/patch/138365

_Testing PASS_

Submitter: Vidya Sagar Velumuri <vvelumuri@marvell.com>
Date: Thursday, March 14 2024 08:38:44 
DPDK git baseline: Repo:dpdk
  Branch: master
  CommitID:cd218549b686d6be394ef3b171eafa16c038bfe3

138354-138365 --> testing pass

Test environment and result as below:

+---------------------+----------------+
|     Environment     | dpdk_unit_test |
+=====================+================+
| CentOS Stream 8     | PASS           |
+---------------------+----------------+
| CentOS Stream 9     | PASS           |
+---------------------+----------------+
| Debian Bullseye     | PASS           |
+---------------------+----------------+
| Windows Server 2019 | PASS           |
+---------------------+----------------+
| Debian 12 (arm)     | PASS           |
+---------------------+----------------+
| Fedora 37           | PASS           |
+---------------------+----------------+
| Fedora 38           | PASS           |
+---------------------+----------------+
| RHEL8               | PASS           |
+---------------------+----------------+
| Ubuntu 20.04        | PASS           |
+---------------------+----------------+
| openSUSE Leap 15    | PASS           |
+---------------------+----------------+
| Ubuntu 22.04        | PASS           |
+---------------------+----------------+


CentOS Stream 8
	Kernel: 4.18.0-240.10.1.el8_3.x86_64
	Compiler: gcc 8.4.1 20200928

CentOS Stream 9
	Kernel: 4.18.0-240.10.1.el8_3.x86_64
	Compiler: gcc 11.3.1 20220421

Debian Bullseye
	Kernel: 5.4.0-122-generic
	Compiler: gcc 10.2.1-6

Windows Server 2019
	Kernel: 10.0
	Compiler: clang 14.0 and gcc 8.1.0 (MinGW)

Debian 12 (arm)
	Kernel: Container Host Kernel
	Compiler: gcc 11

Fedora 37
	Kernel: Depends on container host system
	Compiler: gcc 12.3.1

Fedora 38
	Kernel: Depends on container host
	Compiler: gcc 13.1.1

RHEL8
	Kernel: 4.18.0-240.10.1.el8_3.x86_64
	Compiler: gcc 8.3.1 20191121 (Red Hat 8.3.1-5)

Ubuntu 20.04
	Kernel: 5.4.0-153-generic
	Compiler: gcc 9.4.0-1ubuntu1~20.04.1

openSUSE Leap 15
	Kernel: 4.18.0-240.10.1.el8_3.x86_64
	Compiler: gcc 7.5.0

Ubuntu 22.04
	Kernel: 4.18.0-240.10.1.el8_3.x86_64
	Compiler: gcc 11.3.0

To view detailed results, visit:
https://lab.dpdk.org/results/dashboard/patchsets/29544/

UNH-IOL DPDK Community Lab

To manage your email subscriptions, visit: 
https://lab.dpdk.org/results/dashboard/preferences/subscriptions/