From mboxrd@z Thu Jan  1 00:00:00 1970
Return-Path: <test-report-bounces@dpdk.org>
Received: from mails.dpdk.org (mails.dpdk.org [217.70.189.124])
	by inbox.dpdk.org (Postfix) with ESMTP id 66A7A43CB2
	for <public@inbox.dpdk.org>; Thu, 14 Mar 2024 10:35:41 +0100 (CET)
Received: from mails.dpdk.org (localhost [127.0.0.1])
	by mails.dpdk.org (Postfix) with ESMTP id 6166740297;
	Thu, 14 Mar 2024 10:35:41 +0100 (CET)
Received: from mail-pf1-f228.google.com (mail-pf1-f228.google.com
 [209.85.210.228])
 by mails.dpdk.org (Postfix) with ESMTP id 9E3D4400D5
 for <test-report@dpdk.org>; Thu, 14 Mar 2024 10:35:39 +0100 (CET)
Received: by mail-pf1-f228.google.com with SMTP id
 d2e1a72fcca58-6e62c65865cso621803b3a.2
 for <test-report@dpdk.org>; Thu, 14 Mar 2024 02:35:39 -0700 (PDT)
DKIM-Signature: v=1; a=rsa-sha256; c=relaxed/relaxed;
 d=iol.unh.edu; s=unh-iol; t=1710408939; x=1711013739; darn=dpdk.org;
 h=references:in-reply-to:cc:to:from:subject:message-id:date:from:to
 :cc:subject:date:message-id:reply-to;
 bh=qeFAnuZz2wkKjGJTiyFx61laRo2MqcbKumK8hN0YhCs=;
 b=SewFaSJ03LPM287F8FYmpKTUz8vG/V5arxUWusWiROyelBtDguPV5uFlm0F7J4NL68
 VvNjc7V2gQxXGq2OEXpuGPd7Ox255A9g+nR7hNVgmEhsEjI/mEybYPaQL+hAgVuSkHrr
 +5StYtLkzMzbDUMCVZJoHDX2k21TKxKkx88dk=
X-Google-DKIM-Signature: v=1; a=rsa-sha256; c=relaxed/relaxed;
 d=1e100.net; s=20230601; t=1710408939; x=1711013739;
 h=references:in-reply-to:cc:to:from:subject:message-id:date
 :x-gm-message-state:from:to:cc:subject:date:message-id:reply-to;
 bh=qeFAnuZz2wkKjGJTiyFx61laRo2MqcbKumK8hN0YhCs=;
 b=Igy7rYEOnGpETTigR54z5sGyqdu6pxhf64UK0Q5RqUqb+OY+be0BMtdolsOsborCFp
 oT+RNwEQaZbY2oHPLSmE9CjYBe7vq2yfHJVgjY7pyj2/9+wiJroBqI/cyG31ELDZiry9
 iqYajlCmdBm4B/Ex3wJ4M73i3uQPcepmpxP9gj8MPAezB6DCPSsfO067SQ+J5oSapvIK
 LO0WA2WSmg0lrvK/H+xuMvDQCoXwgSffmcQbWcibfZByOgK3yOCHJys/FBM4YuAOdkFl
 3nPGbztefLavGKTv3vWwgryCivufzQqeV2aX15peMRQtfluZxSQuUlltabLoxff8/ssn
 Id6g==
X-Gm-Message-State: AOJu0YwJeMsI/Cst/DGe51leYFn9r/J1IZiIZxz1uxGuY3pIShmeoQlh
 Q9QNDtCRs9neuqUQPzsNQeqhs+eP4TQwpo4ypVmvVJBBFz6cY9Wts9gxmyA6FiliVu6fU4qis7P
 ZAW1Zk0KlpoxugVufHico5o5u1VKOcmJmebrrNQ6B
X-Google-Smtp-Source: AGHT+IGJQEab6e1NEativsOZ6dYo81XmfJqjXo2nxgSZolYhk+/b+kk2DVyQmMT0+5qKf5E2FZC09Br0/9eN
X-Received: by 2002:a05:6a21:7890:b0:1a3:3089:9ddc with SMTP id
 bf16-20020a056a21789000b001a330899ddcmr1586113pzc.0.1710408936824; 
 Thu, 14 Mar 2024 02:35:36 -0700 (PDT)
Received: from postal.iol.unh.edu (postal.iol.unh.edu. [132.177.123.84])
 by smtp-relay.gmail.com with ESMTPS id
 h6-20020a17090ac38600b0029c774e9426sm14309pjt.12.2024.03.14.02.35.36
 (version=TLS1_2 cipher=ECDHE-ECDSA-AES128-GCM-SHA256 bits=128/128);
 Thu, 14 Mar 2024 02:35:36 -0700 (PDT)
X-Relaying-Domain: iol.unh.edu
Date: Thu, 14 Mar 2024 02:35:36 -0700 (PDT)
Message-ID: <65f2c4e8.170a0220.a64f.0e42SMTPIN_ADDED_MISSING@mx.google.com>
Received: from [172.17.0.9] (unknown [172.18.0.217])
 by postal.iol.unh.edu (Postfix) with ESMTP id 042A56052471;
 Thu, 14 Mar 2024 05:35:36 -0400 (EDT)
Subject: |SUCCESS| pw138354-138365 [PATCH] [12/12] crypto/cnxk: remove the re
From: dpdklab@iol.unh.edu
To: Test Report <test-report@dpdk.org>
Cc: dpdk-test-reports@iol.unh.edu
In-Reply-To: <20240314083844.3319506-13-vvelumuri@marvell.com>
References: <20240314083844.3319506-13-vvelumuri@marvell.com>
Content-Type: text/plain
X-BeenThere: test-report@dpdk.org
X-Mailman-Version: 2.1.29
Precedence: list
List-Id: automatic DPDK test reports <test-report.dpdk.org>
List-Unsubscribe: <https://mails.dpdk.org/options/test-report>,
 <mailto:test-report-request@dpdk.org?subject=unsubscribe>
List-Archive: <http://mails.dpdk.org/archives/test-report/>
List-Post: <mailto:test-report@dpdk.org>
List-Help: <mailto:test-report-request@dpdk.org?subject=help>
List-Subscribe: <https://mails.dpdk.org/listinfo/test-report>,
 <mailto:test-report-request@dpdk.org?subject=subscribe>
Errors-To: test-report-bounces@dpdk.org

Test-Label: iol-unit-amd64-testing
Test-Status: SUCCESS
http://dpdk.org/patch/138365

_Testing PASS_

Submitter: Vidya Sagar Velumuri <vvelumuri@marvell.com>
Date: Thursday, March 14 2024 08:38:44 
DPDK git baseline: Repo:dpdk
  Branch: master
  CommitID:cd218549b686d6be394ef3b171eafa16c038bfe3

138354-138365 --> testing pass

Test environment and result as below:

+---------------------+----------------+
|     Environment     | dpdk_unit_test |
+=====================+================+
| CentOS Stream 8     | PASS           |
+---------------------+----------------+
| CentOS Stream 9     | PASS           |
+---------------------+----------------+
| Debian Bullseye     | PASS           |
+---------------------+----------------+
| Windows Server 2019 | PASS           |
+---------------------+----------------+
| Debian 12 (arm)     | PASS           |
+---------------------+----------------+
| Fedora 37           | PASS           |
+---------------------+----------------+
| Fedora 38           | PASS           |
+---------------------+----------------+
| RHEL8               | PASS           |
+---------------------+----------------+
| Ubuntu 20.04        | PASS           |
+---------------------+----------------+
| openSUSE Leap 15    | PASS           |
+---------------------+----------------+
| Ubuntu 22.04        | PASS           |
+---------------------+----------------+


CentOS Stream 8
	Kernel: 4.18.0-240.10.1.el8_3.x86_64
	Compiler: gcc 8.4.1 20200928

CentOS Stream 9
	Kernel: 4.18.0-240.10.1.el8_3.x86_64
	Compiler: gcc 11.3.1 20220421

Debian Bullseye
	Kernel: 5.4.0-122-generic
	Compiler: gcc 10.2.1-6

Windows Server 2019
	Kernel: 10.0
	Compiler: clang 14.0 and gcc 8.1.0 (MinGW)

Debian 12 (arm)
	Kernel: Container Host Kernel
	Compiler: gcc 11

Fedora 37
	Kernel: Depends on container host system
	Compiler: gcc 12.3.1

Fedora 38
	Kernel: Depends on container host
	Compiler: gcc 13.1.1

RHEL8
	Kernel: 4.18.0-240.10.1.el8_3.x86_64
	Compiler: gcc 8.3.1 20191121 (Red Hat 8.3.1-5)

Ubuntu 20.04
	Kernel: 5.4.0-153-generic
	Compiler: gcc 9.4.0-1ubuntu1~20.04.1

openSUSE Leap 15
	Kernel: 4.18.0-240.10.1.el8_3.x86_64
	Compiler: gcc 7.5.0

Ubuntu 22.04
	Kernel: 4.18.0-240.10.1.el8_3.x86_64
	Compiler: gcc 11.3.0

To view detailed results, visit:
https://lab.dpdk.org/results/dashboard/patchsets/29544/

UNH-IOL DPDK Community Lab

To manage your email subscriptions, visit: 
https://lab.dpdk.org/results/dashboard/preferences/subscriptions/