From mboxrd@z Thu Jan  1 00:00:00 1970
Return-Path: <test-report-bounces@dpdk.org>
Received: from mails.dpdk.org (mails.dpdk.org [217.70.189.124])
	by inbox.dpdk.org (Postfix) with ESMTP id 8E41643CB2
	for <public@inbox.dpdk.org>; Thu, 14 Mar 2024 10:36:08 +0100 (CET)
Received: from mails.dpdk.org (localhost [127.0.0.1])
	by mails.dpdk.org (Postfix) with ESMTP id 8991340297;
	Thu, 14 Mar 2024 10:36:08 +0100 (CET)
Received: from mail-oi1-f227.google.com (mail-oi1-f227.google.com
 [209.85.167.227])
 by mails.dpdk.org (Postfix) with ESMTP id 39AB7400D5
 for <test-report@dpdk.org>; Thu, 14 Mar 2024 10:36:07 +0100 (CET)
Received: by mail-oi1-f227.google.com with SMTP id
 5614622812f47-3c36dcb305cso2642b6e.0
 for <test-report@dpdk.org>; Thu, 14 Mar 2024 02:36:07 -0700 (PDT)
DKIM-Signature: v=1; a=rsa-sha256; c=relaxed/relaxed;
 d=iol.unh.edu; s=unh-iol; t=1710408966; x=1711013766; darn=dpdk.org;
 h=references:in-reply-to:cc:to:from:subject:message-id:date:from:to
 :cc:subject:date:message-id:reply-to;
 bh=qeFAnuZz2wkKjGJTiyFx61laRo2MqcbKumK8hN0YhCs=;
 b=M6f4c/mKOILSqr3mKhb5CJKvMRx8/nLvjUp4PlxbtBq9LHNzhhcVoP9+iB/HT0xdPG
 UziGgAKX8gcpe7Kt4aXESE06CYq5k2KeAc2oYCzQwUl9yIWIRfoUrChSxVhcxIJMRlqt
 T6KNb+GM1epc6Q6iO+YQcAb76dU4wGWVjBxNI=
X-Google-DKIM-Signature: v=1; a=rsa-sha256; c=relaxed/relaxed;
 d=1e100.net; s=20230601; t=1710408966; x=1711013766;
 h=references:in-reply-to:cc:to:from:subject:message-id:date
 :x-gm-message-state:from:to:cc:subject:date:message-id:reply-to;
 bh=qeFAnuZz2wkKjGJTiyFx61laRo2MqcbKumK8hN0YhCs=;
 b=mKSOfvaVWrVmAygxQv+zeTsRTYi1HPSJoVFSchI2ygBg2BRz7R915F0usm3z/I2rGn
 y+Ie2nqQYmxWa42suYKnW3u9TGW9rGFCjEztsdXkn933vJ1uTJYZgFu+ca/dM0pVE4nk
 um1WqhqkbhrP0Ezm+XqxQq4bnRY2sGE5iTuehS5gBH/w493wSXRHhjOJdfN2gh3yz6ti
 jOhBBZIOblV17uULOqQSEhudVrLBUz67XYaMRGxlAC1TPsk8MPlN6kV79MHCSBiA1m4t
 7YF8yoj2pWVe/bv1IxQzShVHjXBHE2Dzh3JDzwDSH6TW7tv3UkRl8voGEiySl8AL9y/J
 MZ7Q==
X-Gm-Message-State: AOJu0YwhdW54oItB6qvoZGOKYl08gS9WGrBLgUkXlP5/K+DzsP8tIRgN
 Lqo3+Rr/Vz6kmWPr7hCm9/SsC+SrzuPAEdonisZdy6yqFldQvIWmDK14AT0e2VGzFWBaEe7iOov
 9RYZlux1bmJ/KLgG/HbAhbCwGKukJcn+rvoji0LTh
X-Google-Smtp-Source: AGHT+IGD1mYgL1yd5LOzjleHuSbvf4wCqfb39gA8eaVtcC/TJ4WOl4ovCSl43gP1SzBOGUPtbPPe6eOxbBwd
X-Received: by 2002:a05:6808:3094:b0:3c2:3128:2aef with SMTP id
 bl20-20020a056808309400b003c231282aefmr1167198oib.8.1710408966543; 
 Thu, 14 Mar 2024 02:36:06 -0700 (PDT)
Received: from postal.iol.unh.edu (postal.iol.unh.edu. [132.177.123.84])
 by smtp-relay.gmail.com with ESMTPS id
 4-20020a4a1504000000b0059cfbbe5f5asm15832oon.20.2024.03.14.02.36.06
 (version=TLS1_2 cipher=ECDHE-ECDSA-AES128-GCM-SHA256 bits=128/128);
 Thu, 14 Mar 2024 02:36:06 -0700 (PDT)
X-Relaying-Domain: iol.unh.edu
Date: Thu, 14 Mar 2024 02:36:06 -0700 (PDT)
Message-ID: <65f2c506.4a0a0220.f0589.1160SMTPIN_ADDED_MISSING@mx.google.com>
Received: from [172.17.0.9] (unknown [172.18.0.217])
 by postal.iol.unh.edu (Postfix) with ESMTP id 0BFEC6052471;
 Thu, 14 Mar 2024 05:36:06 -0400 (EDT)
Subject: |SUCCESS| pw138354-138365 [PATCH] [12/12] crypto/cnxk: remove the re
From: dpdklab@iol.unh.edu
To: Test Report <test-report@dpdk.org>
Cc: dpdk-test-reports@iol.unh.edu
In-Reply-To: <20240314083844.3319506-13-vvelumuri@marvell.com>
References: <20240314083844.3319506-13-vvelumuri@marvell.com>
Content-Type: text/plain
X-BeenThere: test-report@dpdk.org
X-Mailman-Version: 2.1.29
Precedence: list
List-Id: automatic DPDK test reports <test-report.dpdk.org>
List-Unsubscribe: <https://mails.dpdk.org/options/test-report>,
 <mailto:test-report-request@dpdk.org?subject=unsubscribe>
List-Archive: <http://mails.dpdk.org/archives/test-report/>
List-Post: <mailto:test-report@dpdk.org>
List-Help: <mailto:test-report-request@dpdk.org?subject=help>
List-Subscribe: <https://mails.dpdk.org/listinfo/test-report>,
 <mailto:test-report-request@dpdk.org?subject=subscribe>
Errors-To: test-report-bounces@dpdk.org

Test-Label: iol-unit-amd64-testing
Test-Status: SUCCESS
http://dpdk.org/patch/138365

_Testing PASS_

Submitter: Vidya Sagar Velumuri <vvelumuri@marvell.com>
Date: Thursday, March 14 2024 08:38:44 
DPDK git baseline: Repo:dpdk
  Branch: master
  CommitID:cd218549b686d6be394ef3b171eafa16c038bfe3

138354-138365 --> testing pass

Test environment and result as below:

+---------------------+----------------+
|     Environment     | dpdk_unit_test |
+=====================+================+
| CentOS Stream 8     | PASS           |
+---------------------+----------------+
| CentOS Stream 9     | PASS           |
+---------------------+----------------+
| Debian Bullseye     | PASS           |
+---------------------+----------------+
| Windows Server 2019 | PASS           |
+---------------------+----------------+
| Debian 12 (arm)     | PASS           |
+---------------------+----------------+
| Fedora 37           | PASS           |
+---------------------+----------------+
| Fedora 38           | PASS           |
+---------------------+----------------+
| RHEL8               | PASS           |
+---------------------+----------------+
| Ubuntu 20.04        | PASS           |
+---------------------+----------------+
| openSUSE Leap 15    | PASS           |
+---------------------+----------------+
| Ubuntu 22.04        | PASS           |
+---------------------+----------------+


CentOS Stream 8
	Kernel: 4.18.0-240.10.1.el8_3.x86_64
	Compiler: gcc 8.4.1 20200928

CentOS Stream 9
	Kernel: 4.18.0-240.10.1.el8_3.x86_64
	Compiler: gcc 11.3.1 20220421

Debian Bullseye
	Kernel: 5.4.0-122-generic
	Compiler: gcc 10.2.1-6

Windows Server 2019
	Kernel: 10.0
	Compiler: clang 14.0 and gcc 8.1.0 (MinGW)

Debian 12 (arm)
	Kernel: Container Host Kernel
	Compiler: gcc 11

Fedora 37
	Kernel: Depends on container host system
	Compiler: gcc 12.3.1

Fedora 38
	Kernel: Depends on container host
	Compiler: gcc 13.1.1

RHEL8
	Kernel: 4.18.0-240.10.1.el8_3.x86_64
	Compiler: gcc 8.3.1 20191121 (Red Hat 8.3.1-5)

Ubuntu 20.04
	Kernel: 5.4.0-153-generic
	Compiler: gcc 9.4.0-1ubuntu1~20.04.1

openSUSE Leap 15
	Kernel: 4.18.0-240.10.1.el8_3.x86_64
	Compiler: gcc 7.5.0

Ubuntu 22.04
	Kernel: 4.18.0-240.10.1.el8_3.x86_64
	Compiler: gcc 11.3.0

To view detailed results, visit:
https://lab.dpdk.org/results/dashboard/patchsets/29544/

UNH-IOL DPDK Community Lab

To manage your email subscriptions, visit: 
https://lab.dpdk.org/results/dashboard/preferences/subscriptions/