From mboxrd@z Thu Jan  1 00:00:00 1970
Return-Path: <test-report-bounces@dpdk.org>
Received: from mails.dpdk.org (mails.dpdk.org [217.70.189.124])
	by inbox.dpdk.org (Postfix) with ESMTP id 8F54443CB2
	for <public@inbox.dpdk.org>; Thu, 14 Mar 2024 10:59:01 +0100 (CET)
Received: from mails.dpdk.org (localhost [127.0.0.1])
	by mails.dpdk.org (Postfix) with ESMTP id 8B82940E28;
	Thu, 14 Mar 2024 10:59:01 +0100 (CET)
Received: from mail-qv1-f99.google.com (mail-qv1-f99.google.com
 [209.85.219.99]) by mails.dpdk.org (Postfix) with ESMTP id C47E1406BC
 for <test-report@dpdk.org>; Thu, 14 Mar 2024 10:59:00 +0100 (CET)
Received: by mail-qv1-f99.google.com with SMTP id
 6a1803df08f44-68ee2c0a237so6040786d6.1
 for <test-report@dpdk.org>; Thu, 14 Mar 2024 02:59:00 -0700 (PDT)
DKIM-Signature: v=1; a=rsa-sha256; c=relaxed/relaxed;
 d=iol.unh.edu; s=unh-iol; t=1710410340; x=1711015140; darn=dpdk.org;
 h=references:in-reply-to:cc:to:from:subject:message-id:date:from:to
 :cc:subject:date:message-id:reply-to;
 bh=sZRA0QOlQIWyXdaOfVOVM+DdZw+KZFTIQCoSRzd4bIs=;
 b=DFWpU2MxODU5N98vMfxAktdX1EQX79nmmToCK8gjHz6pSpqkTUXASWRtZ1xXRhNLFG
 y6LzOCZNdg9W1nsv6Xm/35H/S9x6rsW1hWGtzLc8MngQPFwTExbQGA9ldp7uWdigU7Dm
 9JSyCzY0fhMfeHXwb9NsrFhmvSGbydFYy4lf8=
X-Google-DKIM-Signature: v=1; a=rsa-sha256; c=relaxed/relaxed;
 d=1e100.net; s=20230601; t=1710410340; x=1711015140;
 h=references:in-reply-to:cc:to:from:subject:message-id:date
 :x-gm-message-state:from:to:cc:subject:date:message-id:reply-to;
 bh=sZRA0QOlQIWyXdaOfVOVM+DdZw+KZFTIQCoSRzd4bIs=;
 b=u45bkOZAjfc64qyPiT0XNyPgO1GxXIljXN4S8ZyyB281a2PXE9tF+PoHjT+2j8gOpf
 1hd6nHu0Aqiytx7JOubaB0J0ncUdAys+vPjgJLgpxO4ZMH15nOgol1tR/rfUabpHd9kn
 HoCI6Ii0ICfMU1ewNR5/tSKG1oQLUrXfAKpfTFrm8bfnVba9ngHbPx/9OUj3LGIudo6N
 ZbyArbzZiQp2weHkPPl6aHhTGgIbezhoCIeXnxugN+Tv4SQ6VWSet1xwR6LJZorYiXDP
 8oBLgxkMIC5wFpGYuTzf37LJM5wv+RhW/qDU5elKtONCViCFs1t/haiiIhzyB0Xnw5sQ
 tWDw==
X-Gm-Message-State: AOJu0Yzln+ImSo/9bYI92YYfXOLqZmw14aNANtHhKujIkWFTorVYj2nx
 5SkOt926Ey8aMGTh8WdFSANF7yj2w3jCvySk97DP1fREwyqgOSWAthT/R9Nd2ne+YR5T+x9WEAm
 gJpT1N2AtQev+qbSva2+NM7jq4EfXJ0FdHx1blNHF8y0eAelYQJmFmV9m
X-Google-Smtp-Source: AGHT+IHMbR0zPs1hARtR3kX/3yt/gWQdi/+m0SDtSoODojMpWnNo/pK4vEnIC4rvDBJdvl2pnGo7e4rX4uAO
X-Received: by 2002:a05:6214:c65:b0:690:2069:d413 with SMTP id
 t5-20020a0562140c6500b006902069d413mr3814026qvj.6.1710410340319; 
 Thu, 14 Mar 2024 02:59:00 -0700 (PDT)
Received: from postal.iol.unh.edu (postal.iol.unh.edu.
 [2606:4100:3880:1234::84]) by smtp-relay.gmail.com with ESMTPS id
 i4-20020ad45c64000000b0068f451382a5sm13296qvh.8.2024.03.14.02.59.00
 (version=TLS1_2 cipher=ECDHE-ECDSA-AES128-GCM-SHA256 bits=128/128);
 Thu, 14 Mar 2024 02:59:00 -0700 (PDT)
X-Relaying-Domain: iol.unh.edu
Date: Thu, 14 Mar 2024 02:59:00 -0700 (PDT)
Message-ID: <65f2ca64.d40a0220.d0b88.0db0SMTPIN_ADDED_MISSING@mx.google.com>
Received: from [172.17.0.7] (unknown [172.18.0.217])
 by postal.iol.unh.edu (Postfix) with ESMTP id 09E4B6052471;
 Thu, 14 Mar 2024 05:59:00 -0400 (EDT)
Subject: |SUCCESS| pw138346-138353 [PATCH] [v2,8/8] net/nfp: fix tainted scal
From: dpdklab@iol.unh.edu
To: Test Report <test-report@dpdk.org>
Cc: dpdk-test-reports@iol.unh.edu
In-Reply-To: <20240314074024.3199555-9-chaoyong.he@corigine.com>
References: <20240314074024.3199555-9-chaoyong.he@corigine.com>
Content-Type: text/plain
X-BeenThere: test-report@dpdk.org
X-Mailman-Version: 2.1.29
Precedence: list
List-Id: automatic DPDK test reports <test-report.dpdk.org>
List-Unsubscribe: <https://mails.dpdk.org/options/test-report>,
 <mailto:test-report-request@dpdk.org?subject=unsubscribe>
List-Archive: <http://mails.dpdk.org/archives/test-report/>
List-Post: <mailto:test-report@dpdk.org>
List-Help: <mailto:test-report-request@dpdk.org?subject=help>
List-Subscribe: <https://mails.dpdk.org/listinfo/test-report>,
 <mailto:test-report-request@dpdk.org?subject=subscribe>
Errors-To: test-report-bounces@dpdk.org

Test-Label: iol-compile-amd64-testing
Test-Status: SUCCESS
http://dpdk.org/patch/138353

_Testing PASS_

Submitter: Chaoyong He <chaoyong.he@corigine.com>
Date: Thursday, March 14 2024 07:40:24 
DPDK git baseline: Repo:dpdk
  Branch: master
  CommitID:22b0194263b83fa09a25511b26a38597fff44a2c

138346-138353 --> testing pass

Test environment and result as below:

+---------------------+--------------------+----------------------+
|     Environment     | dpdk_meson_compile | dpdk_mingw64_compile |
+=====================+====================+======================+
| Fedora 37           | PASS               | SKIPPED              |
+---------------------+--------------------+----------------------+
| CentOS Stream 9     | PASS               | SKIPPED              |
+---------------------+--------------------+----------------------+
| FreeBSD 13.2        | PASS               | SKIPPED              |
+---------------------+--------------------+----------------------+
| Windows Server 2022 | PASS               | SKIPPED              |
+---------------------+--------------------+----------------------+
| CentOS Stream 8     | PASS               | SKIPPED              |
+---------------------+--------------------+----------------------+
| Windows Server 2019 | PASS               | PASS                 |
+---------------------+--------------------+----------------------+
| openSUSE Leap 15    | PASS               | SKIPPED              |
+---------------------+--------------------+----------------------+
| RHEL8               | PASS               | SKIPPED              |
+---------------------+--------------------+----------------------+
| Fedora 38           | PASS               | SKIPPED              |
+---------------------+--------------------+----------------------+
| Ubuntu 22.04        | PASS               | SKIPPED              |
+---------------------+--------------------+----------------------+
| Ubuntu 20.04        | PASS               | SKIPPED              |
+---------------------+--------------------+----------------------+
| Alpine              | PASS               | SKIPPED              |
+---------------------+--------------------+----------------------+


Fedora 37
	Kernel: Depends on container host system
	Compiler: gcc 12.3.1

CentOS Stream 9
	Kernel: 4.18.0-240.10.1.el8_3.x86_64
	Compiler: gcc 11.3.1 20220421

FreeBSD 13.2
	Kernel: 13.2
	Compiler: clang 11.3.0

Windows Server 2022
	Kernel: OS Build 20348.2031
	Compiler: MSVC VS-Preview

CentOS Stream 8
	Kernel: 4.18.0-240.10.1.el8_3.x86_64
	Compiler: gcc 8.4.1 20200928

Windows Server 2019
	Kernel: 10.0
	Compiler: clang 14.0 and gcc 8.1.0 (MinGW)

openSUSE Leap 15
	Kernel: 4.18.0-240.10.1.el8_3.x86_64
	Compiler: gcc 7.5.0

RHEL8
	Kernel: 4.18.0-240.10.1.el8_3.x86_64
	Compiler: gcc 8.3.1 20191121 (Red Hat 8.3.1-5)

Fedora 38
	Kernel: Depends on container host
	Compiler: gcc 13.1.1

Ubuntu 22.04
	Kernel: 4.18.0-240.10.1.el8_3.x86_64
	Compiler: gcc 11.3.0

Ubuntu 20.04
	Kernel: 5.4.0-153-generic
	Compiler: gcc 9.4.0-1ubuntu1~20.04.1

Alpine
	Kernel: 5.4.0-73-generic
	Compiler: gcc (Alpine 10.3.1_git20210424) 10.3.1 20210424

To view detailed results, visit:
https://lab.dpdk.org/results/dashboard/patchsets/29543/

UNH-IOL DPDK Community Lab

To manage your email subscriptions, visit: 
https://lab.dpdk.org/results/dashboard/preferences/subscriptions/