From mboxrd@z Thu Jan  1 00:00:00 1970
Return-Path: <test-report-bounces@dpdk.org>
Received: from mails.dpdk.org (mails.dpdk.org [217.70.189.124])
	by inbox.dpdk.org (Postfix) with ESMTP id 00AAA43CB2
	for <public@inbox.dpdk.org>; Thu, 14 Mar 2024 11:00:37 +0100 (CET)
Received: from mails.dpdk.org (localhost [127.0.0.1])
	by mails.dpdk.org (Postfix) with ESMTP id ED3BE40E28;
	Thu, 14 Mar 2024 11:00:37 +0100 (CET)
Received: from mail-yw1-f225.google.com (mail-yw1-f225.google.com
 [209.85.128.225])
 by mails.dpdk.org (Postfix) with ESMTP id 1F467406BC
 for <test-report@dpdk.org>; Thu, 14 Mar 2024 11:00:37 +0100 (CET)
Received: by mail-yw1-f225.google.com with SMTP id
 00721157ae682-60a0579a968so7957037b3.3
 for <test-report@dpdk.org>; Thu, 14 Mar 2024 03:00:37 -0700 (PDT)
DKIM-Signature: v=1; a=rsa-sha256; c=relaxed/relaxed;
 d=iol.unh.edu; s=unh-iol; t=1710410436; x=1711015236; darn=dpdk.org;
 h=references:in-reply-to:cc:to:from:subject:message-id:date:from:to
 :cc:subject:date:message-id:reply-to;
 bh=9LAzzkoAZJBAdVgiIMjrIs8q5Mzttdnj7CHk33PIqT0=;
 b=bg7KKiiC+4Z/QJf79IqB2xrFMyIR140SfwYkogjOFBcPlecpOjrnW3eNMe4nxrIBUt
 wJok6hAWtkiZPMXFA6jgviSTDRreQdxVWjCD5vqG4g1CGFNAjM5XAbMCjNCATKTCB3+e
 SAwXuNaI38RUjeFVOf1QLGUFSkg83p5Cv1B8g=
X-Google-DKIM-Signature: v=1; a=rsa-sha256; c=relaxed/relaxed;
 d=1e100.net; s=20230601; t=1710410436; x=1711015236;
 h=references:in-reply-to:cc:to:from:subject:message-id:date
 :x-gm-message-state:from:to:cc:subject:date:message-id:reply-to;
 bh=9LAzzkoAZJBAdVgiIMjrIs8q5Mzttdnj7CHk33PIqT0=;
 b=IK38b+Y7RSvjJmwGWnJ1DesFD8kXaH5ryhGL4ByooFRICdcUYBKgXb9Ow6nPfi+GgM
 w7zxP3KTNryx03zHydonfaepB5eDsDshGiIF894jrYIwygudH8Bf9vvWsqXTDQZ3fg4d
 EiyG2KPSSnm9QeurSoLanYsh1ICqFNIKHe9NYNUlNEY9HcM1zS/1INRtkyJQrs44SK74
 EvkMs8yijYihf356wDXHn5+Sk0xrruNoHArQourZBh9wilTQJPLQlYXL0S6cFrtaxs1L
 J4iFyzrehM1GdxlyOVB2Z/7zp6PCGCM3lMeZ4p7OP2mBz9fLrBWcMy4qRPI+Bh5hLmPg
 TPeg==
X-Gm-Message-State: AOJu0Yz8YdGplljbSR+5HPK8YJW4ZFnH9SWgC4mYnJB4zA3q+RKD2OZX
 IK7mYI/qprka/D9QI6e/8230lP2FL7F58jmbk9jUxxEJ7XV6Eb033b9JSq+KHOhdGxPuKoHVyDo
 /u2xcuUG/TaHhBLgbDdZnNoZUbZG/fKrAT2WJUtwOEwiR40O55tqIn8dy
X-Google-Smtp-Source: AGHT+IEJegUXP8jKPx6RLvyLvUIUramGMv6AKLnea/ZeigkCQGhMr6hnUcKkCEfcM7IqtDKMIgPnQJ2GuWVw
X-Received: by 2002:a0d:ce45:0:b0:60c:ba36:1ff6 with SMTP id
 q66-20020a0dce45000000b0060cba361ff6mr172403ywd.32.1710410436565; 
 Thu, 14 Mar 2024 03:00:36 -0700 (PDT)
Received: from postal.iol.unh.edu (postal.iol.unh.edu.
 [2606:4100:3880:1234::84]) by smtp-relay.gmail.com with ESMTPS id
 f1-20020a0ddc01000000b006096cd93e01sm72823ywe.49.2024.03.14.03.00.36
 (version=TLS1_2 cipher=ECDHE-ECDSA-AES128-GCM-SHA256 bits=128/128);
 Thu, 14 Mar 2024 03:00:36 -0700 (PDT)
X-Relaying-Domain: iol.unh.edu
Date: Thu, 14 Mar 2024 03:00:36 -0700 (PDT)
Message-ID: <65f2cac4.0d0a0220.4b001.5a68SMTPIN_ADDED_MISSING@mx.google.com>
Received: from [172.17.0.7] (unknown [172.18.0.217])
 by postal.iol.unh.edu (Postfix) with ESMTP id 434BD6052471;
 Thu, 14 Mar 2024 06:00:36 -0400 (EDT)
Subject: |SUCCESS| pw138346-138353 [PATCH] [v2,8/8] net/nfp: fix tainted scal
From: dpdklab@iol.unh.edu
To: Test Report <test-report@dpdk.org>
Cc: dpdk-test-reports@iol.unh.edu
In-Reply-To: <20240314074024.3199555-9-chaoyong.he@corigine.com>
References: <20240314074024.3199555-9-chaoyong.he@corigine.com>
Content-Type: text/plain
X-BeenThere: test-report@dpdk.org
X-Mailman-Version: 2.1.29
Precedence: list
List-Id: automatic DPDK test reports <test-report.dpdk.org>
List-Unsubscribe: <https://mails.dpdk.org/options/test-report>,
 <mailto:test-report-request@dpdk.org?subject=unsubscribe>
List-Archive: <http://mails.dpdk.org/archives/test-report/>
List-Post: <mailto:test-report@dpdk.org>
List-Help: <mailto:test-report-request@dpdk.org?subject=help>
List-Subscribe: <https://mails.dpdk.org/listinfo/test-report>,
 <mailto:test-report-request@dpdk.org?subject=subscribe>
Errors-To: test-report-bounces@dpdk.org

Test-Label: iol-compile-amd64-testing
Test-Status: SUCCESS
http://dpdk.org/patch/138353

_Testing PASS_

Submitter: Chaoyong He <chaoyong.he@corigine.com>
Date: Thursday, March 14 2024 07:40:24 
DPDK git baseline: Repo:dpdk
  Branch: master
  CommitID:22b0194263b83fa09a25511b26a38597fff44a2c

138346-138353 --> testing pass

Test environment and result as below:

+---------------------+--------------------+----------------------+
|     Environment     | dpdk_meson_compile | dpdk_mingw64_compile |
+=====================+====================+======================+
| Fedora 37           | PASS               | SKIPPED              |
+---------------------+--------------------+----------------------+
| CentOS Stream 9     | PASS               | SKIPPED              |
+---------------------+--------------------+----------------------+
| FreeBSD 13.2        | PASS               | SKIPPED              |
+---------------------+--------------------+----------------------+
| Windows Server 2022 | PASS               | SKIPPED              |
+---------------------+--------------------+----------------------+
| CentOS Stream 8     | PASS               | SKIPPED              |
+---------------------+--------------------+----------------------+
| Windows Server 2019 | PASS               | PASS                 |
+---------------------+--------------------+----------------------+
| openSUSE Leap 15    | PASS               | SKIPPED              |
+---------------------+--------------------+----------------------+
| RHEL8               | PASS               | SKIPPED              |
+---------------------+--------------------+----------------------+
| Fedora 38           | PASS               | SKIPPED              |
+---------------------+--------------------+----------------------+
| Ubuntu 22.04        | PASS               | SKIPPED              |
+---------------------+--------------------+----------------------+
| Ubuntu 20.04        | PASS               | SKIPPED              |
+---------------------+--------------------+----------------------+
| Alpine              | PASS               | SKIPPED              |
+---------------------+--------------------+----------------------+
| Debian Bullseye     | PASS               | SKIPPED              |
+---------------------+--------------------+----------------------+


Fedora 37
	Kernel: Depends on container host system
	Compiler: gcc 12.3.1

CentOS Stream 9
	Kernel: 4.18.0-240.10.1.el8_3.x86_64
	Compiler: gcc 11.3.1 20220421

FreeBSD 13.2
	Kernel: 13.2
	Compiler: clang 11.3.0

Windows Server 2022
	Kernel: OS Build 20348.2031
	Compiler: MSVC VS-Preview

CentOS Stream 8
	Kernel: 4.18.0-240.10.1.el8_3.x86_64
	Compiler: gcc 8.4.1 20200928

Windows Server 2019
	Kernel: 10.0
	Compiler: clang 14.0 and gcc 8.1.0 (MinGW)

openSUSE Leap 15
	Kernel: 4.18.0-240.10.1.el8_3.x86_64
	Compiler: gcc 7.5.0

RHEL8
	Kernel: 4.18.0-240.10.1.el8_3.x86_64
	Compiler: gcc 8.3.1 20191121 (Red Hat 8.3.1-5)

Fedora 38
	Kernel: Depends on container host
	Compiler: gcc 13.1.1

Ubuntu 22.04
	Kernel: 4.18.0-240.10.1.el8_3.x86_64
	Compiler: gcc 11.3.0

Ubuntu 20.04
	Kernel: 5.4.0-153-generic
	Compiler: gcc 9.4.0-1ubuntu1~20.04.1

Alpine
	Kernel: 5.4.0-73-generic
	Compiler: gcc (Alpine 10.3.1_git20210424) 10.3.1 20210424

Debian Bullseye
	Kernel: 5.4.0-122-generic
	Compiler: gcc 10.2.1-6

To view detailed results, visit:
https://lab.dpdk.org/results/dashboard/patchsets/29543/

UNH-IOL DPDK Community Lab

To manage your email subscriptions, visit: 
https://lab.dpdk.org/results/dashboard/preferences/subscriptions/