From mboxrd@z Thu Jan  1 00:00:00 1970
Return-Path: <test-report-bounces@dpdk.org>
Received: from mails.dpdk.org (mails.dpdk.org [217.70.189.124])
	by inbox.dpdk.org (Postfix) with ESMTP id B5E7143CB2
	for <public@inbox.dpdk.org>; Thu, 14 Mar 2024 11:03:03 +0100 (CET)
Received: from mails.dpdk.org (localhost [127.0.0.1])
	by mails.dpdk.org (Postfix) with ESMTP id B2D8B40E28;
	Thu, 14 Mar 2024 11:03:03 +0100 (CET)
Received: from mail-pf1-f225.google.com (mail-pf1-f225.google.com
 [209.85.210.225])
 by mails.dpdk.org (Postfix) with ESMTP id 83574406BC
 for <test-report@dpdk.org>; Thu, 14 Mar 2024 11:02:59 +0100 (CET)
Received: by mail-pf1-f225.google.com with SMTP id
 d2e1a72fcca58-6e6afb754fcso746379b3a.3
 for <test-report@dpdk.org>; Thu, 14 Mar 2024 03:02:59 -0700 (PDT)
DKIM-Signature: v=1; a=rsa-sha256; c=relaxed/relaxed;
 d=iol.unh.edu; s=unh-iol; t=1710410579; x=1711015379; darn=dpdk.org;
 h=references:in-reply-to:cc:to:from:subject:message-id:date:from:to
 :cc:subject:date:message-id:reply-to;
 bh=HOWsj/mCsQ8oqHMGLyyB/VSAmo/1eWwX8xtBCa/2JTk=;
 b=A+Q64QxiTug/QiOlV7H87feyqBenu70BvOzdeTqQWF31AJSAQcpFUGWtntsTJer/5i
 rJYWcSorRH1zTMmCCcXnqYPKTn8hp5LxTgN1hodOcbpZ+E7wVsZ351jERrn/C55vzNPy
 emRKab5nf4XqhNktBX6MoV9OkMpFUBX/IqpxA=
X-Google-DKIM-Signature: v=1; a=rsa-sha256; c=relaxed/relaxed;
 d=1e100.net; s=20230601; t=1710410579; x=1711015379;
 h=references:in-reply-to:cc:to:from:subject:message-id:date
 :x-gm-message-state:from:to:cc:subject:date:message-id:reply-to;
 bh=HOWsj/mCsQ8oqHMGLyyB/VSAmo/1eWwX8xtBCa/2JTk=;
 b=UakVOkCFNggggFJG5QD9z4JKKirTmdtNr4eTQBn5GFXIChNMYwz134ymkf029/pEqA
 O8bjPPFHnuXc78kmKFoZVuAgpX7vmpdYAeuVCSsEblxaLvgXJ6r/4zeyo9N1K7MDIKDv
 QkRzessP2qjMtDZ/9hE0p5cW2zy9ojgAujJEooM1VB6Cu3HgYIAqTDgJAom7dB5t+Rkg
 FM48/uGZt5bGeLuOXfpPILPGXEoQoI1yfvnZnLX4usgT95RyFiG0G2VMGUXpVboAbpa4
 i5deypyjc4ytSiIERWaK9a1bgPWWFo0Paj5TjDco0pOKWNpJQAxemqX3DLC+r91lTExE
 bT+g==
X-Gm-Message-State: AOJu0YzWb/35raIUA932eQteFx08HfhOXg/1X39rqSnxc5Xw+VlTi5gP
 ShTPLTh1aiZ03q9qC8xuXjSxSu51oObydEMR45gG8QIeb/ruDdtGU/zvWodzv0IGwiWJuQ8PQ0A
 JIorSmKvAmcjwsQjuVkJnGOB1MbsjlQ8kqlyzLI3UtE09ajtnxQsTAvfl
X-Google-Smtp-Source: AGHT+IGtqNFs/60x2/WTmlJEPEYcqqJM0yJ4RlSXzKojPy5t6PFTXHMXKTzfgrpLFVn6lG/HyN3FowxDZ17A
X-Received: by 2002:a05:6a20:6605:b0:1a0:e187:87c4 with SMTP id
 n5-20020a056a20660500b001a0e18787c4mr1452618pzh.38.1710410578687; 
 Thu, 14 Mar 2024 03:02:58 -0700 (PDT)
Received: from postal.iol.unh.edu (postal.iol.unh.edu.
 [2606:4100:3880:1234::84]) by smtp-relay.gmail.com with ESMTPS id
 y30-20020a056a00181e00b006e69b48ae86sm59725pfa.6.2024.03.14.03.02.58
 (version=TLS1_2 cipher=ECDHE-ECDSA-AES128-GCM-SHA256 bits=128/128);
 Thu, 14 Mar 2024 03:02:58 -0700 (PDT)
X-Relaying-Domain: iol.unh.edu
Date: Thu, 14 Mar 2024 03:02:58 -0700 (PDT)
Message-ID: <65f2cb52.050a0220.775c2.401fSMTPIN_ADDED_MISSING@mx.google.com>
Received: from [172.17.0.6] (unknown [172.18.0.217])
 by postal.iol.unh.edu (Postfix) with ESMTP id D514D6052471;
 Thu, 14 Mar 2024 06:02:57 -0400 (EDT)
Subject: |SUCCESS| pw138346-138353 [PATCH] [v2,8/8] net/nfp: fix tainted scal
From: dpdklab@iol.unh.edu
To: Test Report <test-report@dpdk.org>
Cc: dpdk-test-reports@iol.unh.edu
In-Reply-To: <20240314074024.3199555-9-chaoyong.he@corigine.com>
References: <20240314074024.3199555-9-chaoyong.he@corigine.com>
Content-Type: text/plain
X-BeenThere: test-report@dpdk.org
X-Mailman-Version: 2.1.29
Precedence: list
List-Id: automatic DPDK test reports <test-report.dpdk.org>
List-Unsubscribe: <https://mails.dpdk.org/options/test-report>,
 <mailto:test-report-request@dpdk.org?subject=unsubscribe>
List-Archive: <http://mails.dpdk.org/archives/test-report/>
List-Post: <mailto:test-report@dpdk.org>
List-Help: <mailto:test-report-request@dpdk.org?subject=help>
List-Subscribe: <https://mails.dpdk.org/listinfo/test-report>,
 <mailto:test-report-request@dpdk.org?subject=subscribe>
Errors-To: test-report-bounces@dpdk.org

Test-Label: iol-compile-arm64-testing
Test-Status: SUCCESS
http://dpdk.org/patch/138353

_Testing PASS_

Submitter: Chaoyong He <chaoyong.he@corigine.com>
Date: Thursday, March 14 2024 07:40:24 
DPDK git baseline: Repo:dpdk
  Branch: master
  CommitID:22b0194263b83fa09a25511b26a38597fff44a2c

138346-138353 --> testing pass

Test environment and result as below:

+----------------------------------------+--------------------+
|              Environment               | dpdk_meson_compile |
+========================================+====================+
| Ubuntu 20.04 ARM SVE                   | PASS               |
+----------------------------------------+--------------------+
| Ubuntu 20.04 aarch32 GCC Cross Compile | PASS               |
+----------------------------------------+--------------------+
| Ubuntu 20.04 ARM Clang Cross Compile   | PASS               |
+----------------------------------------+--------------------+
| Debian 12 (arm)                        | PASS               |
+----------------------------------------+--------------------+
| Fedora 37 (ARM)                        | PASS               |
+----------------------------------------+--------------------+
| CentOS Stream 9 (ARM)                  | PASS               |
+----------------------------------------+--------------------+
| Ubuntu 20.04 ARM GCC Cross Compile     | PASS               |
+----------------------------------------+--------------------+


Ubuntu 20.04 ARM SVE
	Kernel: 5.4.0-80-generic
	Compiler: gcc 10.3.0 (Ubuntu 10.3.0-1ubuntu1~20.04)

Ubuntu 20.04 aarch32 GCC Cross Compile
	Kernel: 5.4.0-72-generic
	Compiler: gcc 9.3.0

Ubuntu 20.04 ARM Clang Cross Compile
	Kernel: 5.4.0-72-generic
	Compiler: clang version 10.0.0-4ubuntu1

Debian 12 (arm)
	Kernel: Container Host Kernel
	Compiler: gcc 11

Fedora 37 (ARM)
	Kernel: Depends on container host
	Compiler: gcc 12.3.1

CentOS Stream 9 (ARM)
	Kernel: Container Host Kernel
	Compiler: gcc 11.3.1

Ubuntu 20.04 ARM GCC Cross Compile
	Kernel: 5.4.0-72-generic
	Compiler: aarch64-linux-gnu-gcc (Ubuntu 9.3.0-17ubuntu1~20.04) 9.3.0

To view detailed results, visit:
https://lab.dpdk.org/results/dashboard/patchsets/29543/

UNH-IOL DPDK Community Lab

To manage your email subscriptions, visit: 
https://lab.dpdk.org/results/dashboard/preferences/subscriptions/