From mboxrd@z Thu Jan  1 00:00:00 1970
Return-Path: <test-report-bounces@dpdk.org>
Received: from mails.dpdk.org (mails.dpdk.org [217.70.189.124])
	by inbox.dpdk.org (Postfix) with ESMTP id 7874D43CB3
	for <public@inbox.dpdk.org>; Thu, 14 Mar 2024 11:04:39 +0100 (CET)
Received: from mails.dpdk.org (localhost [127.0.0.1])
	by mails.dpdk.org (Postfix) with ESMTP id CC86442E51;
	Thu, 14 Mar 2024 11:04:38 +0100 (CET)
Received: from mail-io1-f99.google.com (mail-io1-f99.google.com
 [209.85.166.99]) by mails.dpdk.org (Postfix) with ESMTP id 7BC7F406BC
 for <test-report@dpdk.org>; Thu, 14 Mar 2024 11:04:30 +0100 (CET)
Received: by mail-io1-f99.google.com with SMTP id
 ca18e2360f4ac-7c88c7a9262so9722039f.3
 for <test-report@dpdk.org>; Thu, 14 Mar 2024 03:04:30 -0700 (PDT)
DKIM-Signature: v=1; a=rsa-sha256; c=relaxed/relaxed;
 d=iol.unh.edu; s=unh-iol; t=1710410670; x=1711015470; darn=dpdk.org;
 h=references:in-reply-to:cc:to:from:subject:message-id:date:from:to
 :cc:subject:date:message-id:reply-to;
 bh=6aBWsf9hqBDWzyuDPO6faRKYccm0J/Pfwrq0W1qizQM=;
 b=aJfokw6mVd66dwF/VkAkYsE1FVmZimx/gOqO2OJUv9KsMFIpn8qQWqpMmFZ3PEl2ek
 n72Vp+BVpuA9VK6Qbuk8imSqPLmjn1+HOZpFxsj6oOK8fjmk57+v3+bK+DheOLUne7BK
 bu4GiAnuIcvxuSxGe6U+s/hLFl/ZB3rjjqmp8=
X-Google-DKIM-Signature: v=1; a=rsa-sha256; c=relaxed/relaxed;
 d=1e100.net; s=20230601; t=1710410670; x=1711015470;
 h=references:in-reply-to:cc:to:from:subject:message-id:date
 :x-gm-message-state:from:to:cc:subject:date:message-id:reply-to;
 bh=6aBWsf9hqBDWzyuDPO6faRKYccm0J/Pfwrq0W1qizQM=;
 b=MIPwcPxy6Tq5EERNDgwbSHSbSHOhnc9azzPucAkYBF0Fc1smvOOXU2jDuj8GCgZ9Tn
 YkVQskc3c1QJnbNYuB4wvGDFiKOF9IrpekmXsTViZXWpQtEdUKEm/Zi9EXJiGIGrbEjj
 5BLt5deILjr30ZAsFWhfuzCgvjzbaLYqJOnMErcFXviZpxJ50k9rqMxShCfyMhPHzVfc
 q7piqAXJLSnarPUY0Ul/9JjV6IHDlxfIE+irlvti8mtLTmHZTr1PoLBeM0HYxeIT+Pew
 ZIqmbDTtSo+DOj5rdj5ozmqBXvoS6SfH7b3OJ1HWQygTZ0+eJ999jEbf66VrEPCQiM59
 i8Zg==
X-Gm-Message-State: AOJu0YyNNdYKprgTufEqHnyCGrGOLytOTU8nL+8lvAu3QX6vOo47ERkY
 uqVeAT5Olh9KzEk4SOa+d1SEynTsqzM5f3+bPXNZ4vA84/ygREpqDgRMvaTNBbPFgt5+qnRpF6p
 vJYq8alk7aOXUVuquStccA4MlInAuP3jb26H31bFo
X-Google-Smtp-Source: AGHT+IGVSnqy9tnrlSAZyxN8kisuaG906dywzrlzKaKdKHAEdJaFsNWndoVa5Jy5ILx7nStorYPFfkqnCj4N
X-Received: by 2002:a6b:a07:0:b0:7c9:df48:bf12 with SMTP id
 z7-20020a6b0a07000000b007c9df48bf12mr1576876ioi.2.1710410669922; 
 Thu, 14 Mar 2024 03:04:29 -0700 (PDT)
Received: from postal.iol.unh.edu (postal.iol.unh.edu. [132.177.123.84])
 by smtp-relay.gmail.com with ESMTPS id
 fq12-20020a056638650c00b004770225174dsm12317jab.44.2024.03.14.03.04.29
 (version=TLS1_2 cipher=ECDHE-ECDSA-AES128-GCM-SHA256 bits=128/128);
 Thu, 14 Mar 2024 03:04:29 -0700 (PDT)
X-Relaying-Domain: iol.unh.edu
Date: Thu, 14 Mar 2024 03:04:29 -0700 (PDT)
Message-ID: <65f2cbad.050a0220.d2514.0cecSMTPIN_ADDED_MISSING@mx.google.com>
Received: from [172.17.0.6] (unknown [172.18.0.217])
 by postal.iol.unh.edu (Postfix) with ESMTP id 6D2CA6052471;
 Thu, 14 Mar 2024 06:04:29 -0400 (EDT)
Subject: |SUCCESS| pw138346-138353 [PATCH] [v2,8/8] net/nfp: fix tainted scal
From: dpdklab@iol.unh.edu
To: Test Report <test-report@dpdk.org>
Cc: dpdk-test-reports@iol.unh.edu
In-Reply-To: <20240314074024.3199555-9-chaoyong.he@corigine.com>
References: <20240314074024.3199555-9-chaoyong.he@corigine.com>
Content-Type: text/plain
X-BeenThere: test-report@dpdk.org
X-Mailman-Version: 2.1.29
Precedence: list
List-Id: automatic DPDK test reports <test-report.dpdk.org>
List-Unsubscribe: <https://mails.dpdk.org/options/test-report>,
 <mailto:test-report-request@dpdk.org?subject=unsubscribe>
List-Archive: <http://mails.dpdk.org/archives/test-report/>
List-Post: <mailto:test-report@dpdk.org>
List-Help: <mailto:test-report-request@dpdk.org?subject=help>
List-Subscribe: <https://mails.dpdk.org/listinfo/test-report>,
 <mailto:test-report-request@dpdk.org?subject=subscribe>
Errors-To: test-report-bounces@dpdk.org

Test-Label: iol-compile-arm64-testing
Test-Status: SUCCESS
http://dpdk.org/patch/138353

_Testing PASS_

Submitter: Chaoyong He <chaoyong.he@corigine.com>
Date: Thursday, March 14 2024 07:40:24 
DPDK git baseline: Repo:dpdk
  Branch: master
  CommitID:22b0194263b83fa09a25511b26a38597fff44a2c

138346-138353 --> testing pass

Test environment and result as below:

+----------------------------------------+--------------------+
|              Environment               | dpdk_meson_compile |
+========================================+====================+
| Ubuntu 20.04 ARM SVE                   | PASS               |
+----------------------------------------+--------------------+
| Ubuntu 20.04 aarch32 GCC Cross Compile | PASS               |
+----------------------------------------+--------------------+
| Ubuntu 20.04 ARM Clang Cross Compile   | PASS               |
+----------------------------------------+--------------------+
| Debian 12 (arm)                        | PASS               |
+----------------------------------------+--------------------+
| Fedora 37 (ARM)                        | PASS               |
+----------------------------------------+--------------------+
| CentOS Stream 9 (ARM)                  | PASS               |
+----------------------------------------+--------------------+
| Ubuntu 20.04 ARM GCC Cross Compile     | PASS               |
+----------------------------------------+--------------------+
| Debian 12 with MUSDK                   | PASS               |
+----------------------------------------+--------------------+


Ubuntu 20.04 ARM SVE
	Kernel: 5.4.0-80-generic
	Compiler: gcc 10.3.0 (Ubuntu 10.3.0-1ubuntu1~20.04)

Ubuntu 20.04 aarch32 GCC Cross Compile
	Kernel: 5.4.0-72-generic
	Compiler: gcc 9.3.0

Ubuntu 20.04 ARM Clang Cross Compile
	Kernel: 5.4.0-72-generic
	Compiler: clang version 10.0.0-4ubuntu1

Debian 12 (arm)
	Kernel: Container Host Kernel
	Compiler: gcc 11

Fedora 37 (ARM)
	Kernel: Depends on container host
	Compiler: gcc 12.3.1

CentOS Stream 9 (ARM)
	Kernel: Container Host Kernel
	Compiler: gcc 11.3.1

Ubuntu 20.04 ARM GCC Cross Compile
	Kernel: 5.4.0-72-generic
	Compiler: aarch64-linux-gnu-gcc (Ubuntu 9.3.0-17ubuntu1~20.04) 9.3.0

Debian 12 with MUSDK
	Kernel: Container Host Kernel
	Compiler: gcc 12

To view detailed results, visit:
https://lab.dpdk.org/results/dashboard/patchsets/29543/

UNH-IOL DPDK Community Lab

To manage your email subscriptions, visit: 
https://lab.dpdk.org/results/dashboard/preferences/subscriptions/