From mboxrd@z Thu Jan  1 00:00:00 1970
Return-Path: <test-report-bounces@dpdk.org>
Received: from mails.dpdk.org (mails.dpdk.org [217.70.189.124])
	by inbox.dpdk.org (Postfix) with ESMTP id 3009243CB2
	for <public@inbox.dpdk.org>; Thu, 14 Mar 2024 11:07:23 +0100 (CET)
Received: from mails.dpdk.org (localhost [127.0.0.1])
	by mails.dpdk.org (Postfix) with ESMTP id 29C8F42E33;
	Thu, 14 Mar 2024 11:07:23 +0100 (CET)
Received: from mail-qt1-f226.google.com (mail-qt1-f226.google.com
 [209.85.160.226])
 by mails.dpdk.org (Postfix) with ESMTP id BD0A8406BC
 for <test-report@dpdk.org>; Thu, 14 Mar 2024 11:06:54 +0100 (CET)
Received: by mail-qt1-f226.google.com with SMTP id
 d75a77b69052e-42ef17b4021so3755691cf.0
 for <test-report@dpdk.org>; Thu, 14 Mar 2024 03:06:54 -0700 (PDT)
DKIM-Signature: v=1; a=rsa-sha256; c=relaxed/relaxed;
 d=iol.unh.edu; s=unh-iol; t=1710410814; x=1711015614; darn=dpdk.org;
 h=references:in-reply-to:cc:to:from:subject:message-id:date:from:to
 :cc:subject:date:message-id:reply-to;
 bh=4tNdBS02gNwm33IJemoBGj92qGHLnP5hRoOR81pKL5M=;
 b=e+ydKciggHVYhemtLAmSsyA0HwVR6caUvHF5F5whfXfA17M+xmQ89/i3eZsExUEU/P
 RDt0kxkXHb9ZP2MD5fQUywQD0XhYMqohvgIsGqVnDHsx1bTLnqXyStVZJC5VIqL/kxLr
 jdPJKV+5q1/KAfDOVLST/HQnO6wwn/1eiMz1s=
X-Google-DKIM-Signature: v=1; a=rsa-sha256; c=relaxed/relaxed;
 d=1e100.net; s=20230601; t=1710410814; x=1711015614;
 h=references:in-reply-to:cc:to:from:subject:message-id:date
 :x-gm-message-state:from:to:cc:subject:date:message-id:reply-to;
 bh=4tNdBS02gNwm33IJemoBGj92qGHLnP5hRoOR81pKL5M=;
 b=SuNEuxLB5a/jhUXzaF8kxL+mWGrG919nUv/pX+hUGJQs/9ugDJffGcPks6ze0iDWaI
 HTRw42HTGx7ebAYIqcPsIQweE066tthNj/YphyO5PfpnqFYWE0bAmyClgVX3em1A3T51
 YYXKJgDUH6WPCjKVruATC3QpeWdjPZPLV2NTdGF1Pg6xES8k3tOFEv7S+xWP9rFo1833
 2/Ig3CzTMidTNBXhXRg4Ul/burn3Z+y9meOQjQfiLpTeecqO5KR/sDbUzuO3HVB/lH8G
 9hhrgGufs7h5Q//lRvTYCLVBSH4xbA7ufFnjDMOD0LzzdC9Y3qrlgdK088xP806XkWmw
 ANgQ==
X-Gm-Message-State: AOJu0Yy5r/nZDg7wf0KBFu2G2D8gGAXuNWDnrZmOMI89mN/AunRD0zDB
 cjQYc00LiG9bO5hrnZhkNDvwXlmLGhxDs10OcIo2hOWRpY5ApKsdUtctQ2HbOPkXzz6NajthlTi
 NJ2+m+B+K4Xv9XVoKYSQ2arnh6a/0/26qMvkSolZOIAhxhXXDR67it+jf
X-Google-Smtp-Source: AGHT+IEWU2rh2KYA3oLqPQYie8YG7LOQ+qeTB8iaNottPmJSxIodvU41KJ/q4JZ119jsK7i9pyDD2DLUULi8
X-Received: by 2002:a05:622a:85:b0:42e:e489:ad31 with SMTP id
 o5-20020a05622a008500b0042ee489ad31mr165815qtw.51.1710410814199; 
 Thu, 14 Mar 2024 03:06:54 -0700 (PDT)
Received: from postal.iol.unh.edu (postal.iol.unh.edu.
 [2606:4100:3880:1234::84]) by smtp-relay.gmail.com with ESMTPS id
 b4-20020ac87fc4000000b0042ed3de1793sm50853qtk.25.2024.03.14.03.06.54
 (version=TLS1_2 cipher=ECDHE-ECDSA-AES128-GCM-SHA256 bits=128/128);
 Thu, 14 Mar 2024 03:06:54 -0700 (PDT)
X-Relaying-Domain: iol.unh.edu
Date: Thu, 14 Mar 2024 03:06:54 -0700 (PDT)
Message-ID: <65f2cc3e.c80a0220.6f3fb.34c4SMTPIN_ADDED_MISSING@mx.google.com>
Received: from [172.21.0.7] (unknown [172.18.0.240])
 by postal.iol.unh.edu (Postfix) with ESMTP id EAA106052471;
 Thu, 14 Mar 2024 06:06:53 -0400 (EDT)
Subject: |SUCCESS| pw138346-138353 [PATCH] [v2,8/8] net/nfp: fix tainted scal
From: dpdklab@iol.unh.edu
To: Test Report <test-report@dpdk.org>
Cc: dpdk-test-reports@iol.unh.edu
In-Reply-To: <20240314074024.3199555-9-chaoyong.he@corigine.com>
References: <20240314074024.3199555-9-chaoyong.he@corigine.com>
Content-Type: text/plain
X-BeenThere: test-report@dpdk.org
X-Mailman-Version: 2.1.29
Precedence: list
List-Id: automatic DPDK test reports <test-report.dpdk.org>
List-Unsubscribe: <https://mails.dpdk.org/options/test-report>,
 <mailto:test-report-request@dpdk.org?subject=unsubscribe>
List-Archive: <http://mails.dpdk.org/archives/test-report/>
List-Post: <mailto:test-report@dpdk.org>
List-Help: <mailto:test-report-request@dpdk.org?subject=help>
List-Subscribe: <https://mails.dpdk.org/listinfo/test-report>,
 <mailto:test-report-request@dpdk.org?subject=subscribe>
Errors-To: test-report-bounces@dpdk.org

Test-Label: iol-compile-arm64-testing
Test-Status: SUCCESS
http://dpdk.org/patch/138353

_Testing PASS_

Submitter: Chaoyong He <chaoyong.he@corigine.com>
Date: Thursday, March 14 2024 07:40:24 
DPDK git baseline: Repo:dpdk
  Branch: master
  CommitID:22b0194263b83fa09a25511b26a38597fff44a2c

138346-138353 --> testing pass

Test environment and result as below:

+----------------------------------------+--------------------+
|              Environment               | dpdk_meson_compile |
+========================================+====================+
| Ubuntu 20.04 ARM SVE                   | PASS               |
+----------------------------------------+--------------------+
| Ubuntu 20.04 aarch32 GCC Cross Compile | PASS               |
+----------------------------------------+--------------------+
| Ubuntu 20.04 ARM Clang Cross Compile   | PASS               |
+----------------------------------------+--------------------+
| Debian 12 (arm)                        | PASS               |
+----------------------------------------+--------------------+
| Fedora 37 (ARM)                        | PASS               |
+----------------------------------------+--------------------+
| CentOS Stream 9 (ARM)                  | PASS               |
+----------------------------------------+--------------------+
| Ubuntu 20.04 ARM GCC Cross Compile     | PASS               |
+----------------------------------------+--------------------+
| Debian 12 with MUSDK                   | PASS               |
+----------------------------------------+--------------------+
| Fedora 38 (ARM)                        | PASS               |
+----------------------------------------+--------------------+
| Debian 11 (Buster) (ARM)               | PASS               |
+----------------------------------------+--------------------+
| Ubuntu 20.04 (ARM)                     | PASS               |
+----------------------------------------+--------------------+


Ubuntu 20.04 ARM SVE
	Kernel: 5.4.0-80-generic
	Compiler: gcc 10.3.0 (Ubuntu 10.3.0-1ubuntu1~20.04)

Ubuntu 20.04 aarch32 GCC Cross Compile
	Kernel: 5.4.0-72-generic
	Compiler: gcc 9.3.0

Ubuntu 20.04 ARM Clang Cross Compile
	Kernel: 5.4.0-72-generic
	Compiler: clang version 10.0.0-4ubuntu1

Debian 12 (arm)
	Kernel: Container Host Kernel
	Compiler: gcc 11

Fedora 37 (ARM)
	Kernel: Depends on container host
	Compiler: gcc 12.3.1

CentOS Stream 9 (ARM)
	Kernel: Container Host Kernel
	Compiler: gcc 11.3.1

Ubuntu 20.04 ARM GCC Cross Compile
	Kernel: 5.4.0-72-generic
	Compiler: aarch64-linux-gnu-gcc (Ubuntu 9.3.0-17ubuntu1~20.04) 9.3.0

Debian 12 with MUSDK
	Kernel: Container Host Kernel
	Compiler: gcc 12

Fedora 38 (ARM)
	Kernel: Depends on container host
	Compiler: gcc 13.1.1

Debian 11 (Buster) (ARM)
	Kernel: Container Host Kernel
	Compiler: gcc 10.2.1

Ubuntu 20.04 (ARM)
	Kernel: Container Host Kernel
	Compiler: gcc 9.4.0

To view detailed results, visit:
https://lab.dpdk.org/results/dashboard/patchsets/29543/

UNH-IOL DPDK Community Lab

To manage your email subscriptions, visit: 
https://lab.dpdk.org/results/dashboard/preferences/subscriptions/