From mboxrd@z Thu Jan  1 00:00:00 1970
Return-Path: <test-report-bounces@dpdk.org>
Received: from mails.dpdk.org (mails.dpdk.org [217.70.189.124])
	by inbox.dpdk.org (Postfix) with ESMTP id 68D7843CB2
	for <public@inbox.dpdk.org>; Thu, 14 Mar 2024 11:07:23 +0100 (CET)
Received: from mails.dpdk.org (localhost [127.0.0.1])
	by mails.dpdk.org (Postfix) with ESMTP id 657F142E89;
	Thu, 14 Mar 2024 11:07:23 +0100 (CET)
Received: from mail-il1-f227.google.com (mail-il1-f227.google.com
 [209.85.166.227])
 by mails.dpdk.org (Postfix) with ESMTP id 4B81A406BC
 for <test-report@dpdk.org>; Thu, 14 Mar 2024 11:07:18 +0100 (CET)
Received: by mail-il1-f227.google.com with SMTP id
 e9e14a558f8ab-3664c7f5a18so3399225ab.0
 for <test-report@dpdk.org>; Thu, 14 Mar 2024 03:07:18 -0700 (PDT)
DKIM-Signature: v=1; a=rsa-sha256; c=relaxed/relaxed;
 d=iol.unh.edu; s=unh-iol; t=1710410837; x=1711015637; darn=dpdk.org;
 h=references:in-reply-to:cc:to:from:subject:message-id:date:from:to
 :cc:subject:date:message-id:reply-to;
 bh=R50OgFprUZKiqNphNb8SKVodiSaTNoCYMqk+XduLxZ8=;
 b=dfx5fasZ9EKyfTL5gIlBA0e9sDnlxIJMmvt8OSrRGN1riFL0iIcI09XrtsR20Ho+Bz
 op+ESBh1JJ7Ugwer+riMJWUe4yQSWMfiiPWQV/68UvWgejaID4N9ubF7512n4HjJk7vY
 H4RuMESxZ5Ij46Vofj9ptTgc293JM/Ra6P6Fg=
X-Google-DKIM-Signature: v=1; a=rsa-sha256; c=relaxed/relaxed;
 d=1e100.net; s=20230601; t=1710410837; x=1711015637;
 h=references:in-reply-to:cc:to:from:subject:message-id:date
 :x-gm-message-state:from:to:cc:subject:date:message-id:reply-to;
 bh=R50OgFprUZKiqNphNb8SKVodiSaTNoCYMqk+XduLxZ8=;
 b=pwDoVt7hZllXooPKCaoQpXvqLw59nJ9Od+ozpaLNAW4CMRxWZ4p/oMFbRwirgCRrVw
 3Otn6vpE5CgFQtD8Sg+hY9EHMf7a5A7/SB3XV0Sr9nfcSU5quMarI6dflET8owkExzbl
 EAyR3bmAih3+6zyinsE+VJaRpggFr0EFiIUQeCuX7iFxOz6clUeE/q2qjKxITfjQi4jI
 EFXh1tAltdRZWBaWaer/xE1r1RnnLNxlm3d+VvUqcxc01UtQpt60OWz8+cxZFBnyd5ql
 wyz6+545Ctf6G4inElJzhOZsNi8+5kXb5IC8J2uuIDpuY8W521JfIYMtCwlyxlH0Z79K
 izuQ==
X-Gm-Message-State: AOJu0YxvW2ENl8SHLPyNWCd9w3PQWgKn07+yO3NoclvcGC9lniAjuaGW
 iSbttOufht+S2QaDQnDe2Z6EdZf6/3Ug35ukfM0o9gRrIrOcwDb7c5kzGBVCx2yAAsW9lpoFN0w
 tKRsMwMgYXByOjgpDu/TpHCzpH9kdGKppCUa9rQam
X-Google-Smtp-Source: AGHT+IFmQQnl1A8p3sx/GZmAEfxeM9dQ6pQAjtZWEX3YDhu4csV9w7reQN/dMgATxTvccpvRFEFeLDN7NWs9
X-Received: by 2002:a92:dc4a:0:b0:366:41b4:d9af with SMTP id
 x10-20020a92dc4a000000b0036641b4d9afmr1127155ilq.1.1710410837718; 
 Thu, 14 Mar 2024 03:07:17 -0700 (PDT)
Received: from postal.iol.unh.edu (postal.iol.unh.edu. [132.177.123.84])
 by smtp-relay.gmail.com with ESMTPS id
 o4-20020a927304000000b003639ca5f397sm14451ilc.37.2024.03.14.03.07.17
 (version=TLS1_2 cipher=ECDHE-ECDSA-AES128-GCM-SHA256 bits=128/128);
 Thu, 14 Mar 2024 03:07:17 -0700 (PDT)
X-Relaying-Domain: iol.unh.edu
Date: Thu, 14 Mar 2024 03:07:17 -0700 (PDT)
Message-ID: <65f2cc55.920a0220.c3c87.0f25SMTPIN_ADDED_MISSING@mx.google.com>
Received: from [172.21.0.8] (unknown [172.18.0.240])
 by postal.iol.unh.edu (Postfix) with ESMTP id 5BA3F6052471;
 Thu, 14 Mar 2024 06:07:17 -0400 (EDT)
Subject: |SUCCESS| pw138346-138353 [PATCH] [v2,8/8] net/nfp: fix tainted scal
From: dpdklab@iol.unh.edu
To: Test Report <test-report@dpdk.org>
Cc: dpdk-test-reports@iol.unh.edu
In-Reply-To: <20240314074024.3199555-9-chaoyong.he@corigine.com>
References: <20240314074024.3199555-9-chaoyong.he@corigine.com>
Content-Type: text/plain
X-BeenThere: test-report@dpdk.org
X-Mailman-Version: 2.1.29
Precedence: list
List-Id: automatic DPDK test reports <test-report.dpdk.org>
List-Unsubscribe: <https://mails.dpdk.org/options/test-report>,
 <mailto:test-report-request@dpdk.org?subject=unsubscribe>
List-Archive: <http://mails.dpdk.org/archives/test-report/>
List-Post: <mailto:test-report@dpdk.org>
List-Help: <mailto:test-report-request@dpdk.org?subject=help>
List-Subscribe: <https://mails.dpdk.org/listinfo/test-report>,
 <mailto:test-report-request@dpdk.org?subject=subscribe>
Errors-To: test-report-bounces@dpdk.org

Test-Label: iol-unit-arm64-testing
Test-Status: SUCCESS
http://dpdk.org/patch/138353

_Testing PASS_

Submitter: Chaoyong He <chaoyong.he@corigine.com>
Date: Thursday, March 14 2024 07:40:24 
DPDK git baseline: Repo:dpdk
  Branch: master
  CommitID:22b0194263b83fa09a25511b26a38597fff44a2c

138346-138353 --> testing pass

Test environment and result as below:

+--------------------------+------------------------------+---------------------------+--------------+----------------+
|       Environment        | cryptodev_sw_snow3g_autotest | cryptodev_sw_zuc_autotest | lpm_autotest | dpdk_unit_test |
+==========================+==============================+===========================+==============+================+
| Debian 12 (arm)          | PASS                         | PASS                      | SKIPPED      | PASS           |
+--------------------------+------------------------------+---------------------------+--------------+----------------+
| Ubuntu 20.04 ARM SVE     | SKIPPED                      | SKIPPED                   | PASS         | SKIPPED        |
+--------------------------+------------------------------+---------------------------+--------------+----------------+
| CentOS Stream 9 (ARM)    | SKIPPED                      | SKIPPED                   | SKIPPED      | PASS           |
+--------------------------+------------------------------+---------------------------+--------------+----------------+
| Debian 11 (Buster) (ARM) | SKIPPED                      | SKIPPED                   | SKIPPED      | PASS           |
+--------------------------+------------------------------+---------------------------+--------------+----------------+
| Fedora 37 (ARM)          | SKIPPED                      | SKIPPED                   | SKIPPED      | PASS           |
+--------------------------+------------------------------+---------------------------+--------------+----------------+


Debian 12 (arm)
	Kernel: Container Host Kernel
	Compiler: gcc 11

Ubuntu 20.04 ARM SVE
	Kernel: 5.4.0-80-generic
	Compiler: gcc 10.3.0 (Ubuntu 10.3.0-1ubuntu1~20.04)

CentOS Stream 9 (ARM)
	Kernel: Container Host Kernel
	Compiler: gcc 11.3.1

Debian 11 (Buster) (ARM)
	Kernel: Container Host Kernel
	Compiler: gcc 10.2.1

Fedora 37 (ARM)
	Kernel: Depends on container host
	Compiler: gcc 12.3.1

To view detailed results, visit:
https://lab.dpdk.org/results/dashboard/patchsets/29543/

UNH-IOL DPDK Community Lab

To manage your email subscriptions, visit: 
https://lab.dpdk.org/results/dashboard/preferences/subscriptions/