From mboxrd@z Thu Jan  1 00:00:00 1970
Return-Path: <test-report-bounces@dpdk.org>
Received: from mails.dpdk.org (mails.dpdk.org [217.70.189.124])
	by inbox.dpdk.org (Postfix) with ESMTP id 7448E43CA1
	for <public@inbox.dpdk.org>; Thu, 14 Mar 2024 11:41:40 +0100 (CET)
Received: from mails.dpdk.org (localhost [127.0.0.1])
	by mails.dpdk.org (Postfix) with ESMTP id 6C7C7406BC;
	Thu, 14 Mar 2024 11:41:40 +0100 (CET)
Received: from mail-oo1-f100.google.com (mail-oo1-f100.google.com
 [209.85.161.100])
 by mails.dpdk.org (Postfix) with ESMTP id 9438240297
 for <test-report@dpdk.org>; Thu, 14 Mar 2024 11:41:39 +0100 (CET)
Received: by mail-oo1-f100.google.com with SMTP id
 006d021491bc7-5a42b23aebfso449014eaf.0
 for <test-report@dpdk.org>; Thu, 14 Mar 2024 03:41:39 -0700 (PDT)
DKIM-Signature: v=1; a=rsa-sha256; c=relaxed/relaxed;
 d=iol.unh.edu; s=unh-iol; t=1710412899; x=1711017699; darn=dpdk.org;
 h=references:in-reply-to:cc:to:from:subject:message-id:date:from:to
 :cc:subject:date:message-id:reply-to;
 bh=8L2UG3wyI0NQ/1aFEKES1ECi/8mNLCIHYu77Oj1xGrE=;
 b=VWOM94++WtFXwz3lihEumWybjINZMNlvMaVyVgkD7KU16bondlknld2rDdrWlka4bE
 /69XjKkkuV6bkEl9SCJq6+Vh5oAeFGrUYXlMCMyqgfRTeydRdByJ+6BzkEtPuZ9vgMZ2
 slU3qU9hDW+ASg64xkFNWJwdlGTjrFoy+iQ0g=
X-Google-DKIM-Signature: v=1; a=rsa-sha256; c=relaxed/relaxed;
 d=1e100.net; s=20230601; t=1710412899; x=1711017699;
 h=references:in-reply-to:cc:to:from:subject:message-id:date
 :x-gm-message-state:from:to:cc:subject:date:message-id:reply-to;
 bh=8L2UG3wyI0NQ/1aFEKES1ECi/8mNLCIHYu77Oj1xGrE=;
 b=TvP6cRKeSjGN1z/VAAOnk01zbNavhpXrQuyWWFl2mq3ttQjcEEqD+qse6Y63qw2hFR
 y7SnnkARK2pIVlAXQu9qgEz4v6xZEubuhCQcmKtGedE+sR8Y+mSqjKJpe4PYpX/FiUu8
 dVvE3BDOMpyii7ZJqF0QVOfo1Y2+UjiCCTwWvr1u/atzOfXVQUqMxf0JkTFjZJmvfNk3
 +/gVDtfDDQzL+jfjB9d/NegUiqCEeuGKUWVykFX2aXwlOE5gTXKA4G1EjqnlhOFpaIjC
 ommCJdB8oKM1VIWF9Tl6ugqpLWQaUw0lqdyFU5YwzKcI+3yNxTwlcAyHFJpw5ByOreKg
 9P9w==
X-Gm-Message-State: AOJu0YzO4N3nec6soA5uB/xlylBd7rLd8PnroW91a/8zb/gtMFKbnQ+Q
 51AG3jNY+JOkIE4Rn+P1BGIVJ4bji6P6SDM7O+5YqkeCNdvqedO5zeyd/5biISsG9Xd1/wZTBDa
 WN9Pv1pM3LPQKEYnOK423YEGRmPB1xMlnulemdmI0
X-Google-Smtp-Source: AGHT+IHosm8pCu4wQ9os0l6jW9zWaKo5mCaYiGAZe7fCBoLb9EBmo/nTC/sjCGt/pDMMAI3SOFuNr2i30auU
X-Received: by 2002:a05:6820:54e:b0:5a1:6df2:44fb with SMTP id
 n14-20020a056820054e00b005a16df244fbmr1726308ooj.4.1710412898799; 
 Thu, 14 Mar 2024 03:41:38 -0700 (PDT)
Received: from postal.iol.unh.edu (postal.iol.unh.edu. [132.177.123.84])
 by smtp-relay.gmail.com with ESMTPS id
 u8-20020a4aae88000000b005a21c91d09fsm10574oon.12.2024.03.14.03.41.38
 (version=TLS1_2 cipher=ECDHE-ECDSA-AES128-GCM-SHA256 bits=128/128);
 Thu, 14 Mar 2024 03:41:38 -0700 (PDT)
X-Relaying-Domain: iol.unh.edu
Date: Thu, 14 Mar 2024 03:41:38 -0700 (PDT)
Message-ID: <65f2d462.4a0a0220.33ae2.0db5SMTPIN_ADDED_MISSING@mx.google.com>
Received: from [172.17.0.7] (unknown [172.18.0.217])
 by postal.iol.unh.edu (Postfix) with ESMTP id 6497D6052471;
 Thu, 14 Mar 2024 06:41:38 -0400 (EDT)
Subject: |SUCCESS| pw138346-138353 [PATCH] [v2,8/8] net/nfp: fix tainted scal
From: dpdklab@iol.unh.edu
To: Test Report <test-report@dpdk.org>
Cc: dpdk-test-reports@iol.unh.edu
In-Reply-To: <20240314074024.3199555-9-chaoyong.he@corigine.com>
References: <20240314074024.3199555-9-chaoyong.he@corigine.com>
Content-Type: text/plain
X-BeenThere: test-report@dpdk.org
X-Mailman-Version: 2.1.29
Precedence: list
List-Id: automatic DPDK test reports <test-report.dpdk.org>
List-Unsubscribe: <https://mails.dpdk.org/options/test-report>,
 <mailto:test-report-request@dpdk.org?subject=unsubscribe>
List-Archive: <http://mails.dpdk.org/archives/test-report/>
List-Post: <mailto:test-report@dpdk.org>
List-Help: <mailto:test-report-request@dpdk.org?subject=help>
List-Subscribe: <https://mails.dpdk.org/listinfo/test-report>,
 <mailto:test-report-request@dpdk.org?subject=subscribe>
Errors-To: test-report-bounces@dpdk.org

Test-Label: iol-unit-amd64-testing
Test-Status: SUCCESS
http://dpdk.org/patch/138353

_Testing PASS_

Submitter: Chaoyong He <chaoyong.he@corigine.com>
Date: Thursday, March 14 2024 07:40:24 
DPDK git baseline: Repo:dpdk
  Branch: master
  CommitID:22b0194263b83fa09a25511b26a38597fff44a2c

138346-138353 --> testing pass

Test environment and result as below:

+---------------------+----------------+
|     Environment     | dpdk_unit_test |
+=====================+================+
| CentOS Stream 8     | PASS           |
+---------------------+----------------+
| Debian 12 (arm)     | PASS           |
+---------------------+----------------+
| Ubuntu 22.04        | PASS           |
+---------------------+----------------+
| Debian Bullseye     | PASS           |
+---------------------+----------------+
| CentOS Stream 9     | PASS           |
+---------------------+----------------+
| Fedora 38           | PASS           |
+---------------------+----------------+
| openSUSE Leap 15    | PASS           |
+---------------------+----------------+
| RHEL8               | PASS           |
+---------------------+----------------+
| Ubuntu 20.04        | PASS           |
+---------------------+----------------+
| Fedora 37           | PASS           |
+---------------------+----------------+
| Windows Server 2019 | PASS           |
+---------------------+----------------+
| Windows Server 2022 | PASS           |
+---------------------+----------------+


CentOS Stream 8
	Kernel: 4.18.0-240.10.1.el8_3.x86_64
	Compiler: gcc 8.4.1 20200928

Debian 12 (arm)
	Kernel: Container Host Kernel
	Compiler: gcc 11

Ubuntu 22.04
	Kernel: 4.18.0-240.10.1.el8_3.x86_64
	Compiler: gcc 11.3.0

Debian Bullseye
	Kernel: 5.4.0-122-generic
	Compiler: gcc 10.2.1-6

CentOS Stream 9
	Kernel: 4.18.0-240.10.1.el8_3.x86_64
	Compiler: gcc 11.3.1 20220421

Fedora 38
	Kernel: Depends on container host
	Compiler: gcc 13.1.1

openSUSE Leap 15
	Kernel: 4.18.0-240.10.1.el8_3.x86_64
	Compiler: gcc 7.5.0

RHEL8
	Kernel: 4.18.0-240.10.1.el8_3.x86_64
	Compiler: gcc 8.3.1 20191121 (Red Hat 8.3.1-5)

Ubuntu 20.04
	Kernel: 5.4.0-153-generic
	Compiler: gcc 9.4.0-1ubuntu1~20.04.1

Fedora 37
	Kernel: Depends on container host system
	Compiler: gcc 12.3.1

Windows Server 2019
	Kernel: 10.0
	Compiler: clang 14.0 and gcc 8.1.0 (MinGW)

Windows Server 2022
	Kernel: OS Build 20348.2031
	Compiler: MSVC VS-Preview

To view detailed results, visit:
https://lab.dpdk.org/results/dashboard/patchsets/29543/

UNH-IOL DPDK Community Lab

To manage your email subscriptions, visit: 
https://lab.dpdk.org/results/dashboard/preferences/subscriptions/