From mboxrd@z Thu Jan  1 00:00:00 1970
Return-Path: <test-report-bounces@dpdk.org>
Received: from mails.dpdk.org (mails.dpdk.org [217.70.189.124])
	by inbox.dpdk.org (Postfix) with ESMTP id E34BE43CA1
	for <public@inbox.dpdk.org>; Thu, 14 Mar 2024 11:43:16 +0100 (CET)
Received: from mails.dpdk.org (localhost [127.0.0.1])
	by mails.dpdk.org (Postfix) with ESMTP id DAEFD406BC;
	Thu, 14 Mar 2024 11:43:16 +0100 (CET)
Received: from mail-yw1-f226.google.com (mail-yw1-f226.google.com
 [209.85.128.226])
 by mails.dpdk.org (Postfix) with ESMTP id 6129B40297
 for <test-report@dpdk.org>; Thu, 14 Mar 2024 11:43:15 +0100 (CET)
Received: by mail-yw1-f226.google.com with SMTP id
 00721157ae682-609f3ca61e0so8881117b3.3
 for <test-report@dpdk.org>; Thu, 14 Mar 2024 03:43:15 -0700 (PDT)
DKIM-Signature: v=1; a=rsa-sha256; c=relaxed/relaxed;
 d=iol.unh.edu; s=unh-iol; t=1710412995; x=1711017795; darn=dpdk.org;
 h=references:in-reply-to:cc:to:from:subject:message-id:date:from:to
 :cc:subject:date:message-id:reply-to;
 bh=YhlZhlrS1QEi6/7UtIcekZYxVUKLVtOFrFbhtVW04WA=;
 b=b9rhPDBlYs6gseQobVmpoUkeiQ1J12HnI3LOIQXUhqRjHK6sHd0vJPnvWe6N4ppSK3
 5yMRfw3l/4e7KA9R1cH0sON8Or4MfufIyysKchmJCcN5VSuLWx+9lBGnCtN5v6sHA0GZ
 D26laNCar66//9458DcgBlZ2SKtCYcXeh+8VI=
X-Google-DKIM-Signature: v=1; a=rsa-sha256; c=relaxed/relaxed;
 d=1e100.net; s=20230601; t=1710412995; x=1711017795;
 h=references:in-reply-to:cc:to:from:subject:message-id:date
 :x-gm-message-state:from:to:cc:subject:date:message-id:reply-to;
 bh=YhlZhlrS1QEi6/7UtIcekZYxVUKLVtOFrFbhtVW04WA=;
 b=G318+diD5uBRRSChg7/nkmIMxt9hxSIng0g0gKAu2RBqflDzflZGuoUF5LOFmO8T1b
 SMqVe9JLb/2OvD0CVnDq952xi6SIdeZ++Kv2bPgYKvnSRO2Sz9aRlQENSeok5nrLy5Zu
 KbDo8IO5UT3c1TNhmA2u17Xd5MpPPx3eTsch3bp+tSqwVjEFhKccs046TDhHUcGPiEpi
 LhrxGz8dsIkL95ZwTfqXqsjmJIPsfhJBtkGm7Iz4RILt7NsrxKwVPcygof6L30vGSGuX
 ZmjlybCfibazkkedQoqPxIhqZ8kVAZyxN67kmOSfQ1oEAIxDjZhDqJAEPXOtQJfTwlwr
 26bA==
X-Gm-Message-State: AOJu0Yzfgl+Pp/YDxc/ET+EoDrNHNVYKB3s+mq7hAfuMEv6Cvx0g6Zmq
 SO2d24RQcZ57dlRFEzSR75IfVvLetf1lSFS/Q3hHaWpDxwc30EwFANkPrCYd9kqzxQncuFyBqHX
 /lVyPJuLzkb+WtKf03MDyYdw4ojZjtvuFr9QV2rV9jpplP68f5g+oIFns
X-Google-Smtp-Source: AGHT+IHQFJZQPSXDDxXrn9PxZpo0ll/KPcqDD2RfVifnGMci8Kbqs/zES9sRhPAB6VfrsH42LPVagaA1fCke
X-Received: by 2002:a0d:fa01:0:b0:609:651f:7573 with SMTP id
 k1-20020a0dfa01000000b00609651f7573mr1214706ywf.52.1710412994781; 
 Thu, 14 Mar 2024 03:43:14 -0700 (PDT)
Received: from postal.iol.unh.edu (postal.iol.unh.edu.
 [2606:4100:3880:1234::84]) by smtp-relay.gmail.com with ESMTPS id
 a187-20020a0df1c4000000b00609f58cdca6sm83083ywf.43.2024.03.14.03.43.14
 (version=TLS1_2 cipher=ECDHE-ECDSA-AES128-GCM-SHA256 bits=128/128);
 Thu, 14 Mar 2024 03:43:14 -0700 (PDT)
X-Relaying-Domain: iol.unh.edu
Date: Thu, 14 Mar 2024 03:43:14 -0700 (PDT)
Message-ID: <65f2d4c2.0d0a0220.7c046.60b8SMTPIN_ADDED_MISSING@mx.google.com>
Received: from [172.17.0.7] (unknown [172.18.0.217])
 by postal.iol.unh.edu (Postfix) with ESMTP id 77FDA6052471;
 Thu, 14 Mar 2024 06:43:14 -0400 (EDT)
Subject: |SUCCESS| pw138372-138374 [PATCH] [3/3] net/vdev: fix insert vdev co
From: dpdklab@iol.unh.edu
To: Test Report <test-report@dpdk.org>
Cc: dpdk-test-reports@iol.unh.edu
In-Reply-To: <20240314093630.1066948-4-mingjinx.ye@intel.com>
References: <20240314093630.1066948-4-mingjinx.ye@intel.com>
Content-Type: text/plain
X-BeenThere: test-report@dpdk.org
X-Mailman-Version: 2.1.29
Precedence: list
List-Id: automatic DPDK test reports <test-report.dpdk.org>
List-Unsubscribe: <https://mails.dpdk.org/options/test-report>,
 <mailto:test-report-request@dpdk.org?subject=unsubscribe>
List-Archive: <http://mails.dpdk.org/archives/test-report/>
List-Post: <mailto:test-report@dpdk.org>
List-Help: <mailto:test-report-request@dpdk.org?subject=help>
List-Subscribe: <https://mails.dpdk.org/listinfo/test-report>,
 <mailto:test-report-request@dpdk.org?subject=subscribe>
Errors-To: test-report-bounces@dpdk.org

Test-Label: iol-compile-amd64-testing
Test-Status: SUCCESS
http://dpdk.org/patch/138374

_Testing PASS_

Submitter: Mingjin Ye <mingjinx.ye@intel.com>
Date: Thursday, March 14 2024 09:36:30 
DPDK git baseline: Repo:dpdk
  Branch: master
  CommitID:cd218549b686d6be394ef3b171eafa16c038bfe3

138372-138374 --> testing pass

Test environment and result as below:

+---------------------+--------------------+----------------------+
|     Environment     | dpdk_meson_compile | dpdk_mingw64_compile |
+=====================+====================+======================+
| Debian 12 (arm)     | PASS               | SKIPPED              |
+---------------------+--------------------+----------------------+
| Debian Bullseye     | PASS               | SKIPPED              |
+---------------------+--------------------+----------------------+
| CentOS Stream 8     | PASS               | SKIPPED              |
+---------------------+--------------------+----------------------+
| CentOS Stream 9     | PASS               | SKIPPED              |
+---------------------+--------------------+----------------------+
| Ubuntu 20.04        | PASS               | SKIPPED              |
+---------------------+--------------------+----------------------+
| FreeBSD 13.2        | PASS               | SKIPPED              |
+---------------------+--------------------+----------------------+
| Windows Server 2022 | PASS               | SKIPPED              |
+---------------------+--------------------+----------------------+
| Fedora 37           | PASS               | SKIPPED              |
+---------------------+--------------------+----------------------+
| Fedora 38           | PASS               | SKIPPED              |
+---------------------+--------------------+----------------------+
| Ubuntu 22.04        | PASS               | SKIPPED              |
+---------------------+--------------------+----------------------+
| Windows Server 2019 | PASS               | PASS                 |
+---------------------+--------------------+----------------------+
| openSUSE Leap 15    | PASS               | SKIPPED              |
+---------------------+--------------------+----------------------+
| Alpine              | PASS               | SKIPPED              |
+---------------------+--------------------+----------------------+


Debian 12 (arm)
	Kernel: Container Host Kernel
	Compiler: gcc 11

Debian Bullseye
	Kernel: 5.4.0-122-generic
	Compiler: gcc 10.2.1-6

CentOS Stream 8
	Kernel: 4.18.0-240.10.1.el8_3.x86_64
	Compiler: gcc 8.4.1 20200928

CentOS Stream 9
	Kernel: 4.18.0-240.10.1.el8_3.x86_64
	Compiler: gcc 11.3.1 20220421

Ubuntu 20.04
	Kernel: 5.4.0-153-generic
	Compiler: gcc 9.4.0-1ubuntu1~20.04.1

FreeBSD 13.2
	Kernel: 13.2
	Compiler: clang 11.3.0

Windows Server 2022
	Kernel: OS Build 20348.2031
	Compiler: MSVC VS-Preview

Fedora 37
	Kernel: Depends on container host system
	Compiler: gcc 12.3.1

Fedora 38
	Kernel: Depends on container host
	Compiler: gcc 13.1.1

Ubuntu 22.04
	Kernel: 4.18.0-240.10.1.el8_3.x86_64
	Compiler: gcc 11.3.0

Windows Server 2019
	Kernel: 10.0
	Compiler: clang 14.0 and gcc 8.1.0 (MinGW)

openSUSE Leap 15
	Kernel: 4.18.0-240.10.1.el8_3.x86_64
	Compiler: gcc 7.5.0

Alpine
	Kernel: 5.4.0-73-generic
	Compiler: gcc (Alpine 10.3.1_git20210424) 10.3.1 20210424

To view detailed results, visit:
https://lab.dpdk.org/results/dashboard/patchsets/29546/

UNH-IOL DPDK Community Lab

To manage your email subscriptions, visit: 
https://lab.dpdk.org/results/dashboard/preferences/subscriptions/