From mboxrd@z Thu Jan  1 00:00:00 1970
Return-Path: <test-report-bounces@dpdk.org>
Received: from mails.dpdk.org (mails.dpdk.org [217.70.189.124])
	by inbox.dpdk.org (Postfix) with ESMTP id 26B4F43CA1
	for <public@inbox.dpdk.org>; Thu, 14 Mar 2024 11:43:59 +0100 (CET)
Received: from mails.dpdk.org (localhost [127.0.0.1])
	by mails.dpdk.org (Postfix) with ESMTP id 223A3406BC;
	Thu, 14 Mar 2024 11:43:59 +0100 (CET)
Received: from mail-io1-f100.google.com (mail-io1-f100.google.com
 [209.85.166.100])
 by mails.dpdk.org (Postfix) with ESMTP id 4DA3540297
 for <test-report@dpdk.org>; Thu, 14 Mar 2024 11:43:57 +0100 (CET)
Received: by mail-io1-f100.google.com with SMTP id
 ca18e2360f4ac-7c89cd8df36so19256839f.1
 for <test-report@dpdk.org>; Thu, 14 Mar 2024 03:43:57 -0700 (PDT)
DKIM-Signature: v=1; a=rsa-sha256; c=relaxed/relaxed;
 d=iol.unh.edu; s=unh-iol; t=1710413036; x=1711017836; darn=dpdk.org;
 h=references:in-reply-to:cc:to:from:subject:message-id:date:from:to
 :cc:subject:date:message-id:reply-to;
 bh=YhlZhlrS1QEi6/7UtIcekZYxVUKLVtOFrFbhtVW04WA=;
 b=Ht/zQa2frjDqluQbPfVYQiRnKSezZn0WA4wv50LRkYlSYvy2b8iiUprWNCaKFR+9T3
 JnfYg1+lhFglH9kQJH1CBl89RCQdRrpSYAk+kAqeR1w7fZdTwOvh7yApNygvlZkc99Pf
 DktAmeXT99yCpHdfbzrx4OdTPv16RvdGU8j3A=
X-Google-DKIM-Signature: v=1; a=rsa-sha256; c=relaxed/relaxed;
 d=1e100.net; s=20230601; t=1710413036; x=1711017836;
 h=references:in-reply-to:cc:to:from:subject:message-id:date
 :x-gm-message-state:from:to:cc:subject:date:message-id:reply-to;
 bh=YhlZhlrS1QEi6/7UtIcekZYxVUKLVtOFrFbhtVW04WA=;
 b=c/UYouZlBm7xUinFXEG+JY4XyCo5BWS2nhbA9J6m3XtDAeCNtiC+eZSne3XyT3Hpyo
 J7h6ZRahjkWsSvr4B3oxrVkSVoJnkRJv1BFzUSQ347LDZLMnYqEYzDKXEB2I4tnRrQuL
 8IU+bsyt+0s4bej/AnZrMPl5INt1t/3dIRrd3Vqeh6flJgQ/zLhx9dukek+wfrIem6ge
 Efk655rmnamVQNJgQzhmDak4A9HAtLMPMjigcYGE5h3bCWqcas76NHytAzoAUpk7Cfxn
 grB3CLOtfzOf5z3CIWKUhrrevGHvJAcfa/Eiuk5mT2g8/5DBJg+i4pdagyM4x5nhAzXZ
 cmMA==
X-Gm-Message-State: AOJu0Yyoqs/AFE6opf1qJiDsZEHxrBjK5YGOF0RqZnMS+hgMHBC88qIY
 ef4mkOifvP+JgCCV0MaPyZnxbwC2x7vrnVeUAM5Ssphzcg3mlXhJzwMJ2tMh1G1x49Ncpr0tNvM
 eNLUQmTTGuZK4G/vHc696U5LxsUyksqKfMFfudbcZ4U5Cs+zS6Y+7smOJ
X-Google-Smtp-Source: AGHT+IHt2Es8F0d2/KUi3aIq6MCIJ9Rmn7XTP8EOE0DQAuKrERYFQ40EhXhZ9TvzNOu0fMLPXaU4Y4QGSnSr
X-Received: by 2002:a5e:df45:0:b0:7c8:ad73:a703 with SMTP id
 g5-20020a5edf45000000b007c8ad73a703mr1809860ioq.0.1710413036766; 
 Thu, 14 Mar 2024 03:43:56 -0700 (PDT)
Received: from postal.iol.unh.edu (postal.iol.unh.edu.
 [2606:4100:3880:1234::84]) by smtp-relay.gmail.com with ESMTPS id
 fc17-20020a0566023fd100b007c8b65af9ebsm35377iob.25.2024.03.14.03.43.56
 (version=TLS1_2 cipher=ECDHE-ECDSA-AES128-GCM-SHA256 bits=128/128);
 Thu, 14 Mar 2024 03:43:56 -0700 (PDT)
X-Relaying-Domain: iol.unh.edu
Date: Thu, 14 Mar 2024 03:43:56 -0700 (PDT)
Message-ID: <65f2d4ec.050a0220.6e612.24fdSMTPIN_ADDED_MISSING@mx.google.com>
Received: from [172.17.0.8] (unknown [172.18.0.217])
 by postal.iol.unh.edu (Postfix) with ESMTP id 661256052471;
 Thu, 14 Mar 2024 06:43:56 -0400 (EDT)
Subject: |SUCCESS| pw138372-138374 [PATCH] [3/3] net/vdev: fix insert vdev co
From: dpdklab@iol.unh.edu
To: Test Report <test-report@dpdk.org>
Cc: dpdk-test-reports@iol.unh.edu
In-Reply-To: <20240314093630.1066948-4-mingjinx.ye@intel.com>
References: <20240314093630.1066948-4-mingjinx.ye@intel.com>
Content-Type: text/plain
X-BeenThere: test-report@dpdk.org
X-Mailman-Version: 2.1.29
Precedence: list
List-Id: automatic DPDK test reports <test-report.dpdk.org>
List-Unsubscribe: <https://mails.dpdk.org/options/test-report>,
 <mailto:test-report-request@dpdk.org?subject=unsubscribe>
List-Archive: <http://mails.dpdk.org/archives/test-report/>
List-Post: <mailto:test-report@dpdk.org>
List-Help: <mailto:test-report-request@dpdk.org?subject=help>
List-Subscribe: <https://mails.dpdk.org/listinfo/test-report>,
 <mailto:test-report-request@dpdk.org?subject=subscribe>
Errors-To: test-report-bounces@dpdk.org

Test-Label: iol-compile-amd64-testing
Test-Status: SUCCESS
http://dpdk.org/patch/138374

_Testing PASS_

Submitter: Mingjin Ye <mingjinx.ye@intel.com>
Date: Thursday, March 14 2024 09:36:30 
DPDK git baseline: Repo:dpdk
  Branch: master
  CommitID:cd218549b686d6be394ef3b171eafa16c038bfe3

138372-138374 --> testing pass

Test environment and result as below:

+---------------------+--------------------+----------------------+
|     Environment     | dpdk_meson_compile | dpdk_mingw64_compile |
+=====================+====================+======================+
| Debian 12 (arm)     | PASS               | SKIPPED              |
+---------------------+--------------------+----------------------+
| Debian Bullseye     | PASS               | SKIPPED              |
+---------------------+--------------------+----------------------+
| CentOS Stream 8     | PASS               | SKIPPED              |
+---------------------+--------------------+----------------------+
| CentOS Stream 9     | PASS               | SKIPPED              |
+---------------------+--------------------+----------------------+
| Ubuntu 20.04        | PASS               | SKIPPED              |
+---------------------+--------------------+----------------------+
| FreeBSD 13.2        | PASS               | SKIPPED              |
+---------------------+--------------------+----------------------+
| Windows Server 2022 | PASS               | SKIPPED              |
+---------------------+--------------------+----------------------+
| Fedora 37           | PASS               | SKIPPED              |
+---------------------+--------------------+----------------------+
| Fedora 38           | PASS               | SKIPPED              |
+---------------------+--------------------+----------------------+
| Ubuntu 22.04        | PASS               | SKIPPED              |
+---------------------+--------------------+----------------------+
| Windows Server 2019 | PASS               | PASS                 |
+---------------------+--------------------+----------------------+
| openSUSE Leap 15    | PASS               | SKIPPED              |
+---------------------+--------------------+----------------------+
| Alpine              | PASS               | SKIPPED              |
+---------------------+--------------------+----------------------+


Debian 12 (arm)
	Kernel: Container Host Kernel
	Compiler: gcc 11

Debian Bullseye
	Kernel: 5.4.0-122-generic
	Compiler: gcc 10.2.1-6

CentOS Stream 8
	Kernel: 4.18.0-240.10.1.el8_3.x86_64
	Compiler: gcc 8.4.1 20200928

CentOS Stream 9
	Kernel: 4.18.0-240.10.1.el8_3.x86_64
	Compiler: gcc 11.3.1 20220421

Ubuntu 20.04
	Kernel: 5.4.0-153-generic
	Compiler: gcc 9.4.0-1ubuntu1~20.04.1

FreeBSD 13.2
	Kernel: 13.2
	Compiler: clang 11.3.0

Windows Server 2022
	Kernel: OS Build 20348.2031
	Compiler: MSVC VS-Preview

Fedora 37
	Kernel: Depends on container host system
	Compiler: gcc 12.3.1

Fedora 38
	Kernel: Depends on container host
	Compiler: gcc 13.1.1

Ubuntu 22.04
	Kernel: 4.18.0-240.10.1.el8_3.x86_64
	Compiler: gcc 11.3.0

Windows Server 2019
	Kernel: 10.0
	Compiler: clang 14.0 and gcc 8.1.0 (MinGW)

openSUSE Leap 15
	Kernel: 4.18.0-240.10.1.el8_3.x86_64
	Compiler: gcc 7.5.0

Alpine
	Kernel: 5.4.0-73-generic
	Compiler: gcc (Alpine 10.3.1_git20210424) 10.3.1 20210424

To view detailed results, visit:
https://lab.dpdk.org/results/dashboard/patchsets/29546/

UNH-IOL DPDK Community Lab

To manage your email subscriptions, visit: 
https://lab.dpdk.org/results/dashboard/preferences/subscriptions/