From mboxrd@z Thu Jan  1 00:00:00 1970
Return-Path: <test-report-bounces@dpdk.org>
Received: from mails.dpdk.org (mails.dpdk.org [217.70.189.124])
	by inbox.dpdk.org (Postfix) with ESMTP id C208443CA1
	for <public@inbox.dpdk.org>; Thu, 14 Mar 2024 11:58:56 +0100 (CET)
Received: from mails.dpdk.org (localhost [127.0.0.1])
	by mails.dpdk.org (Postfix) with ESMTP id BD727406BC;
	Thu, 14 Mar 2024 11:58:56 +0100 (CET)
Received: from mail-oo1-f100.google.com (mail-oo1-f100.google.com
 [209.85.161.100])
 by mails.dpdk.org (Postfix) with ESMTP id C07EC40297
 for <test-report@dpdk.org>; Thu, 14 Mar 2024 11:58:45 +0100 (CET)
Received: by mail-oo1-f100.google.com with SMTP id
 006d021491bc7-5a128e202b6so353205eaf.2
 for <test-report@dpdk.org>; Thu, 14 Mar 2024 03:58:45 -0700 (PDT)
DKIM-Signature: v=1; a=rsa-sha256; c=relaxed/relaxed;
 d=iol.unh.edu; s=unh-iol; t=1710413925; x=1711018725; darn=dpdk.org;
 h=references:in-reply-to:cc:to:from:subject:message-id:date:from:to
 :cc:subject:date:message-id:reply-to;
 bh=VgXo6x8wLH9rZqdrY1PdmrNB/TFrQved6ztSwPtJIDE=;
 b=Z7dBxaJia0eZNynzTmRlRYz5ibkOlA9XS0b3fcaso9C9+fKkbtPGaJ6bcDC/7OoI4U
 soylkVdpMRgz5kzhjJ3GtjkZmy4fD2tzsPWKjMXY8wL36UZIPaBtWnwt91ZoLUAHuLni
 +UHdZSMXkQ8jo2wgzlI2OWYIj7k9RbpxMs8G8=
X-Google-DKIM-Signature: v=1; a=rsa-sha256; c=relaxed/relaxed;
 d=1e100.net; s=20230601; t=1710413925; x=1711018725;
 h=references:in-reply-to:cc:to:from:subject:message-id:date
 :x-gm-message-state:from:to:cc:subject:date:message-id:reply-to;
 bh=VgXo6x8wLH9rZqdrY1PdmrNB/TFrQved6ztSwPtJIDE=;
 b=dIxUrr0H4BcOx+yXBCu6/VDe75lJ3fJpYl+MOdsTHyqMt6zcKoSET82DS43dcsCbJB
 KbM2lpaJsoT0D7QmnxOBYfzwJrnuRsKZcdQlQqG8OlwUH/4hRQogHweFAg7xQVQP2pyK
 jRN+5B8yo0aXWZYCHExptDLog6cTKna2rLPTQcnuAJOjgHizT8/m7nDXL9md1lm4d5Je
 1Hsec/ZHMHu6un1IVFqxsnCfikjWoWzRwlHgIczirZd69SDnGgiU8VhZmjCdMUrsjFqI
 IZcM68pxtT/jM4dxUX6z0UgWrGP6A9/DGGTWJVrrUQiPvo8aTTyzLK8ldNHuiG64YFjs
 kWFA==
X-Gm-Message-State: AOJu0YzGUOuOh1EEy3spI1p4rLnTWpa4E62spNS9qgp+SiG2FlXp7nAE
 egTSkd45ULJZWTjzdmhXqp+VWqlgHSVmRusLf561Ypg9DMMpJcGNK8/D2lEu9xLXn2zMnaX8abH
 deXPqe+4IFHXW34azEKNaVEYr/DPXWMKdkvFLCWtztUNrO1xJ6tVPE+Qq
X-Google-Smtp-Source: AGHT+IGmIO+rkfbI9t2sn9u6C7r0j6mz72Rll/YGz2EYrWKgROCybDmEITCftC80APvSJg+wdhe5uJeTE70u
X-Received: by 2002:a05:6820:221e:b0:5a1:3995:fb47 with SMTP id
 cj30-20020a056820221e00b005a13995fb47mr1826933oob.5.1710413925096; 
 Thu, 14 Mar 2024 03:58:45 -0700 (PDT)
Received: from postal.iol.unh.edu (postal.iol.unh.edu.
 [2606:4100:3880:1234::84]) by smtp-relay.gmail.com with ESMTPS id
 bb36-20020a056820162400b0059d6acf7055sm11445oob.4.2024.03.14.03.58.45
 (version=TLS1_2 cipher=ECDHE-ECDSA-AES128-GCM-SHA256 bits=128/128);
 Thu, 14 Mar 2024 03:58:45 -0700 (PDT)
X-Relaying-Domain: iol.unh.edu
Date: Thu, 14 Mar 2024 03:58:45 -0700 (PDT)
Message-ID: <65f2d865.050a0220.91568.0bc2SMTPIN_ADDED_MISSING@mx.google.com>
Received: from [172.17.0.8] (unknown [172.18.0.217])
 by postal.iol.unh.edu (Postfix) with ESMTP id 8FBE06052471;
 Thu, 14 Mar 2024 06:58:44 -0400 (EDT)
Subject: |SUCCESS| pw138372-138374 [PATCH] [3/3] net/vdev: fix insert vdev co
From: dpdklab@iol.unh.edu
To: Test Report <test-report@dpdk.org>
Cc: dpdk-test-reports@iol.unh.edu
In-Reply-To: <20240314093630.1066948-4-mingjinx.ye@intel.com>
References: <20240314093630.1066948-4-mingjinx.ye@intel.com>
Content-Type: text/plain
X-BeenThere: test-report@dpdk.org
X-Mailman-Version: 2.1.29
Precedence: list
List-Id: automatic DPDK test reports <test-report.dpdk.org>
List-Unsubscribe: <https://mails.dpdk.org/options/test-report>,
 <mailto:test-report-request@dpdk.org?subject=unsubscribe>
List-Archive: <http://mails.dpdk.org/archives/test-report/>
List-Post: <mailto:test-report@dpdk.org>
List-Help: <mailto:test-report-request@dpdk.org?subject=help>
List-Subscribe: <https://mails.dpdk.org/listinfo/test-report>,
 <mailto:test-report-request@dpdk.org?subject=subscribe>
Errors-To: test-report-bounces@dpdk.org

Test-Label: iol-compile-amd64-testing
Test-Status: SUCCESS
http://dpdk.org/patch/138374

_Testing PASS_

Submitter: Mingjin Ye <mingjinx.ye@intel.com>
Date: Thursday, March 14 2024 09:36:30 
DPDK git baseline: Repo:dpdk
  Branch: master
  CommitID:cd218549b686d6be394ef3b171eafa16c038bfe3

138372-138374 --> testing pass

Test environment and result as below:

+---------------------+--------------------+----------------------+
|     Environment     | dpdk_meson_compile | dpdk_mingw64_compile |
+=====================+====================+======================+
| Debian 12 (arm)     | PASS               | SKIPPED              |
+---------------------+--------------------+----------------------+
| Debian Bullseye     | PASS               | SKIPPED              |
+---------------------+--------------------+----------------------+
| CentOS Stream 8     | PASS               | SKIPPED              |
+---------------------+--------------------+----------------------+
| CentOS Stream 9     | PASS               | SKIPPED              |
+---------------------+--------------------+----------------------+
| Ubuntu 20.04        | PASS               | SKIPPED              |
+---------------------+--------------------+----------------------+
| FreeBSD 13.2        | PASS               | SKIPPED              |
+---------------------+--------------------+----------------------+
| Windows Server 2022 | PASS               | PASS                 |
+---------------------+--------------------+----------------------+
| Fedora 37           | PASS               | SKIPPED              |
+---------------------+--------------------+----------------------+
| Fedora 38           | PASS               | SKIPPED              |
+---------------------+--------------------+----------------------+
| Ubuntu 22.04        | PASS               | SKIPPED              |
+---------------------+--------------------+----------------------+
| Windows Server 2019 | PASS               | PASS                 |
+---------------------+--------------------+----------------------+
| openSUSE Leap 15    | PASS               | SKIPPED              |
+---------------------+--------------------+----------------------+
| Alpine              | PASS               | SKIPPED              |
+---------------------+--------------------+----------------------+
| RHEL8               | PASS               | SKIPPED              |
+---------------------+--------------------+----------------------+


Debian 12 (arm)
	Kernel: Container Host Kernel
	Compiler: gcc 11

Debian Bullseye
	Kernel: 5.4.0-122-generic
	Compiler: gcc 10.2.1-6

CentOS Stream 8
	Kernel: 4.18.0-240.10.1.el8_3.x86_64
	Compiler: gcc 8.4.1 20200928

CentOS Stream 9
	Kernel: 4.18.0-240.10.1.el8_3.x86_64
	Compiler: gcc 11.3.1 20220421

Ubuntu 20.04
	Kernel: 5.4.0-153-generic
	Compiler: gcc 9.4.0-1ubuntu1~20.04.1

FreeBSD 13.2
	Kernel: 13.2
	Compiler: clang 11.3.0

Windows Server 2022
	Kernel: OS Build 20348.2031
	Compiler: MSVC VS-Preview

Fedora 37
	Kernel: Depends on container host system
	Compiler: gcc 12.3.1

Fedora 38
	Kernel: Depends on container host
	Compiler: gcc 13.1.1

Ubuntu 22.04
	Kernel: 4.18.0-240.10.1.el8_3.x86_64
	Compiler: gcc 11.3.0

Windows Server 2019
	Kernel: 10.0
	Compiler: clang 14.0 and gcc 8.1.0 (MinGW)

openSUSE Leap 15
	Kernel: 4.18.0-240.10.1.el8_3.x86_64
	Compiler: gcc 7.5.0

Alpine
	Kernel: 5.4.0-73-generic
	Compiler: gcc (Alpine 10.3.1_git20210424) 10.3.1 20210424

RHEL8
	Kernel: 4.18.0-240.10.1.el8_3.x86_64
	Compiler: gcc 8.3.1 20191121 (Red Hat 8.3.1-5)

To view detailed results, visit:
https://lab.dpdk.org/results/dashboard/patchsets/29546/

UNH-IOL DPDK Community Lab

To manage your email subscriptions, visit: 
https://lab.dpdk.org/results/dashboard/preferences/subscriptions/