From mboxrd@z Thu Jan  1 00:00:00 1970
Return-Path: <test-report-bounces@dpdk.org>
Received: from mails.dpdk.org (mails.dpdk.org [217.70.189.124])
	by inbox.dpdk.org (Postfix) with ESMTP id AF58443CA1
	for <public@inbox.dpdk.org>; Thu, 14 Mar 2024 11:59:59 +0100 (CET)
Received: from mails.dpdk.org (localhost [127.0.0.1])
	by mails.dpdk.org (Postfix) with ESMTP id A776642E7E;
	Thu, 14 Mar 2024 11:59:59 +0100 (CET)
Received: from mail-oa1-f98.google.com (mail-oa1-f98.google.com
 [209.85.160.98]) by mails.dpdk.org (Postfix) with ESMTP id 05CAF42DD9
 for <test-report@dpdk.org>; Thu, 14 Mar 2024 11:59:33 +0100 (CET)
Received: by mail-oa1-f98.google.com with SMTP id
 586e51a60fabf-2218a0f55e1so522979fac.1
 for <test-report@dpdk.org>; Thu, 14 Mar 2024 03:59:32 -0700 (PDT)
DKIM-Signature: v=1; a=rsa-sha256; c=relaxed/relaxed;
 d=iol.unh.edu; s=unh-iol; t=1710413972; x=1711018772; darn=dpdk.org;
 h=references:in-reply-to:cc:to:from:subject:message-id:date:from:to
 :cc:subject:date:message-id:reply-to;
 bh=YKg08M3Y8bzccojfcgMTZwe27aXxhXHAp5H1J89x4dk=;
 b=ZV+i954u1wdiqrmdcaU2if+U/SCCxbSOJxghBBvoOmwABK/Vs0f1eYVw0kMof0lvUr
 vAXfdpFpyEfqrp7z/ejsc7dHrEsIVnZ5XXpdui++Sz8PE+UyLOZJiJiBGQ5r+CG7yKRd
 SSYeGwT2mg7MWEhxTw0qw1udeL0GmA9IGxk3o=
X-Google-DKIM-Signature: v=1; a=rsa-sha256; c=relaxed/relaxed;
 d=1e100.net; s=20230601; t=1710413972; x=1711018772;
 h=references:in-reply-to:cc:to:from:subject:message-id:date
 :x-gm-message-state:from:to:cc:subject:date:message-id:reply-to;
 bh=YKg08M3Y8bzccojfcgMTZwe27aXxhXHAp5H1J89x4dk=;
 b=oncvIgGaFz4vY0A6n3XgUh2lz8g+FD05GjgWLp149OAO09QYMKoQ0sfKmDj+JiqYS0
 TM2l0wfQ9bIYfsv17RZTiAViZ5/pCItEtnfvtYKzsI4Y8M36w8bFc4idHjpexthRwAkw
 gbsMVQOD7ihdU+MXrXRshqSRzQDkn2rLrHAGijUbb2aSqAgK/e3nkYrE21n+vCV7A7ZI
 EaPed3/IRu9UNiB4A+DQ/APfOQT09vn1fs9xAP701E8gSKaUEJvZIPWymwf2tcn92A2a
 de/S+idWshQ19LcNlWVWTKIbTZo9+y205M+SoD7QsZj/3nbYhjEdMA9aSLzy3r7J9mP0
 DQwA==
X-Gm-Message-State: AOJu0YyJGnw5sQcZSDShvW0fiUs+XDrIpFZjJgEPYNXghpvm1QT9c/x7
 qJnKHOCTFoY1OjcXZXtTCbE+sJhBtArzMuxAmRkwraP+q4HKAP+uSogNdy0hZqeAl0F6HPunGAq
 ODW66Nh+GtwRkc+LLRd5f/+4I28P0l651vGA6mkRa
X-Google-Smtp-Source: AGHT+IHWYYglAz2tyzubPHfoHqkq7ofFL5O+yR/oco5mAucfQbEu/t4GMfmW2lxmrMd/hryt4V5qSJ7o9MMN
X-Received: by 2002:a05:6870:418d:b0:221:4ef3:8c00 with SMTP id
 y13-20020a056870418d00b002214ef38c00mr1349204oac.59.1710413972391; 
 Thu, 14 Mar 2024 03:59:32 -0700 (PDT)
Received: from postal.iol.unh.edu (postal.iol.unh.edu. [132.177.123.84])
 by smtp-relay.gmail.com with ESMTPS id
 pj3-20020a056871d18300b0021ef53e423asm19854oac.20.2024.03.14.03.59.32
 (version=TLS1_2 cipher=ECDHE-ECDSA-AES128-GCM-SHA256 bits=128/128);
 Thu, 14 Mar 2024 03:59:32 -0700 (PDT)
X-Relaying-Domain: iol.unh.edu
Date: Thu, 14 Mar 2024 03:59:32 -0700 (PDT)
Message-ID: <65f2d894.050a0220.35e16.1699SMTPIN_ADDED_MISSING@mx.google.com>
Received: from [172.21.0.6] (unknown [172.18.0.240])
 by postal.iol.unh.edu (Postfix) with ESMTP id C89FD6052471;
 Thu, 14 Mar 2024 06:59:31 -0400 (EDT)
Subject: |SUCCESS| pw138372-138374 [PATCH] [3/3] net/vdev: fix insert vdev co
From: dpdklab@iol.unh.edu
To: Test Report <test-report@dpdk.org>
Cc: dpdk-test-reports@iol.unh.edu
In-Reply-To: <20240314093630.1066948-4-mingjinx.ye@intel.com>
References: <20240314093630.1066948-4-mingjinx.ye@intel.com>
Content-Type: text/plain
X-BeenThere: test-report@dpdk.org
X-Mailman-Version: 2.1.29
Precedence: list
List-Id: automatic DPDK test reports <test-report.dpdk.org>
List-Unsubscribe: <https://mails.dpdk.org/options/test-report>,
 <mailto:test-report-request@dpdk.org?subject=unsubscribe>
List-Archive: <http://mails.dpdk.org/archives/test-report/>
List-Post: <mailto:test-report@dpdk.org>
List-Help: <mailto:test-report-request@dpdk.org?subject=help>
List-Subscribe: <https://mails.dpdk.org/listinfo/test-report>,
 <mailto:test-report-request@dpdk.org?subject=subscribe>
Errors-To: test-report-bounces@dpdk.org

Test-Label: iol-unit-amd64-testing
Test-Status: SUCCESS
http://dpdk.org/patch/138374

_Testing PASS_

Submitter: Mingjin Ye <mingjinx.ye@intel.com>
Date: Thursday, March 14 2024 09:36:30 
DPDK git baseline: Repo:dpdk
  Branch: master
  CommitID:cd218549b686d6be394ef3b171eafa16c038bfe3

138372-138374 --> testing pass

Test environment and result as below:

+---------------------+----------------+
|     Environment     | dpdk_unit_test |
+=====================+================+
| CentOS Stream 8     | PASS           |
+---------------------+----------------+
| CentOS Stream 9     | PASS           |
+---------------------+----------------+
| Debian Bullseye     | PASS           |
+---------------------+----------------+
| Debian 12 (arm)     | PASS           |
+---------------------+----------------+
| Fedora 37           | PASS           |
+---------------------+----------------+
| Fedora 38           | PASS           |
+---------------------+----------------+
| Ubuntu 20.04        | PASS           |
+---------------------+----------------+
| openSUSE Leap 15    | PASS           |
+---------------------+----------------+
| Ubuntu 22.04        | PASS           |
+---------------------+----------------+
| RHEL8               | PASS           |
+---------------------+----------------+
| Windows Server 2019 | PASS           |
+---------------------+----------------+


CentOS Stream 8
	Kernel: 4.18.0-240.10.1.el8_3.x86_64
	Compiler: gcc 8.4.1 20200928

CentOS Stream 9
	Kernel: 4.18.0-240.10.1.el8_3.x86_64
	Compiler: gcc 11.3.1 20220421

Debian Bullseye
	Kernel: 5.4.0-122-generic
	Compiler: gcc 10.2.1-6

Debian 12 (arm)
	Kernel: Container Host Kernel
	Compiler: gcc 11

Fedora 37
	Kernel: Depends on container host system
	Compiler: gcc 12.3.1

Fedora 38
	Kernel: Depends on container host
	Compiler: gcc 13.1.1

Ubuntu 20.04
	Kernel: 5.4.0-153-generic
	Compiler: gcc 9.4.0-1ubuntu1~20.04.1

openSUSE Leap 15
	Kernel: 4.18.0-240.10.1.el8_3.x86_64
	Compiler: gcc 7.5.0

Ubuntu 22.04
	Kernel: 4.18.0-240.10.1.el8_3.x86_64
	Compiler: gcc 11.3.0

RHEL8
	Kernel: 4.18.0-240.10.1.el8_3.x86_64
	Compiler: gcc 8.3.1 20191121 (Red Hat 8.3.1-5)

Windows Server 2019
	Kernel: 10.0
	Compiler: clang 14.0 and gcc 8.1.0 (MinGW)

To view detailed results, visit:
https://lab.dpdk.org/results/dashboard/patchsets/29546/

UNH-IOL DPDK Community Lab

To manage your email subscriptions, visit: 
https://lab.dpdk.org/results/dashboard/preferences/subscriptions/