From mboxrd@z Thu Jan  1 00:00:00 1970
Return-Path: <test-report-bounces@dpdk.org>
Received: from mails.dpdk.org (mails.dpdk.org [217.70.189.124])
	by inbox.dpdk.org (Postfix) with ESMTP id 5F84B43CA6
	for <public@inbox.dpdk.org>; Thu, 14 Mar 2024 12:00:54 +0100 (CET)
Received: from mails.dpdk.org (localhost [127.0.0.1])
	by mails.dpdk.org (Postfix) with ESMTP id 5B22C42E75;
	Thu, 14 Mar 2024 12:00:54 +0100 (CET)
Received: from mail-pj1-f100.google.com (mail-pj1-f100.google.com
 [209.85.216.100])
 by mails.dpdk.org (Postfix) with ESMTP id A996340297
 for <test-report@dpdk.org>; Thu, 14 Mar 2024 12:00:17 +0100 (CET)
Received: by mail-pj1-f100.google.com with SMTP id
 98e67ed59e1d1-29c3438d481so760271a91.2
 for <test-report@dpdk.org>; Thu, 14 Mar 2024 04:00:17 -0700 (PDT)
DKIM-Signature: v=1; a=rsa-sha256; c=relaxed/relaxed;
 d=iol.unh.edu; s=unh-iol; t=1710414017; x=1711018817; darn=dpdk.org;
 h=references:in-reply-to:cc:to:from:subject:message-id:date:from:to
 :cc:subject:date:message-id:reply-to;
 bh=kx2S/90exOGFIlla2zR+bim3a/J7YiJTOMemuKdpDTI=;
 b=c+GrTPvqL4EyJbIFdsjguMKrgb5tyt1ifX4hjvJ5kkvnMSEw5FdqFxWI9GO99CgZTi
 y426/Q5sAR+UmMTkj69pYlHGfgE7PyGxhz231vdnHWRXqc+Z+s48WyS2Is/I55hFcUdg
 AGnnjASI1txmqxx2sQBEkoTMkUcptOQkeB6/E=
X-Google-DKIM-Signature: v=1; a=rsa-sha256; c=relaxed/relaxed;
 d=1e100.net; s=20230601; t=1710414017; x=1711018817;
 h=references:in-reply-to:cc:to:from:subject:message-id:date
 :x-gm-message-state:from:to:cc:subject:date:message-id:reply-to;
 bh=kx2S/90exOGFIlla2zR+bim3a/J7YiJTOMemuKdpDTI=;
 b=sg2PEH9JPe8XxT52Tw+q6c1p8cydSr6utcf0D38533qUp0ZNekfwfjErzarArQE/fc
 tkkISy1tSFhrYDHOuNnuuVE82YMxFSxp3LQguJKq6nI04hYm1L0yJ9f30EOR/EqX40/0
 OKkd/LI1ueVI6jngpLMbugsYn7NtkJwRbvdscAfbe2Wx60SMW7ExjG8ySd6C+X8HEe2+
 WjwtSoxHBBceWhIkJAiCTpFt2lJWeseBain0/qjTUrUl4Szt7JhaNuEfdqo8PiEotjyd
 2SQOeuipZ3x16g9XdQuU00yCWC3+Gr9kDIfT3TC58gTOfr+TR4BBv6nfw1wRVfJ+jMp+
 NYNA==
X-Gm-Message-State: AOJu0Yygw36ZMeg/4AlFF7AmNB9ZrfvKL6vxYJ5XdIysgrThXgP7dH1C
 DwniuM2jliBJ7biI1GTYZxqAaZPOirxPLlrsIyIatDivpNmueNopAjZxcYhjQfKbQY2pNjg7j2D
 E4oh913LHdOBUSHXR2mO/YfL2Z8njVa6YnvF3fA==
X-Google-Smtp-Source: AGHT+IGZ1DeZ07XYElgMMq4FQ6WDU4VyYpVh5EWDmpFNnHPRBjCKUebMMD78yFO/fpLs0FJihi63hcBKTgbx
X-Received: by 2002:a17:90b:103:b0:29c:45f1:8984 with SMTP id
 p3-20020a17090b010300b0029c45f18984mr1277831pjz.18.1710414016564; 
 Thu, 14 Mar 2024 04:00:16 -0700 (PDT)
Received: from postal.iol.unh.edu (postal.iol.unh.edu. [132.177.123.84])
 by smtp-relay.gmail.com with ESMTPS id
 gx7-20020a17090b124700b0029ddbff32c2sm18674pjb.7.2024.03.14.04.00.16
 (version=TLS1_2 cipher=ECDHE-ECDSA-AES128-GCM-SHA256 bits=128/128);
 Thu, 14 Mar 2024 04:00:16 -0700 (PDT)
X-Relaying-Domain: iol.unh.edu
Date: Thu, 14 Mar 2024 04:00:16 -0700 (PDT)
Message-ID: <65f2d8c0.170a0220.d2b23.1607SMTPIN_ADDED_MISSING@mx.google.com>
Received: from [172.17.0.8] (unknown [172.18.0.217])
 by postal.iol.unh.edu (Postfix) with ESMTP id B96E56052471;
 Thu, 14 Mar 2024 07:00:15 -0400 (EDT)
Subject: |SUCCESS| pw138372-138374 [PATCH] [3/3] net/vdev: fix insert vdev co
From: dpdklab@iol.unh.edu
To: Test Report <test-report@dpdk.org>
Cc: dpdk-test-reports@iol.unh.edu
In-Reply-To: <20240314093630.1066948-4-mingjinx.ye@intel.com>
References: <20240314093630.1066948-4-mingjinx.ye@intel.com>
Content-Type: text/plain
X-BeenThere: test-report@dpdk.org
X-Mailman-Version: 2.1.29
Precedence: list
List-Id: automatic DPDK test reports <test-report.dpdk.org>
List-Unsubscribe: <https://mails.dpdk.org/options/test-report>,
 <mailto:test-report-request@dpdk.org?subject=unsubscribe>
List-Archive: <http://mails.dpdk.org/archives/test-report/>
List-Post: <mailto:test-report@dpdk.org>
List-Help: <mailto:test-report-request@dpdk.org?subject=help>
List-Subscribe: <https://mails.dpdk.org/listinfo/test-report>,
 <mailto:test-report-request@dpdk.org?subject=subscribe>
Errors-To: test-report-bounces@dpdk.org

Test-Label: iol-compile-arm64-testing
Test-Status: SUCCESS
http://dpdk.org/patch/138374

_Testing PASS_

Submitter: Mingjin Ye <mingjinx.ye@intel.com>
Date: Thursday, March 14 2024 09:36:30 
DPDK git baseline: Repo:dpdk
  Branch: master
  CommitID:cd218549b686d6be394ef3b171eafa16c038bfe3

138372-138374 --> testing pass

Test environment and result as below:

+----------------------------------------+--------------------+
|              Environment               | dpdk_meson_compile |
+========================================+====================+
| Ubuntu 20.04 ARM SVE                   | PASS               |
+----------------------------------------+--------------------+
| Debian 12 with MUSDK                   | PASS               |
+----------------------------------------+--------------------+
| Ubuntu 20.04 aarch32 GCC Cross Compile | PASS               |
+----------------------------------------+--------------------+
| Fedora 38 (ARM)                        | PASS               |
+----------------------------------------+--------------------+
| Ubuntu 20.04 ARM Clang Cross Compile   | PASS               |
+----------------------------------------+--------------------+
| Ubuntu 20.04 (ARM)                     | PASS               |
+----------------------------------------+--------------------+
| Fedora 37 (ARM)                        | PASS               |
+----------------------------------------+--------------------+
| Debian 12 (arm)                        | PASS               |
+----------------------------------------+--------------------+
| Debian 11 (Buster) (ARM)               | PASS               |
+----------------------------------------+--------------------+
| CentOS Stream 9 (ARM)                  | PASS               |
+----------------------------------------+--------------------+


Ubuntu 20.04 ARM SVE
	Kernel: 5.4.0-80-generic
	Compiler: gcc 10.3.0 (Ubuntu 10.3.0-1ubuntu1~20.04)

Debian 12 with MUSDK
	Kernel: Container Host Kernel
	Compiler: gcc 12

Ubuntu 20.04 aarch32 GCC Cross Compile
	Kernel: 5.4.0-72-generic
	Compiler: gcc 9.3.0

Fedora 38 (ARM)
	Kernel: Depends on container host
	Compiler: gcc 13.1.1

Ubuntu 20.04 ARM Clang Cross Compile
	Kernel: 5.4.0-72-generic
	Compiler: clang version 10.0.0-4ubuntu1

Ubuntu 20.04 (ARM)
	Kernel: Container Host Kernel
	Compiler: gcc 9.4.0

Fedora 37 (ARM)
	Kernel: Depends on container host
	Compiler: gcc 12.3.1

Debian 12 (arm)
	Kernel: Container Host Kernel
	Compiler: gcc 11

Debian 11 (Buster) (ARM)
	Kernel: Container Host Kernel
	Compiler: gcc 10.2.1

CentOS Stream 9 (ARM)
	Kernel: Container Host Kernel
	Compiler: gcc 11.3.1

To view detailed results, visit:
https://lab.dpdk.org/results/dashboard/patchsets/29546/

UNH-IOL DPDK Community Lab

To manage your email subscriptions, visit: 
https://lab.dpdk.org/results/dashboard/preferences/subscriptions/