From mboxrd@z Thu Jan  1 00:00:00 1970
Return-Path: <test-report-bounces@dpdk.org>
Received: from mails.dpdk.org (mails.dpdk.org [217.70.189.124])
	by inbox.dpdk.org (Postfix) with ESMTP id 2BA7E43CA6
	for <public@inbox.dpdk.org>; Thu, 14 Mar 2024 12:01:23 +0100 (CET)
Received: from mails.dpdk.org (localhost [127.0.0.1])
	by mails.dpdk.org (Postfix) with ESMTP id 2425742E73;
	Thu, 14 Mar 2024 12:01:23 +0100 (CET)
Received: from mail-il1-f226.google.com (mail-il1-f226.google.com
 [209.85.166.226])
 by mails.dpdk.org (Postfix) with ESMTP id 769E242E92
 for <test-report@dpdk.org>; Thu, 14 Mar 2024 12:00:59 +0100 (CET)
Received: by mail-il1-f226.google.com with SMTP id
 e9e14a558f8ab-366753f1475so2743335ab.1
 for <test-report@dpdk.org>; Thu, 14 Mar 2024 04:00:59 -0700 (PDT)
DKIM-Signature: v=1; a=rsa-sha256; c=relaxed/relaxed;
 d=iol.unh.edu; s=unh-iol; t=1710414059; x=1711018859; darn=dpdk.org;
 h=references:in-reply-to:cc:to:from:subject:message-id:date:from:to
 :cc:subject:date:message-id:reply-to;
 bh=YKg08M3Y8bzccojfcgMTZwe27aXxhXHAp5H1J89x4dk=;
 b=atg8tpg7dPY0gEv3uU1nH7ow5RyqD+oJEdc4TwgIgF8khLFXh4Ch8+DhXLJPKpJlCk
 p8iYb3IlxFie7gCgkGsUUvW9IM2GILdE56voxuhKOr0blT8WdVJIoUVx4NaOTXws6lvq
 6LkY4CMLkgvGcg7M4uB9x/m9lI1hk5in6FI/g=
X-Google-DKIM-Signature: v=1; a=rsa-sha256; c=relaxed/relaxed;
 d=1e100.net; s=20230601; t=1710414059; x=1711018859;
 h=references:in-reply-to:cc:to:from:subject:message-id:date
 :x-gm-message-state:from:to:cc:subject:date:message-id:reply-to;
 bh=YKg08M3Y8bzccojfcgMTZwe27aXxhXHAp5H1J89x4dk=;
 b=r7mA/ZdWNO4YdESyfk8WCfXkZixK8UgNR99N6xfbFRXgVDZlt0jdQ7duDFnymwcm5f
 VYKwuA42479LkyxFh+uafE0YrzqUAR5CIy/RyNw/wLN9FlmwLPfmPZnPj89Cn3NVZCQn
 IgZmLf9rV8s8taE04oWEQK9sY+giYbamIJ1vetjKaGMtpPmjFu4vwaNFSXeAgIM7+sl1
 EZUPojKX5lcW3ZkuiNwHbGcBhkKfOVTPsxHe8fB+jxo04X8LaKqius1KGmCFSwFPnfwu
 HTDWnruuhW4Umjb7AhlQcPFtsncN+5P3CDI2OIsBgHeexgKIAERU/LMw3ZDr61WVqQCb
 SNFg==
X-Gm-Message-State: AOJu0YxeCADY3Z23/S454zFkdTlPPBAGSSxxK0qd9I8gHYGD9V07Etym
 OZPwt93K/ESWqLq8V8H9HsMA2vEQXScd8z0+uV6X1H/+VpuTg3OYmWRHw36vpCtg2ECz4Uljw96
 0BFUXMVCESuOgPe+3O8y/LHQaMJiqlitcbF6r8s4YxTzUn2tjeyDMYUHN
X-Google-Smtp-Source: AGHT+IEFpsyapoXyRgWWPRFnFMetWpG1OS6AzFsO3XyNH70hZ4+GM8oIB5PaYCX2D2i+za9R1i5nzxfVq0qT
X-Received: by 2002:a92:d6cf:0:b0:365:fec3:3335 with SMTP id
 z15-20020a92d6cf000000b00365fec33335mr1275165ilp.13.1710414058878; 
 Thu, 14 Mar 2024 04:00:58 -0700 (PDT)
Received: from postal.iol.unh.edu (postal.iol.unh.edu.
 [2606:4100:3880:1234::84]) by smtp-relay.gmail.com with ESMTPS id
 l6-20020a92d8c6000000b003655dbda602sm15642ilo.76.2024.03.14.04.00.58
 (version=TLS1_2 cipher=ECDHE-ECDSA-AES128-GCM-SHA256 bits=128/128);
 Thu, 14 Mar 2024 04:00:58 -0700 (PDT)
X-Relaying-Domain: iol.unh.edu
Date: Thu, 14 Mar 2024 04:00:58 -0700 (PDT)
Message-ID: <65f2d8ea.920a0220.13487.11ccSMTPIN_ADDED_MISSING@mx.google.com>
Received: from [172.17.0.7] (unknown [172.18.0.217])
 by postal.iol.unh.edu (Postfix) with ESMTP id 5A7C16052471;
 Thu, 14 Mar 2024 07:00:58 -0400 (EDT)
Subject: |SUCCESS| pw138372-138374 [PATCH] [3/3] net/vdev: fix insert vdev co
From: dpdklab@iol.unh.edu
To: Test Report <test-report@dpdk.org>
Cc: dpdk-test-reports@iol.unh.edu
In-Reply-To: <20240314093630.1066948-4-mingjinx.ye@intel.com>
References: <20240314093630.1066948-4-mingjinx.ye@intel.com>
Content-Type: text/plain
X-BeenThere: test-report@dpdk.org
X-Mailman-Version: 2.1.29
Precedence: list
List-Id: automatic DPDK test reports <test-report.dpdk.org>
List-Unsubscribe: <https://mails.dpdk.org/options/test-report>,
 <mailto:test-report-request@dpdk.org?subject=unsubscribe>
List-Archive: <http://mails.dpdk.org/archives/test-report/>
List-Post: <mailto:test-report@dpdk.org>
List-Help: <mailto:test-report-request@dpdk.org?subject=help>
List-Subscribe: <https://mails.dpdk.org/listinfo/test-report>,
 <mailto:test-report-request@dpdk.org?subject=subscribe>
Errors-To: test-report-bounces@dpdk.org

Test-Label: iol-unit-amd64-testing
Test-Status: SUCCESS
http://dpdk.org/patch/138374

_Testing PASS_

Submitter: Mingjin Ye <mingjinx.ye@intel.com>
Date: Thursday, March 14 2024 09:36:30 
DPDK git baseline: Repo:dpdk
  Branch: master
  CommitID:cd218549b686d6be394ef3b171eafa16c038bfe3

138372-138374 --> testing pass

Test environment and result as below:

+---------------------+----------------+
|     Environment     | dpdk_unit_test |
+=====================+================+
| CentOS Stream 8     | PASS           |
+---------------------+----------------+
| CentOS Stream 9     | PASS           |
+---------------------+----------------+
| Debian Bullseye     | PASS           |
+---------------------+----------------+
| Debian 12 (arm)     | PASS           |
+---------------------+----------------+
| Fedora 37           | PASS           |
+---------------------+----------------+
| Fedora 38           | PASS           |
+---------------------+----------------+
| Ubuntu 20.04        | PASS           |
+---------------------+----------------+
| openSUSE Leap 15    | PASS           |
+---------------------+----------------+
| Ubuntu 22.04        | PASS           |
+---------------------+----------------+
| RHEL8               | PASS           |
+---------------------+----------------+
| Windows Server 2019 | PASS           |
+---------------------+----------------+


CentOS Stream 8
	Kernel: 4.18.0-240.10.1.el8_3.x86_64
	Compiler: gcc 8.4.1 20200928

CentOS Stream 9
	Kernel: 4.18.0-240.10.1.el8_3.x86_64
	Compiler: gcc 11.3.1 20220421

Debian Bullseye
	Kernel: 5.4.0-122-generic
	Compiler: gcc 10.2.1-6

Debian 12 (arm)
	Kernel: Container Host Kernel
	Compiler: gcc 11

Fedora 37
	Kernel: Depends on container host system
	Compiler: gcc 12.3.1

Fedora 38
	Kernel: Depends on container host
	Compiler: gcc 13.1.1

Ubuntu 20.04
	Kernel: 5.4.0-153-generic
	Compiler: gcc 9.4.0-1ubuntu1~20.04.1

openSUSE Leap 15
	Kernel: 4.18.0-240.10.1.el8_3.x86_64
	Compiler: gcc 7.5.0

Ubuntu 22.04
	Kernel: 4.18.0-240.10.1.el8_3.x86_64
	Compiler: gcc 11.3.0

RHEL8
	Kernel: 4.18.0-240.10.1.el8_3.x86_64
	Compiler: gcc 8.3.1 20191121 (Red Hat 8.3.1-5)

Windows Server 2019
	Kernel: 10.0
	Compiler: clang 14.0 and gcc 8.1.0 (MinGW)

To view detailed results, visit:
https://lab.dpdk.org/results/dashboard/patchsets/29546/

UNH-IOL DPDK Community Lab

To manage your email subscriptions, visit: 
https://lab.dpdk.org/results/dashboard/preferences/subscriptions/