From mboxrd@z Thu Jan  1 00:00:00 1970
Return-Path: <test-report-bounces@dpdk.org>
Received: from mails.dpdk.org (mails.dpdk.org [217.70.189.124])
	by inbox.dpdk.org (Postfix) with ESMTP id 5F5B343CA5
	for <public@inbox.dpdk.org>; Thu, 14 Mar 2024 12:42:36 +0100 (CET)
Received: from mails.dpdk.org (localhost [127.0.0.1])
	by mails.dpdk.org (Postfix) with ESMTP id 5906040297;
	Thu, 14 Mar 2024 12:42:36 +0100 (CET)
Received: from mail-oo1-f100.google.com (mail-oo1-f100.google.com
 [209.85.161.100])
 by mails.dpdk.org (Postfix) with ESMTP id C11414028C
 for <test-report@dpdk.org>; Thu, 14 Mar 2024 12:42:09 +0100 (CET)
Received: by mail-oo1-f100.google.com with SMTP id
 006d021491bc7-59fdcf8ebbcso496134eaf.3
 for <test-report@dpdk.org>; Thu, 14 Mar 2024 04:42:09 -0700 (PDT)
DKIM-Signature: v=1; a=rsa-sha256; c=relaxed/relaxed;
 d=iol.unh.edu; s=unh-iol; t=1710416529; x=1711021329; darn=dpdk.org;
 h=references:in-reply-to:cc:to:from:subject:message-id:date:from:to
 :cc:subject:date:message-id:reply-to;
 bh=Vj+aVPnlxeILMvX5n9IeT0j3y2O4HTz8fllwyZGl5aw=;
 b=Gn6D9V1ElnPqZy5DYw0GG3FElUdnNPhxZ5FVUCwkT6LCJsxe8+mQESkhyA99BJKQMU
 LHBAQwyX+tW7P+wh4ke4v47djMoasYDwRA/DWIaT3/SrJVbogbwthsit35xvboNhgshD
 WWMmKoVug4SwFOd/nspxpKBorUyGIARHA6UX0=
X-Google-DKIM-Signature: v=1; a=rsa-sha256; c=relaxed/relaxed;
 d=1e100.net; s=20230601; t=1710416529; x=1711021329;
 h=references:in-reply-to:cc:to:from:subject:message-id:date
 :x-gm-message-state:from:to:cc:subject:date:message-id:reply-to;
 bh=Vj+aVPnlxeILMvX5n9IeT0j3y2O4HTz8fllwyZGl5aw=;
 b=IZqfKl8IynJnyKO6YdvUTKfon3CksULtT3JACyFg+blOPK6j4J+pdjhharLwW5j3bb
 04kKR5TdE/a5mheAwmxoohwtOmrJKaBoJOmmtJaabNiiPYc3Wqq6WdDBmAzFFARm44jp
 SZ2HHpFUILNVO5xHNOj2RZL/xRqInbZ9XqUcETAAJBltn3x9E+Z1YmlPXjU5S+zgqVE6
 vaj/b/zYQZLVKltfLM2AgMabYV3xSFaaC6MHSGTgAjwAQTi8cD9ibcSfj1d2QtCjGT+q
 MTOYdxbYMIa9aIPJIyRt76WZ1niu2llUKmKDtvwCa59Z1IFH0EsdtlynjjK5Vdo/PXSQ
 8qDA==
X-Gm-Message-State: AOJu0YxlIO9oz7PDCyv/3A1S9VAMPfUBcyZnUZPjOnv3DVqaiUhQzrQt
 o5s8rxmfpvm6QvNwFxyEkWuSNSY2EwUEVG91gd1xMMoDH0fBjGiajdxEnwfzhcmUqDRB8cDc2Sd
 DGmJjSe1XJ6zrN8lb8guul+81bKMoes5UGGL15Zc71kGXC1nl+AQ7Gc8w
X-Google-Smtp-Source: AGHT+IE1srF5nk0j4fuBw2u2fAGznadjk/ABJDkfB/n2UaoEu8T1UtDxMDdo9Ee3tcqzYW06NsqVyLraKwXa
X-Received: by 2002:a4a:dfb8:0:b0:5a1:21fc:7508 with SMTP id
 k24-20020a4adfb8000000b005a121fc7508mr1434786ook.7.1710416529173; 
 Thu, 14 Mar 2024 04:42:09 -0700 (PDT)
Received: from postal.iol.unh.edu (postal.iol.unh.edu.
 [2606:4100:3880:1234::84]) by smtp-relay.gmail.com with ESMTPS id
 g65-20020a4a5b44000000b005a14df6b365sm27780oob.27.2024.03.14.04.42.09
 (version=TLS1_2 cipher=ECDHE-ECDSA-AES128-GCM-SHA256 bits=128/128);
 Thu, 14 Mar 2024 04:42:09 -0700 (PDT)
X-Relaying-Domain: iol.unh.edu
Date: Thu, 14 Mar 2024 04:42:09 -0700 (PDT)
Message-ID: <65f2e291.4a0a0220.f7bdd.210eSMTPIN_ADDED_MISSING@mx.google.com>
Received: from [172.17.0.7] (unknown [172.18.0.217])
 by postal.iol.unh.edu (Postfix) with ESMTP id A8F256052471;
 Thu, 14 Mar 2024 07:42:08 -0400 (EDT)
Subject: |SUCCESS| pw138372-138374 [PATCH] [3/3] net/vdev: fix insert vdev co
From: dpdklab@iol.unh.edu
To: Test Report <test-report@dpdk.org>
Cc: dpdk-test-reports@iol.unh.edu
In-Reply-To: <20240314093630.1066948-4-mingjinx.ye@intel.com>
References: <20240314093630.1066948-4-mingjinx.ye@intel.com>
Content-Type: text/plain
X-BeenThere: test-report@dpdk.org
X-Mailman-Version: 2.1.29
Precedence: list
List-Id: automatic DPDK test reports <test-report.dpdk.org>
List-Unsubscribe: <https://mails.dpdk.org/options/test-report>,
 <mailto:test-report-request@dpdk.org?subject=unsubscribe>
List-Archive: <http://mails.dpdk.org/archives/test-report/>
List-Post: <mailto:test-report@dpdk.org>
List-Help: <mailto:test-report-request@dpdk.org?subject=help>
List-Subscribe: <https://mails.dpdk.org/listinfo/test-report>,
 <mailto:test-report-request@dpdk.org?subject=subscribe>
Errors-To: test-report-bounces@dpdk.org

Test-Label: iol-unit-amd64-testing
Test-Status: SUCCESS
http://dpdk.org/patch/138374

_Testing PASS_

Submitter: Mingjin Ye <mingjinx.ye@intel.com>
Date: Thursday, March 14 2024 09:36:30 
DPDK git baseline: Repo:dpdk
  Branch: master
  CommitID:cd218549b686d6be394ef3b171eafa16c038bfe3

138372-138374 --> testing pass

Test environment and result as below:

+---------------------+----------------+
|     Environment     | dpdk_unit_test |
+=====================+================+
| CentOS Stream 8     | PASS           |
+---------------------+----------------+
| CentOS Stream 9     | PASS           |
+---------------------+----------------+
| Debian Bullseye     | PASS           |
+---------------------+----------------+
| Debian 12 (arm)     | PASS           |
+---------------------+----------------+
| Fedora 37           | PASS           |
+---------------------+----------------+
| Fedora 38           | PASS           |
+---------------------+----------------+
| Ubuntu 20.04        | PASS           |
+---------------------+----------------+
| openSUSE Leap 15    | PASS           |
+---------------------+----------------+
| Ubuntu 22.04        | PASS           |
+---------------------+----------------+
| RHEL8               | PASS           |
+---------------------+----------------+
| Windows Server 2019 | PASS           |
+---------------------+----------------+
| Windows Server 2022 | PASS           |
+---------------------+----------------+


CentOS Stream 8
	Kernel: 4.18.0-240.10.1.el8_3.x86_64
	Compiler: gcc 8.4.1 20200928

CentOS Stream 9
	Kernel: 4.18.0-240.10.1.el8_3.x86_64
	Compiler: gcc 11.3.1 20220421

Debian Bullseye
	Kernel: 5.4.0-122-generic
	Compiler: gcc 10.2.1-6

Debian 12 (arm)
	Kernel: Container Host Kernel
	Compiler: gcc 11

Fedora 37
	Kernel: Depends on container host system
	Compiler: gcc 12.3.1

Fedora 38
	Kernel: Depends on container host
	Compiler: gcc 13.1.1

Ubuntu 20.04
	Kernel: 5.4.0-153-generic
	Compiler: gcc 9.4.0-1ubuntu1~20.04.1

openSUSE Leap 15
	Kernel: 4.18.0-240.10.1.el8_3.x86_64
	Compiler: gcc 7.5.0

Ubuntu 22.04
	Kernel: 4.18.0-240.10.1.el8_3.x86_64
	Compiler: gcc 11.3.0

RHEL8
	Kernel: 4.18.0-240.10.1.el8_3.x86_64
	Compiler: gcc 8.3.1 20191121 (Red Hat 8.3.1-5)

Windows Server 2019
	Kernel: 10.0
	Compiler: clang 14.0 and gcc 8.1.0 (MinGW)

Windows Server 2022
	Kernel: OS Build 20348.2031
	Compiler: MSVC VS-Preview

To view detailed results, visit:
https://lab.dpdk.org/results/dashboard/patchsets/29546/

UNH-IOL DPDK Community Lab

To manage your email subscriptions, visit: 
https://lab.dpdk.org/results/dashboard/preferences/subscriptions/