From mboxrd@z Thu Jan  1 00:00:00 1970
Return-Path: <test-report-bounces@dpdk.org>
Received: from mails.dpdk.org (mails.dpdk.org [217.70.189.124])
	by inbox.dpdk.org (Postfix) with ESMTP id 8975843CA5
	for <public@inbox.dpdk.org>; Thu, 14 Mar 2024 12:42:36 +0100 (CET)
Received: from mails.dpdk.org (localhost [127.0.0.1])
	by mails.dpdk.org (Postfix) with ESMTP id 8111042E9C;
	Thu, 14 Mar 2024 12:42:36 +0100 (CET)
Received: from mail-qv1-f100.google.com (mail-qv1-f100.google.com
 [209.85.219.100])
 by mails.dpdk.org (Postfix) with ESMTP id 14F624028C
 for <test-report@dpdk.org>; Thu, 14 Mar 2024 12:42:32 +0100 (CET)
Received: by mail-qv1-f100.google.com with SMTP id
 6a1803df08f44-690cd5b0f07so5727816d6.3
 for <test-report@dpdk.org>; Thu, 14 Mar 2024 04:42:32 -0700 (PDT)
DKIM-Signature: v=1; a=rsa-sha256; c=relaxed/relaxed;
 d=iol.unh.edu; s=unh-iol; t=1710416551; x=1711021351; darn=dpdk.org;
 h=references:in-reply-to:cc:to:from:subject:message-id:date:from:to
 :cc:subject:date:message-id:reply-to;
 bh=tWQuF73zICCBCriu0fYhty8zmVhJDVGpfvqWCL5KxNQ=;
 b=JHXp+qWXEizvyRoZztYbsM1cJX2ODfospfyUBKWSxCC9SZCRU4xH+Lf+eb468kTFGO
 f4wyPxU7ZcdFvYdD2Rfem2boh4UNvv3h9aEQQticznWjGn9OO4lMz2p0Dp2mibXy0aNf
 wAKNBeLWvWY8TmzTViTh8/39d8ZOlWVtQMr6Q=
X-Google-DKIM-Signature: v=1; a=rsa-sha256; c=relaxed/relaxed;
 d=1e100.net; s=20230601; t=1710416551; x=1711021351;
 h=references:in-reply-to:cc:to:from:subject:message-id:date
 :x-gm-message-state:from:to:cc:subject:date:message-id:reply-to;
 bh=tWQuF73zICCBCriu0fYhty8zmVhJDVGpfvqWCL5KxNQ=;
 b=PPTf68T242EuljJMS0GwVqLGVzo4WgUIgGX/1EHTBdo+fEMmT+MSf8iFCjKr5R64Zg
 FtPygAklfAjxtqY6BGF8yfJmT1xDCGg5Ws5bHleSW1n3bWqLFyNLgqbeYl8fO0XVDopn
 opX0W22G+L1VEbW4wNYnYOWFjSvdy66uWTWGCN/J5tGkmKCWsgu/F8I2vgfI2j0cCHzy
 7Ag+AJakUzTxz9dKsJBXLQokwfN+fjMGkPDYCLjp4T8VV7OmR95YvkCZHrVr9i9KMXLN
 SpQp+BXd6OpEpBPrFZVeLBAnoYwsviYuqiqxsvKScuwIAeTaCJ7mwE6x8V5G4gdNak0h
 b/kQ==
X-Gm-Message-State: AOJu0YzBhgy/NqGVGZ/kN9Aaz5rErS+s9o/rHCfv7xHG1vk7vuYagLtz
 juskfEwz0dDHr086S5LckS/y6/5KYaUlOMxNwPTKSfS6bD+u6WClrYU2F39BjNxEdk1DGJLAV+Y
 B29BiWFDcz73ICZY52PfXEKZMimoYlRiOehs7D0hRll7gDK/Sqvqi+rGY
X-Google-Smtp-Source: AGHT+IHPQ9y5RMwCoKfmD5wBvcX0tJ8a/FY7kkhB7EVLPuuC3t7vvP0z29gCBHXosSFCx5XjhMRKqm2MSdIK
X-Received: by 2002:a05:6214:8d2:b0:691:51d4:c40c with SMTP id
 da18-20020a05621408d200b0069151d4c40cmr874966qvb.18.1710416551509; 
 Thu, 14 Mar 2024 04:42:31 -0700 (PDT)
Received: from postal.iol.unh.edu (postal.iol.unh.edu.
 [2606:4100:3880:1234::84]) by smtp-relay.gmail.com with ESMTPS id
 w15-20020a0cfc4f000000b00691606620c1sm9057qvp.45.2024.03.14.04.42.31
 (version=TLS1_2 cipher=ECDHE-ECDSA-AES128-GCM-SHA256 bits=128/128);
 Thu, 14 Mar 2024 04:42:31 -0700 (PDT)
X-Relaying-Domain: iol.unh.edu
Date: Thu, 14 Mar 2024 04:42:31 -0700 (PDT)
Message-ID: <65f2e2a7.0c0a0220.90c2.0995SMTPIN_ADDED_MISSING@mx.google.com>
Received: from [172.21.0.6] (unknown [172.18.0.240])
 by postal.iol.unh.edu (Postfix) with ESMTP id 3914B6052471;
 Thu, 14 Mar 2024 07:42:31 -0400 (EDT)
Subject: |SUCCESS| pw138366-138371 [PATCH] [v2,6/6] app/testpmd: enhance geto
From: dpdklab@iol.unh.edu
To: Test Report <test-report@dpdk.org>
Cc: dpdk-test-reports@iol.unh.edu
In-Reply-To: <20240314091708.1542769-7-david.marchand@redhat.com>
References: <20240314091708.1542769-7-david.marchand@redhat.com>
Content-Type: text/plain
X-BeenThere: test-report@dpdk.org
X-Mailman-Version: 2.1.29
Precedence: list
List-Id: automatic DPDK test reports <test-report.dpdk.org>
List-Unsubscribe: <https://mails.dpdk.org/options/test-report>,
 <mailto:test-report-request@dpdk.org?subject=unsubscribe>
List-Archive: <http://mails.dpdk.org/archives/test-report/>
List-Post: <mailto:test-report@dpdk.org>
List-Help: <mailto:test-report-request@dpdk.org?subject=help>
List-Subscribe: <https://mails.dpdk.org/listinfo/test-report>,
 <mailto:test-report-request@dpdk.org?subject=subscribe>
Errors-To: test-report-bounces@dpdk.org

Test-Label: iol-compile-arm64-testing
Test-Status: SUCCESS
http://dpdk.org/patch/138371

_Testing PASS_

Submitter: David Marchand <david.marchand@redhat.com>
Date: Thursday, March 14 2024 09:17:07 
DPDK git baseline: Repo:dpdk
  Branch: master
  CommitID:6183c2aed018b9fea6fe95c4d602bc624f09c0cd

138366-138371 --> testing pass

Test environment and result as below:

+----------------------------------------+--------------------+
|              Environment               | dpdk_meson_compile |
+========================================+====================+
| Ubuntu 20.04 ARM SVE                   | PASS               |
+----------------------------------------+--------------------+
| Debian 12 with MUSDK                   | PASS               |
+----------------------------------------+--------------------+
| Ubuntu 20.04 ARM GCC Cross Compile     | PASS               |
+----------------------------------------+--------------------+
| Fedora 38 (ARM)                        | PASS               |
+----------------------------------------+--------------------+
| Fedora 37 (ARM)                        | PASS               |
+----------------------------------------+--------------------+
| Ubuntu 20.04 ARM Clang Cross Compile   | PASS               |
+----------------------------------------+--------------------+
| Ubuntu 20.04 (ARM)                     | PASS               |
+----------------------------------------+--------------------+
| Debian 12 (arm)                        | PASS               |
+----------------------------------------+--------------------+
| Debian 11 (Buster) (ARM)               | PASS               |
+----------------------------------------+--------------------+
| Ubuntu 20.04 aarch32 GCC Cross Compile | PASS               |
+----------------------------------------+--------------------+
| CentOS Stream 9 (ARM)                  | PASS               |
+----------------------------------------+--------------------+


Ubuntu 20.04 ARM SVE
	Kernel: 5.4.0-80-generic
	Compiler: gcc 10.3.0 (Ubuntu 10.3.0-1ubuntu1~20.04)

Debian 12 with MUSDK
	Kernel: Container Host Kernel
	Compiler: gcc 12

Ubuntu 20.04 ARM GCC Cross Compile
	Kernel: 5.4.0-72-generic
	Compiler: aarch64-linux-gnu-gcc (Ubuntu 9.3.0-17ubuntu1~20.04) 9.3.0

Fedora 38 (ARM)
	Kernel: Depends on container host
	Compiler: gcc 13.1.1

Fedora 37 (ARM)
	Kernel: Depends on container host
	Compiler: gcc 12.3.1

Ubuntu 20.04 ARM Clang Cross Compile
	Kernel: 5.4.0-72-generic
	Compiler: clang version 10.0.0-4ubuntu1

Ubuntu 20.04 (ARM)
	Kernel: Container Host Kernel
	Compiler: gcc 9.4.0

Debian 12 (arm)
	Kernel: Container Host Kernel
	Compiler: gcc 11

Debian 11 (Buster) (ARM)
	Kernel: Container Host Kernel
	Compiler: gcc 10.2.1

Ubuntu 20.04 aarch32 GCC Cross Compile
	Kernel: 5.4.0-72-generic
	Compiler: gcc 9.3.0

CentOS Stream 9 (ARM)
	Kernel: Container Host Kernel
	Compiler: gcc 11.3.1

To view detailed results, visit:
https://lab.dpdk.org/results/dashboard/patchsets/29545/

UNH-IOL DPDK Community Lab

To manage your email subscriptions, visit: 
https://lab.dpdk.org/results/dashboard/preferences/subscriptions/