From mboxrd@z Thu Jan  1 00:00:00 1970
Return-Path: <test-report-bounces@dpdk.org>
Received: from mails.dpdk.org (mails.dpdk.org [217.70.189.124])
	by inbox.dpdk.org (Postfix) with ESMTP id 0EC1343CA5
	for <public@inbox.dpdk.org>; Thu, 14 Mar 2024 12:48:16 +0100 (CET)
Received: from mails.dpdk.org (localhost [127.0.0.1])
	by mails.dpdk.org (Postfix) with ESMTP id 06D1E42EBA;
	Thu, 14 Mar 2024 12:48:16 +0100 (CET)
Received: from mail-oo1-f98.google.com (mail-oo1-f98.google.com
 [209.85.161.98]) by mails.dpdk.org (Postfix) with ESMTP id 01B3240297
 for <test-report@dpdk.org>; Thu, 14 Mar 2024 12:48:14 +0100 (CET)
Received: by mail-oo1-f98.google.com with SMTP id
 006d021491bc7-5a1fa3cf5eeso379887eaf.3
 for <test-report@dpdk.org>; Thu, 14 Mar 2024 04:48:13 -0700 (PDT)
DKIM-Signature: v=1; a=rsa-sha256; c=relaxed/relaxed;
 d=iol.unh.edu; s=unh-iol; t=1710416893; x=1711021693; darn=dpdk.org;
 h=references:in-reply-to:cc:to:from:subject:message-id:date:from:to
 :cc:subject:date:message-id:reply-to;
 bh=yTi6GmBe24eMnr6icPQVVPsN/kWm/5FFYOTzqcaAtc0=;
 b=TGudYzRz9DXUSLsk9z6PqHH7mF7z96HvYs0OWCx1IbSoEMdAY6c0hvq5xpl9R97QiQ
 rvax31cHso5+4h1CId81DgJtOMWJpfi9Xhj9ysjZixslAorUTXTuMr/T2wBIuFtLyZIA
 2xZLHmrXvfrJcpU60wCeB40wTLq9erAMTjAew=
X-Google-DKIM-Signature: v=1; a=rsa-sha256; c=relaxed/relaxed;
 d=1e100.net; s=20230601; t=1710416893; x=1711021693;
 h=references:in-reply-to:cc:to:from:subject:message-id:date
 :x-gm-message-state:from:to:cc:subject:date:message-id:reply-to;
 bh=yTi6GmBe24eMnr6icPQVVPsN/kWm/5FFYOTzqcaAtc0=;
 b=o+hjuKo+UAYiD6T31Of7Wz2LmBrRvreYQAyVKVdKT0xZWt183+bCKhJra3Ub2W7IWk
 p1QBMExgy6q0JZvrCphmj5OrN6vS0DH2uxKXguDDzBf5JNqw7hKkwwmQy5qYsgB3OYJp
 wYgxClfqLfcX6BeiRrKD+0R9izPPK2SRG/iY8LjWw27ykAkNmo4y2INZedI3yUm5wICh
 vceCo+1FFvlFxdyWNwS3kiNIcQmTE6XvRjm1qpJplXWYg7qq4kfwi7qyIl9K+dTJYydI
 44y2FzsH6Ef4Mri9BnRS3+ro5aB54LGdRlfLvQMEDjM5xoIlAhhStVADKPyaM+bP1vV0
 1HhA==
X-Gm-Message-State: AOJu0Yz/DnbzJzdvWbCaOQQQ3RfzX6CHJQqVmhnCQm5ZNKKljSMwqBOK
 Ihr4SPTiVCVcyJwzmlRItQ5TQb4mM/CaZUgVGqRGxY9hOwEjNC1b9+kLzW6Wsg/1COSAurYhL32
 6YEn+u2FqVTWO0Vm52KNVZGdv92X2U/SdRY5waN4YfNsVBEWbZB80AuJF
X-Google-Smtp-Source: AGHT+IGI2krGJoWqSPXWkcC28zZLtmsHDJp1D0DWFRtuk0YBLJ0w5EjxIhLvUiktXsW6qWP3VkB65dVsXuFU
X-Received: by 2002:a05:6820:1686:b0:5a2:602:15be with SMTP id
 bc6-20020a056820168600b005a2060215bemr1947694oob.2.1710416893201; 
 Thu, 14 Mar 2024 04:48:13 -0700 (PDT)
Received: from postal.iol.unh.edu (postal.iol.unh.edu.
 [2606:4100:3880:1234::84]) by smtp-relay.gmail.com with ESMTPS id
 cp26-20020a056830661a00b006e67280e38csm17509otb.0.2024.03.14.04.48.13
 (version=TLS1_2 cipher=ECDHE-ECDSA-AES128-GCM-SHA256 bits=128/128);
 Thu, 14 Mar 2024 04:48:13 -0700 (PDT)
X-Relaying-Domain: iol.unh.edu
Date: Thu, 14 Mar 2024 04:48:13 -0700 (PDT)
Message-ID: <65f2e3fd.050a0220.f2b66.1175SMTPIN_ADDED_MISSING@mx.google.com>
Received: from [172.17.0.6] (unknown [172.18.0.217])
 by postal.iol.unh.edu (Postfix) with ESMTP id A9CFA6052471;
 Thu, 14 Mar 2024 07:48:12 -0400 (EDT)
Subject: |SUCCESS| pw138366-138371 [PATCH] [v2,6/6] app/testpmd: enhance geto
From: dpdklab@iol.unh.edu
To: Test Report <test-report@dpdk.org>
Cc: dpdk-test-reports@iol.unh.edu
In-Reply-To: <20240314091708.1542769-7-david.marchand@redhat.com>
References: <20240314091708.1542769-7-david.marchand@redhat.com>
Content-Type: text/plain
X-BeenThere: test-report@dpdk.org
X-Mailman-Version: 2.1.29
Precedence: list
List-Id: automatic DPDK test reports <test-report.dpdk.org>
List-Unsubscribe: <https://mails.dpdk.org/options/test-report>,
 <mailto:test-report-request@dpdk.org?subject=unsubscribe>
List-Archive: <http://mails.dpdk.org/archives/test-report/>
List-Post: <mailto:test-report@dpdk.org>
List-Help: <mailto:test-report-request@dpdk.org?subject=help>
List-Subscribe: <https://mails.dpdk.org/listinfo/test-report>,
 <mailto:test-report-request@dpdk.org?subject=subscribe>
Errors-To: test-report-bounces@dpdk.org

Test-Label: iol-abi-testing
Test-Status: SUCCESS
http://dpdk.org/patch/138371

_Testing PASS_

Submitter: David Marchand <david.marchand@redhat.com>
Date: Thursday, March 14 2024 09:17:07 
DPDK git baseline: Repo:dpdk
  Branch: master
  CommitID:6183c2aed018b9fea6fe95c4d602bc624f09c0cd

138366-138371 --> testing pass

Test environment and result as below:

+------------------+----------+
|   Environment    | abi_test |
+==================+==========+
| Debian 12 (arm)  | PASS     |
+------------------+----------+
| Fedora 38        | PASS     |
+------------------+----------+
| Fedora 37        | PASS     |
+------------------+----------+
| RHEL8            | PASS     |
+------------------+----------+
| Debian Bullseye  | PASS     |
+------------------+----------+
| CentOS Stream 8  | PASS     |
+------------------+----------+
| openSUSE Leap 15 | PASS     |
+------------------+----------+
| Ubuntu 22.04     | PASS     |
+------------------+----------+
| CentOS Stream 9  | PASS     |
+------------------+----------+


Debian 12 (arm)
	Kernel: Container Host Kernel
	Compiler: gcc 11

Fedora 38
	Kernel: Depends on container host
	Compiler: gcc 13.1.1

Fedora 37
	Kernel: Depends on container host system
	Compiler: gcc 12.3.1

RHEL8
	Kernel: 4.18.0-240.10.1.el8_3.x86_64
	Compiler: gcc 8.3.1 20191121 (Red Hat 8.3.1-5)

Debian Bullseye
	Kernel: 5.4.0-122-generic
	Compiler: gcc 10.2.1-6

CentOS Stream 8
	Kernel: 4.18.0-240.10.1.el8_3.x86_64
	Compiler: gcc 8.4.1 20200928

openSUSE Leap 15
	Kernel: 4.18.0-240.10.1.el8_3.x86_64
	Compiler: gcc 7.5.0

Ubuntu 22.04
	Kernel: 4.18.0-240.10.1.el8_3.x86_64
	Compiler: gcc 11.3.0

CentOS Stream 9
	Kernel: 4.18.0-240.10.1.el8_3.x86_64
	Compiler: gcc 11.3.1 20220421

To view detailed results, visit:
https://lab.dpdk.org/results/dashboard/patchsets/29545/

UNH-IOL DPDK Community Lab

To manage your email subscriptions, visit: 
https://lab.dpdk.org/results/dashboard/preferences/subscriptions/