From mboxrd@z Thu Jan  1 00:00:00 1970
Return-Path: <test-report-bounces@dpdk.org>
Received: from mails.dpdk.org (mails.dpdk.org [217.70.189.124])
	by inbox.dpdk.org (Postfix) with ESMTP id B546543CA5
	for <public@inbox.dpdk.org>; Thu, 14 Mar 2024 12:49:14 +0100 (CET)
Received: from mails.dpdk.org (localhost [127.0.0.1])
	by mails.dpdk.org (Postfix) with ESMTP id B1AF542EBE;
	Thu, 14 Mar 2024 12:49:14 +0100 (CET)
Received: from mail-il1-f226.google.com (mail-il1-f226.google.com
 [209.85.166.226])
 by mails.dpdk.org (Postfix) with ESMTP id E10C540297
 for <test-report@dpdk.org>; Thu, 14 Mar 2024 12:48:54 +0100 (CET)
Received: by mail-il1-f226.google.com with SMTP id
 e9e14a558f8ab-366753f1475so2915305ab.1
 for <test-report@dpdk.org>; Thu, 14 Mar 2024 04:48:54 -0700 (PDT)
DKIM-Signature: v=1; a=rsa-sha256; c=relaxed/relaxed;
 d=iol.unh.edu; s=unh-iol; t=1710416934; x=1711021734; darn=dpdk.org;
 h=references:in-reply-to:cc:to:from:subject:message-id:date:from:to
 :cc:subject:date:message-id:reply-to;
 bh=1OWDGWiESchLR49J7eIR6VriSZy9IeNmk8/y1ELYMxU=;
 b=OU6L5NMC9C+uGK3U/MZxlpQEftxVa8vXhkrH+rxNeu3NrR91Ao7LPYmJ/2n7R/JB75
 nUWgj9IyQXo95l63Vgomi9U+63dtATYc++8jTIrNhqYwcJ1W7FkZgSw7DIDUH2uhiZl8
 RXBGMglxaETEtqHxAnOfmFX8fcJzW+148iY84=
X-Google-DKIM-Signature: v=1; a=rsa-sha256; c=relaxed/relaxed;
 d=1e100.net; s=20230601; t=1710416934; x=1711021734;
 h=references:in-reply-to:cc:to:from:subject:message-id:date
 :x-gm-message-state:from:to:cc:subject:date:message-id:reply-to;
 bh=1OWDGWiESchLR49J7eIR6VriSZy9IeNmk8/y1ELYMxU=;
 b=R4EwkIosxtc/UKifr5hjSXm/x9wsf1EjUFAOfSf6ZYWnjcNU3G7S/AfQwwQjgG1qza
 DDN3bSwlNO80n/Pnzy1PSN/p1zTiwAJHp/OSeHGu7OKSFIOlbXU8v4/Gkg5sB85O5KMJ
 2t7PnjMaohlPFTh6w2z9RjSo/JtWhHHtRSL7BzYpObSR+Qpo+Vas1IsSHAv04laeftKB
 JTahhywwCkNBV3L1x3Yr0/Rk4vBGeCP8ggoWhGayDI9PazGZDzrKczJkkiE+udBSDn0P
 BcCxFhpXfrJ7SWJv+h59lvvFNbHGjmH41njqlVfaQ5dRWIJti1PmIlz66gFWqoP5o7jn
 APuA==
X-Gm-Message-State: AOJu0Ywp1H1yHRR+lpVjML50T4e6+UCATZzUyE98wZdZ2mGHKyMyVjIo
 ugSQ/RLJRosXmwvWYf3cqpEuxle9syMTgbJU9TOapIlZinmIPQgfa8xLmEkqizTu2gMND9FtUzJ
 NqxQqPxXARF1Nq5kWls5dYFPqafGiyRZdSV5OTslf
X-Google-Smtp-Source: AGHT+IGEa2G5VKpcYCXfM1LUyOfdKZOgnT2bAGi/jDNmmunOAKkuVfNxqNn6tzzSwIFAmvBXYoNvVsZSABLi
X-Received: by 2002:a05:6e02:1a23:b0:365:1b7c:670 with SMTP id
 g3-20020a056e021a2300b003651b7c0670mr1673277ile.8.1710416934380; 
 Thu, 14 Mar 2024 04:48:54 -0700 (PDT)
Received: from postal.iol.unh.edu (postal.iol.unh.edu. [132.177.123.84])
 by smtp-relay.gmail.com with ESMTPS id
 i24-20020a02b698000000b00476bc0b1326sm16671jam.76.2024.03.14.04.48.54
 (version=TLS1_2 cipher=ECDHE-ECDSA-AES128-GCM-SHA256 bits=128/128);
 Thu, 14 Mar 2024 04:48:54 -0700 (PDT)
X-Relaying-Domain: iol.unh.edu
Date: Thu, 14 Mar 2024 04:48:54 -0700 (PDT)
Message-ID: <65f2e426.020a0220.1e898.13d6SMTPIN_ADDED_MISSING@mx.google.com>
Received: from [172.17.0.7] (unknown [172.18.0.217])
 by postal.iol.unh.edu (Postfix) with ESMTP id E28146052471;
 Thu, 14 Mar 2024 07:48:53 -0400 (EDT)
Subject: |SUCCESS| pw138376-138377 [PATCH] [v7,2/2] doc: announce Intel IPsec
From: dpdklab@iol.unh.edu
To: Test Report <test-report@dpdk.org>
Cc: dpdk-test-reports@iol.unh.edu
In-Reply-To: <20240314103731.3242086-2-brian.dooley@intel.com>
References: <20240314103731.3242086-2-brian.dooley@intel.com>
Content-Type: text/plain
X-BeenThere: test-report@dpdk.org
X-Mailman-Version: 2.1.29
Precedence: list
List-Id: automatic DPDK test reports <test-report.dpdk.org>
List-Unsubscribe: <https://mails.dpdk.org/options/test-report>,
 <mailto:test-report-request@dpdk.org?subject=unsubscribe>
List-Archive: <http://mails.dpdk.org/archives/test-report/>
List-Post: <mailto:test-report@dpdk.org>
List-Help: <mailto:test-report-request@dpdk.org?subject=help>
List-Subscribe: <https://mails.dpdk.org/listinfo/test-report>,
 <mailto:test-report-request@dpdk.org?subject=subscribe>
Errors-To: test-report-bounces@dpdk.org

Test-Label: iol-abi-testing
Test-Status: SUCCESS
http://dpdk.org/patch/138377

_Testing PASS_

Submitter: Brian Dooley <brian.dooley@intel.com>
Date: Thursday, March 14 2024 10:37:31 
DPDK git baseline: Repo:dpdk
  Branch: master
  CommitID:197bb4582c43df3c40db97a0da463afea5e74951

138376-138377 --> testing pass

Test environment and result as below:

+------------------+----------+
|   Environment    | abi_test |
+==================+==========+
| Debian 12 (arm)  | PASS     |
+------------------+----------+
| Fedora 37        | PASS     |
+------------------+----------+
| Debian Bullseye  | PASS     |
+------------------+----------+
| openSUSE Leap 15 | PASS     |
+------------------+----------+
| Fedora 38        | PASS     |
+------------------+----------+


Debian 12 (arm)
	Kernel: Container Host Kernel
	Compiler: gcc 11

Fedora 37
	Kernel: Depends on container host system
	Compiler: gcc 12.3.1

Debian Bullseye
	Kernel: 5.4.0-122-generic
	Compiler: gcc 10.2.1-6

openSUSE Leap 15
	Kernel: 4.18.0-240.10.1.el8_3.x86_64
	Compiler: gcc 7.5.0

Fedora 38
	Kernel: Depends on container host
	Compiler: gcc 13.1.1

To view detailed results, visit:
https://lab.dpdk.org/results/dashboard/patchsets/29548/

UNH-IOL DPDK Community Lab

To manage your email subscriptions, visit: 
https://lab.dpdk.org/results/dashboard/preferences/subscriptions/