From mboxrd@z Thu Jan  1 00:00:00 1970
Return-Path: <test-report-bounces@dpdk.org>
Received: from mails.dpdk.org (mails.dpdk.org [217.70.189.124])
	by inbox.dpdk.org (Postfix) with ESMTP id 469E343CA5
	for <public@inbox.dpdk.org>; Thu, 14 Mar 2024 13:18:37 +0100 (CET)
Received: from mails.dpdk.org (localhost [127.0.0.1])
	by mails.dpdk.org (Postfix) with ESMTP id 3E6764028C;
	Thu, 14 Mar 2024 13:18:37 +0100 (CET)
Received: from mail-ot1-f97.google.com (mail-ot1-f97.google.com
 [209.85.210.97]) by mails.dpdk.org (Postfix) with ESMTP id 1746140041
 for <test-report@dpdk.org>; Thu, 14 Mar 2024 13:18:32 +0100 (CET)
Received: by mail-ot1-f97.google.com with SMTP id
 46e09a7af769-6e53be9e2cdso310366a34.3
 for <test-report@dpdk.org>; Thu, 14 Mar 2024 05:18:31 -0700 (PDT)
DKIM-Signature: v=1; a=rsa-sha256; c=relaxed/relaxed;
 d=iol.unh.edu; s=unh-iol; t=1710418711; x=1711023511; darn=dpdk.org;
 h=references:in-reply-to:cc:to:from:subject:message-id:date:from:to
 :cc:subject:date:message-id:reply-to;
 bh=AL9ASwukHQGpwIINrYmk5xpWc3Z7P9iR6xhZmIwXiQw=;
 b=WEeIBPRgk86mmJJEm5ZXd9RCDeV8USNfgjBrQ8rZ7XhzrF9NW5uvdncmd9RUEJ2QRM
 oFZWeV1zRfcXhgH/HsmTBnWLBKzgkGVjkm1efPjT10f3NnZUc8MIdcCbFsG4FHLr7lXt
 JAVFG4fTUE+cqAf1U8V5r9o8glhG3RYJ7jzg8=
X-Google-DKIM-Signature: v=1; a=rsa-sha256; c=relaxed/relaxed;
 d=1e100.net; s=20230601; t=1710418711; x=1711023511;
 h=references:in-reply-to:cc:to:from:subject:message-id:date
 :x-gm-message-state:from:to:cc:subject:date:message-id:reply-to;
 bh=AL9ASwukHQGpwIINrYmk5xpWc3Z7P9iR6xhZmIwXiQw=;
 b=OVPM+BJmiNAKvF56b14vJoN1nY4aM15tBezmCeVSsN1JAVo9v2u02UcY3a9Uz4zOLS
 Z08OYUK0obFMMXqBPXXSdSbzjh/YpVzmOoFclU76xRoZ6NqH7tTupm2p+XuGZNLe2YTD
 932HNiDLugnsQPzbftTuVL7E9VDYt8XrYEQmMQzbfDrO2rT/E5nFnLIkRQxhq0fc577t
 a56g4/WyEuFZpHqiCp7viikzsj12xT93t7h6tdId2qru3cl1Dq76JscQbcrKlDQSQCzN
 YGiNVTqUS64AwGjyKqciHJ0vYtFlbGiBNlKLKtN43sOYdGZoahMgRCmAnF8y+p1bhWJ3
 wU1Q==
X-Gm-Message-State: AOJu0YyZC8oP8xkZHymBUcwy8KlWZlZ7u1CjcxY7Pf1OMzimMoaGag2N
 Ks8CiXGcbbesojLTJirZAnRnO69fFQVWATEYvnoD1bcTe6QqdJILbyDnrAN/EDn/D0mB24YCVde
 b7SWeApD7b4YEvC3Nr1RB+SNdF+Vskn0peVJBwNTw49fedrSruDcZb0fj
X-Google-Smtp-Source: AGHT+IFRKL/32Vlsrnaful42rbU3K5vLKZR0Op3P//WKEr6V0Hb1k5xp8DpJYeGf7RCCE6UXkrCTsNZniwuN
X-Received: by 2002:a05:6830:270b:b0:6e4:e4a9:45ec with SMTP id
 j11-20020a056830270b00b006e4e4a945ecmr1959151otu.29.1710418711380; 
 Thu, 14 Mar 2024 05:18:31 -0700 (PDT)
Received: from postal.iol.unh.edu (postal.iol.unh.edu.
 [2606:4100:3880:1234::84]) by smtp-relay.gmail.com with ESMTPS id
 ds21-20020a0568306c1500b006e4e0392acdsm67460otb.3.2024.03.14.05.18.31
 (version=TLS1_2 cipher=ECDHE-ECDSA-AES128-GCM-SHA256 bits=128/128);
 Thu, 14 Mar 2024 05:18:31 -0700 (PDT)
X-Relaying-Domain: iol.unh.edu
Date: Thu, 14 Mar 2024 05:18:31 -0700 (PDT)
Message-ID: <65f2eb17.050a0220.80904.3da9SMTPIN_ADDED_MISSING@mx.google.com>
Received: from [172.17.0.9] (unknown [172.18.0.217])
 by postal.iol.unh.edu (Postfix) with ESMTP id D72336052471;
 Thu, 14 Mar 2024 08:18:30 -0400 (EDT)
Subject: |SUCCESS| pw138366-138371 [PATCH] [v2,6/6] app/testpmd: enhance geto
From: dpdklab@iol.unh.edu
To: Test Report <test-report@dpdk.org>
Cc: dpdk-test-reports@iol.unh.edu
In-Reply-To: <20240314091708.1542769-7-david.marchand@redhat.com>
References: <20240314091708.1542769-7-david.marchand@redhat.com>
Content-Type: text/plain
X-BeenThere: test-report@dpdk.org
X-Mailman-Version: 2.1.29
Precedence: list
List-Id: automatic DPDK test reports <test-report.dpdk.org>
List-Unsubscribe: <https://mails.dpdk.org/options/test-report>,
 <mailto:test-report-request@dpdk.org?subject=unsubscribe>
List-Archive: <http://mails.dpdk.org/archives/test-report/>
List-Post: <mailto:test-report@dpdk.org>
List-Help: <mailto:test-report-request@dpdk.org?subject=help>
List-Subscribe: <https://mails.dpdk.org/listinfo/test-report>,
 <mailto:test-report-request@dpdk.org?subject=subscribe>
Errors-To: test-report-bounces@dpdk.org

Test-Label: iol-unit-arm64-testing
Test-Status: SUCCESS
http://dpdk.org/patch/138371

_Testing PASS_

Submitter: David Marchand <david.marchand@redhat.com>
Date: Thursday, March 14 2024 09:17:07 
DPDK git baseline: Repo:dpdk
  Branch: master
  CommitID:6183c2aed018b9fea6fe95c4d602bc624f09c0cd

138366-138371 --> testing pass

Test environment and result as below:

+--------------------------+----------------+---------------------------+------------------------------+--------------+
|       Environment        | dpdk_unit_test | cryptodev_sw_zuc_autotest | cryptodev_sw_snow3g_autotest | lpm_autotest |
+==========================+================+===========================+==============================+==============+
| CentOS Stream 9 (ARM)    | PASS           | SKIPPED                   | SKIPPED                      | SKIPPED      |
+--------------------------+----------------+---------------------------+------------------------------+--------------+
| Debian 11 (Buster) (ARM) | PASS           | SKIPPED                   | SKIPPED                      | SKIPPED      |
+--------------------------+----------------+---------------------------+------------------------------+--------------+
| Debian 12 (arm)          | PASS           | PASS                      | PASS                         | SKIPPED      |
+--------------------------+----------------+---------------------------+------------------------------+--------------+
| Fedora 37 (ARM)          | PASS           | SKIPPED                   | SKIPPED                      | SKIPPED      |
+--------------------------+----------------+---------------------------+------------------------------+--------------+
| Fedora 38 (ARM)          | PASS           | SKIPPED                   | SKIPPED                      | SKIPPED      |
+--------------------------+----------------+---------------------------+------------------------------+--------------+
| Ubuntu 20.04 (ARM)       | PASS           | SKIPPED                   | SKIPPED                      | SKIPPED      |
+--------------------------+----------------+---------------------------+------------------------------+--------------+
| Ubuntu 20.04 ARM SVE     | SKIPPED        | SKIPPED                   | SKIPPED                      | PASS         |
+--------------------------+----------------+---------------------------+------------------------------+--------------+


CentOS Stream 9 (ARM)
	Kernel: Container Host Kernel
	Compiler: gcc 11.3.1

Debian 11 (Buster) (ARM)
	Kernel: Container Host Kernel
	Compiler: gcc 10.2.1

Debian 12 (arm)
	Kernel: Container Host Kernel
	Compiler: gcc 11

Fedora 37 (ARM)
	Kernel: Depends on container host
	Compiler: gcc 12.3.1

Fedora 38 (ARM)
	Kernel: Depends on container host
	Compiler: gcc 13.1.1

Ubuntu 20.04 (ARM)
	Kernel: Container Host Kernel
	Compiler: gcc 9.4.0

Ubuntu 20.04 ARM SVE
	Kernel: 5.4.0-80-generic
	Compiler: gcc 10.3.0 (Ubuntu 10.3.0-1ubuntu1~20.04)

To view detailed results, visit:
https://lab.dpdk.org/results/dashboard/patchsets/29545/

UNH-IOL DPDK Community Lab

To manage your email subscriptions, visit: 
https://lab.dpdk.org/results/dashboard/preferences/subscriptions/