From mboxrd@z Thu Jan  1 00:00:00 1970
Return-Path: <test-report-bounces@dpdk.org>
Received: from mails.dpdk.org (mails.dpdk.org [217.70.189.124])
	by inbox.dpdk.org (Postfix) with ESMTP id B9FB443CA5
	for <public@inbox.dpdk.org>; Thu, 14 Mar 2024 13:28:13 +0100 (CET)
Received: from mails.dpdk.org (localhost [127.0.0.1])
	by mails.dpdk.org (Postfix) with ESMTP id 643C942E9D;
	Thu, 14 Mar 2024 13:28:13 +0100 (CET)
Received: from mail-yw1-f226.google.com (mail-yw1-f226.google.com
 [209.85.128.226])
 by mails.dpdk.org (Postfix) with ESMTP id EEA5B4028C
 for <test-report@dpdk.org>; Thu, 14 Mar 2024 13:28:08 +0100 (CET)
Received: by mail-yw1-f226.google.com with SMTP id
 00721157ae682-609fb19ae76so9898207b3.2
 for <test-report@dpdk.org>; Thu, 14 Mar 2024 05:28:08 -0700 (PDT)
DKIM-Signature: v=1; a=rsa-sha256; c=relaxed/relaxed;
 d=iol.unh.edu; s=unh-iol; t=1710419288; x=1711024088; darn=dpdk.org;
 h=references:in-reply-to:cc:to:from:subject:message-id:date:from:to
 :cc:subject:date:message-id:reply-to;
 bh=R/BzJcy8ylqhRApsWb1N44BOPm3yjywNzY9eemYPjW4=;
 b=hGGncJWClJXp1Bbx5Vn/c4o45zxeYVpo9h4PcBe85ycSvZV2S7vOmUGEUamqM4vIhU
 VpE5zGkbINoEuKf1dKd0NL9VviJsRzmpsq4qnDYRabchYW1UerV0OkyLC12UZmWtpI4k
 S0SXuoR79aBiidUQJ0Vj95jLQ4g7HEDDYULRo=
X-Google-DKIM-Signature: v=1; a=rsa-sha256; c=relaxed/relaxed;
 d=1e100.net; s=20230601; t=1710419288; x=1711024088;
 h=references:in-reply-to:cc:to:from:subject:message-id:date
 :x-gm-message-state:from:to:cc:subject:date:message-id:reply-to;
 bh=R/BzJcy8ylqhRApsWb1N44BOPm3yjywNzY9eemYPjW4=;
 b=haw8PCZ9iXEFL1fFZWEXkeFQvuHuj+igaOfrchNeumvIC37XCbeYnWFiQmfbJHvCsE
 awYzPGyniBUdfCMUDaSDCO8ciqmKzZhbSgvciYWs27W24RDH0GB0D8H3m9tWGxoWqFsD
 qiIHDBef898AbFiO4rQtjiwLqRKS8dFxLPk4eN2oZYvz1qxmJwlQO1GWgv5KsZi+go5x
 vbn1mQyUpw67kHX9dMSaE+7LyIhNX6ycGLIrR7sHgAEWDBbXwIJzr6Fi72VAJvXSsGWN
 b7rdFswOeWoeNFVE2AFvNeOxHgj0p9kUIz4ECkPIgrcN1NCrzcExTOS4f19Lgu9H+vfm
 clbg==
X-Gm-Message-State: AOJu0Yy0fXcy290K53HPUX4UhF0RfFupeoI4zHNrdtQ+3bDmFSFdUtbo
 GIfbr9R26BXBaFQA2iOiHKkLBPMCg0h7PKB/i3OkWoqnNLMUHE8ki0woq/zR4lZOFm48dVdVFeb
 CaBBn3uUHPf0eatzCGw+DPxwzFnBVs8QR55t7qGG/fyGBjrWMPaw/Nukp
X-Google-Smtp-Source: AGHT+IHNaUoVnSF4zlF+05M/qsKJAVWozNhWJ4A8sCeSR73TZzsTnk9Y+LqbCNfVKho8QNjK8q36lESBnf2j
X-Received: by 2002:a0d:fe01:0:b0:60a:2b18:6637 with SMTP id
 o1-20020a0dfe01000000b0060a2b186637mr498088ywf.34.1710419286944; 
 Thu, 14 Mar 2024 05:28:06 -0700 (PDT)
Received: from postal.iol.unh.edu (postal.iol.unh.edu.
 [2606:4100:3880:1234::84]) by smtp-relay.gmail.com with ESMTPS id
 a135-20020a0dd88d000000b0060a0644246bsm87193ywe.60.2024.03.14.05.28.06
 (version=TLS1_2 cipher=ECDHE-ECDSA-AES128-GCM-SHA256 bits=128/128);
 Thu, 14 Mar 2024 05:28:06 -0700 (PDT)
X-Relaying-Domain: iol.unh.edu
Date: Thu, 14 Mar 2024 05:28:06 -0700 (PDT)
Message-ID: <65f2ed56.0d0a0220.2d0e8.6842SMTPIN_ADDED_MISSING@mx.google.com>
Received: from [172.21.0.9] (unknown [172.18.0.240])
 by postal.iol.unh.edu (Postfix) with ESMTP id 97D6A6052471;
 Thu, 14 Mar 2024 08:28:06 -0400 (EDT)
Subject: |SUCCESS| pw138376-138377 [PATCH] [v7,2/2] doc: announce Intel IPsec
From: dpdklab@iol.unh.edu
To: Test Report <test-report@dpdk.org>
Cc: dpdk-test-reports@iol.unh.edu
In-Reply-To: <20240314103731.3242086-2-brian.dooley@intel.com>
References: <20240314103731.3242086-2-brian.dooley@intel.com>
Content-Type: text/plain
X-BeenThere: test-report@dpdk.org
X-Mailman-Version: 2.1.29
Precedence: list
List-Id: automatic DPDK test reports <test-report.dpdk.org>
List-Unsubscribe: <https://mails.dpdk.org/options/test-report>,
 <mailto:test-report-request@dpdk.org?subject=unsubscribe>
List-Archive: <http://mails.dpdk.org/archives/test-report/>
List-Post: <mailto:test-report@dpdk.org>
List-Help: <mailto:test-report-request@dpdk.org?subject=help>
List-Subscribe: <https://mails.dpdk.org/listinfo/test-report>,
 <mailto:test-report-request@dpdk.org?subject=subscribe>
Errors-To: test-report-bounces@dpdk.org

Test-Label: iol-compile-amd64-testing
Test-Status: SUCCESS
http://dpdk.org/patch/138377

_Testing PASS_

Submitter: Brian Dooley <brian.dooley@intel.com>
Date: Thursday, March 14 2024 10:37:31 
DPDK git baseline: Repo:dpdk
  Branch: master
  CommitID:197bb4582c43df3c40db97a0da463afea5e74951

138376-138377 --> testing pass

Test environment and result as below:

+---------------------+--------------------+
|     Environment     | dpdk_meson_compile |
+=====================+====================+
| Windows Server 2022 | PASS               |
+---------------------+--------------------+
| Debian Bullseye     | PASS               |
+---------------------+--------------------+
| FreeBSD 13.2        | PASS               |
+---------------------+--------------------+
| CentOS Stream 9     | PASS               |
+---------------------+--------------------+
| CentOS Stream 8     | PASS               |
+---------------------+--------------------+
| Debian 12 (arm)     | PASS               |
+---------------------+--------------------+
| Fedora 37           | PASS               |
+---------------------+--------------------+
| Ubuntu 22.04        | PASS               |
+---------------------+--------------------+
| Ubuntu 20.04        | PASS               |
+---------------------+--------------------+
| Fedora 38           | PASS               |
+---------------------+--------------------+
| openSUSE Leap 15    | PASS               |
+---------------------+--------------------+
| RHEL8               | PASS               |
+---------------------+--------------------+
| Alpine              | PASS               |
+---------------------+--------------------+
| Windows Server 2019 | PASS               |
+---------------------+--------------------+


Windows Server 2022
	Kernel: OS Build 20348.2031
	Compiler: MSVC VS-Preview

Debian Bullseye
	Kernel: 5.4.0-122-generic
	Compiler: gcc 10.2.1-6

FreeBSD 13.2
	Kernel: 13.2
	Compiler: clang 11.3.0

CentOS Stream 9
	Kernel: 4.18.0-240.10.1.el8_3.x86_64
	Compiler: gcc 11.3.1 20220421

CentOS Stream 8
	Kernel: 4.18.0-240.10.1.el8_3.x86_64
	Compiler: gcc 8.4.1 20200928

Debian 12 (arm)
	Kernel: Container Host Kernel
	Compiler: gcc 11

Fedora 37
	Kernel: Depends on container host system
	Compiler: gcc 12.3.1

Ubuntu 22.04
	Kernel: 4.18.0-240.10.1.el8_3.x86_64
	Compiler: gcc 11.3.0

Ubuntu 20.04
	Kernel: 5.4.0-153-generic
	Compiler: gcc 9.4.0-1ubuntu1~20.04.1

Fedora 38
	Kernel: Depends on container host
	Compiler: gcc 13.1.1

openSUSE Leap 15
	Kernel: 4.18.0-240.10.1.el8_3.x86_64
	Compiler: gcc 7.5.0

RHEL8
	Kernel: 4.18.0-240.10.1.el8_3.x86_64
	Compiler: gcc 8.3.1 20191121 (Red Hat 8.3.1-5)

Alpine
	Kernel: 5.4.0-73-generic
	Compiler: gcc (Alpine 10.3.1_git20210424) 10.3.1 20210424

Windows Server 2019
	Kernel: 10.0
	Compiler: clang 14.0 and gcc 8.1.0 (MinGW)

To view detailed results, visit:
https://lab.dpdk.org/results/dashboard/patchsets/29548/

UNH-IOL DPDK Community Lab

To manage your email subscriptions, visit: 
https://lab.dpdk.org/results/dashboard/preferences/subscriptions/