From mboxrd@z Thu Jan  1 00:00:00 1970
Return-Path: <test-report-bounces@dpdk.org>
Received: from mails.dpdk.org (mails.dpdk.org [217.70.189.124])
	by inbox.dpdk.org (Postfix) with ESMTP id 6291D43CA5
	for <public@inbox.dpdk.org>; Thu, 14 Mar 2024 13:51:20 +0100 (CET)
Received: from mails.dpdk.org (localhost [127.0.0.1])
	by mails.dpdk.org (Postfix) with ESMTP id 5E8424028C;
	Thu, 14 Mar 2024 13:51:20 +0100 (CET)
Received: from mail-il1-f227.google.com (mail-il1-f227.google.com
 [209.85.166.227])
 by mails.dpdk.org (Postfix) with ESMTP id 3EEBE40041
 for <test-report@dpdk.org>; Thu, 14 Mar 2024 13:51:19 +0100 (CET)
Received: by mail-il1-f227.google.com with SMTP id
 e9e14a558f8ab-3662d7c79a9so6697985ab.3
 for <test-report@dpdk.org>; Thu, 14 Mar 2024 05:51:19 -0700 (PDT)
DKIM-Signature: v=1; a=rsa-sha256; c=relaxed/relaxed;
 d=iol.unh.edu; s=unh-iol; t=1710420678; x=1711025478; darn=dpdk.org;
 h=references:in-reply-to:cc:to:from:subject:message-id:date:from:to
 :cc:subject:date:message-id:reply-to;
 bh=FPkg6v/9pEZC/EkC5YXDershG1L0gE1J49kRkE/4EqE=;
 b=QkrlKkN0GFxZEYU5iggV6nmcjRst3KYl8kBUNcT/Zq5EOWAHLbZ0fbp3Y8Bh+TXNHA
 nWAH6lc0KvgC5ZmaarzPUp6+6VYsNcYAM2XfFo8D538iSWXDT/VjtWMTuay8ZSvkt97J
 2TO+ODls5M0rp2zkHHTdrpENTUARuQ6xMLcEI=
X-Google-DKIM-Signature: v=1; a=rsa-sha256; c=relaxed/relaxed;
 d=1e100.net; s=20230601; t=1710420678; x=1711025478;
 h=references:in-reply-to:cc:to:from:subject:message-id:date
 :x-gm-message-state:from:to:cc:subject:date:message-id:reply-to;
 bh=FPkg6v/9pEZC/EkC5YXDershG1L0gE1J49kRkE/4EqE=;
 b=GTK8SMzV7zFOx1F0nw0tH0IIZYKfHSc8dInO0uN7rD4bwezVkjCN2Y2Zh3LXZxA7nc
 5oZiM8Ovnjlno+ePKqCN6DRPbpAnhvCcNfx1pYuZnqat0FvGGVWk2CuW/Xy1q/uEJgNZ
 JC4ZjgURd0XzlnShs8Paxmmx0CIYiGUXJhJKvC9AYK/EV5h6oId/x+S06IGttT/y4NJ6
 2OTvVL4AwmMm+GILPbjihe6dgT6ZMg3S8uNPNoxvVoitA1vUzWenzbyABeJdA/emBMM0
 tLL+5Jdu3TMfk9V0B/iOqBgLIRMaeUPzTb7mlEDmy7UcWjyXTyZlVqNKKpsHQjG9y/xe
 zqug==
X-Gm-Message-State: AOJu0YxTnK4mvbUDmv8UP1mTMOjOhJQgsmvkry/4EMnShTUroofmnGuY
 1t2Tk6VBJ8o493jtQ/fwry0DNZ7egonnyB5kafo+hE1hkjmu4CKEmsfxGCB69F27KL5nlCPQbgl
 8lkirMxiTJZJU/3o9/dPo6Q2cDrnOA+5CjoWlxOnhY4/lPuZgjaHNJ7iB
X-Google-Smtp-Source: AGHT+IEX+1uVyE2WtctierqGPB+yoenpDhBYlyAqnpwKBL1aDWkP000QONrlVDpvQagKVmIRZ3nPhAmjKLgM
X-Received: by 2002:a05:6e02:cc4:b0:366:35d6:70a3 with SMTP id
 c4-20020a056e020cc400b0036635d670a3mr1536629ilj.7.1710420678709; 
 Thu, 14 Mar 2024 05:51:18 -0700 (PDT)
Received: from postal.iol.unh.edu (postal.iol.unh.edu.
 [2606:4100:3880:1234::84]) by smtp-relay.gmail.com with ESMTPS id
 g20-20020a05663816d400b00474b3f646c5sm17829jat.70.2024.03.14.05.51.18
 (version=TLS1_2 cipher=ECDHE-ECDSA-AES128-GCM-SHA256 bits=128/128);
 Thu, 14 Mar 2024 05:51:18 -0700 (PDT)
X-Relaying-Domain: iol.unh.edu
Date: Thu, 14 Mar 2024 05:51:18 -0700 (PDT)
Message-ID: <65f2f2c6.050a0220.d6bca.18f7SMTPIN_ADDED_MISSING@mx.google.com>
Received: from [172.21.0.6] (unknown [172.18.0.240])
 by postal.iol.unh.edu (Postfix) with ESMTP id 3B35D6052471;
 Thu, 14 Mar 2024 08:51:18 -0400 (EDT)
Subject: |SUCCESS| pw138376-138377 [PATCH] [v7,2/2] doc: announce Intel IPsec
From: dpdklab@iol.unh.edu
To: Test Report <test-report@dpdk.org>
Cc: dpdk-test-reports@iol.unh.edu
In-Reply-To: <20240314103731.3242086-2-brian.dooley@intel.com>
References: <20240314103731.3242086-2-brian.dooley@intel.com>
Content-Type: text/plain
X-BeenThere: test-report@dpdk.org
X-Mailman-Version: 2.1.29
Precedence: list
List-Id: automatic DPDK test reports <test-report.dpdk.org>
List-Unsubscribe: <https://mails.dpdk.org/options/test-report>,
 <mailto:test-report-request@dpdk.org?subject=unsubscribe>
List-Archive: <http://mails.dpdk.org/archives/test-report/>
List-Post: <mailto:test-report@dpdk.org>
List-Help: <mailto:test-report-request@dpdk.org?subject=help>
List-Subscribe: <https://mails.dpdk.org/listinfo/test-report>,
 <mailto:test-report-request@dpdk.org?subject=subscribe>
Errors-To: test-report-bounces@dpdk.org

Test-Label: iol-unit-amd64-testing
Test-Status: SUCCESS
http://dpdk.org/patch/138377

_Testing PASS_

Submitter: Brian Dooley <brian.dooley@intel.com>
Date: Thursday, March 14 2024 10:37:31 
DPDK git baseline: Repo:dpdk
  Branch: master
  CommitID:197bb4582c43df3c40db97a0da463afea5e74951

138376-138377 --> testing pass

Test environment and result as below:

+------------------+----------------+
|   Environment    | dpdk_unit_test |
+==================+================+
| CentOS Stream 9  | PASS           |
+------------------+----------------+
| Debian Bullseye  | PASS           |
+------------------+----------------+
| Debian 12 (arm)  | PASS           |
+------------------+----------------+
| Fedora 37        | PASS           |
+------------------+----------------+
| CentOS Stream 8  | PASS           |
+------------------+----------------+
| RHEL8            | PASS           |
+------------------+----------------+
| Fedora 38        | PASS           |
+------------------+----------------+
| openSUSE Leap 15 | PASS           |
+------------------+----------------+
| Ubuntu 22.04     | PASS           |
+------------------+----------------+
| Ubuntu 20.04     | PASS           |
+------------------+----------------+


CentOS Stream 9
	Kernel: 4.18.0-240.10.1.el8_3.x86_64
	Compiler: gcc 11.3.1 20220421

Debian Bullseye
	Kernel: 5.4.0-122-generic
	Compiler: gcc 10.2.1-6

Debian 12 (arm)
	Kernel: Container Host Kernel
	Compiler: gcc 11

Fedora 37
	Kernel: Depends on container host system
	Compiler: gcc 12.3.1

CentOS Stream 8
	Kernel: 4.18.0-240.10.1.el8_3.x86_64
	Compiler: gcc 8.4.1 20200928

RHEL8
	Kernel: 4.18.0-240.10.1.el8_3.x86_64
	Compiler: gcc 8.3.1 20191121 (Red Hat 8.3.1-5)

Fedora 38
	Kernel: Depends on container host
	Compiler: gcc 13.1.1

openSUSE Leap 15
	Kernel: 4.18.0-240.10.1.el8_3.x86_64
	Compiler: gcc 7.5.0

Ubuntu 22.04
	Kernel: 4.18.0-240.10.1.el8_3.x86_64
	Compiler: gcc 11.3.0

Ubuntu 20.04
	Kernel: 5.4.0-153-generic
	Compiler: gcc 9.4.0-1ubuntu1~20.04.1

To view detailed results, visit:
https://lab.dpdk.org/results/dashboard/patchsets/29548/

UNH-IOL DPDK Community Lab

To manage your email subscriptions, visit: 
https://lab.dpdk.org/results/dashboard/preferences/subscriptions/