From mboxrd@z Thu Jan  1 00:00:00 1970
Return-Path: <test-report-bounces@dpdk.org>
Received: from mails.dpdk.org (mails.dpdk.org [217.70.189.124])
	by inbox.dpdk.org (Postfix) with ESMTP id B2B2143CA5
	for <public@inbox.dpdk.org>; Thu, 14 Mar 2024 13:52:43 +0100 (CET)
Received: from mails.dpdk.org (localhost [127.0.0.1])
	by mails.dpdk.org (Postfix) with ESMTP id AC2EA4028C;
	Thu, 14 Mar 2024 13:52:43 +0100 (CET)
Received: from mail-pj1-f97.google.com (mail-pj1-f97.google.com
 [209.85.216.97]) by mails.dpdk.org (Postfix) with ESMTP id 1A04140041
 for <test-report@dpdk.org>; Thu, 14 Mar 2024 13:52:43 +0100 (CET)
Received: by mail-pj1-f97.google.com with SMTP id
 98e67ed59e1d1-29b73427790so679847a91.3
 for <test-report@dpdk.org>; Thu, 14 Mar 2024 05:52:43 -0700 (PDT)
DKIM-Signature: v=1; a=rsa-sha256; c=relaxed/relaxed;
 d=iol.unh.edu; s=unh-iol; t=1710420762; x=1711025562; darn=dpdk.org;
 h=references:in-reply-to:cc:to:from:subject:message-id:date:from:to
 :cc:subject:date:message-id:reply-to;
 bh=FPkg6v/9pEZC/EkC5YXDershG1L0gE1J49kRkE/4EqE=;
 b=MgZQRzb2aXk7AV5OPJYZM/Hop/id4qmDdfLDweORnA/2u7fgBjjxuUm+ixYY327+h/
 WEiBn1hSAjrgtg9Vk5FvcNeNZsVd5ymIY/695l6qRxgusxy81Ttg+ePFj0MIuWyDDZwa
 WN3xVAqO3NDKWdW5DbxWyp3k3We+wobi+miKg=
X-Google-DKIM-Signature: v=1; a=rsa-sha256; c=relaxed/relaxed;
 d=1e100.net; s=20230601; t=1710420762; x=1711025562;
 h=references:in-reply-to:cc:to:from:subject:message-id:date
 :x-gm-message-state:from:to:cc:subject:date:message-id:reply-to;
 bh=FPkg6v/9pEZC/EkC5YXDershG1L0gE1J49kRkE/4EqE=;
 b=xOG8Uprf7dBG44VpdmeggTyIXuS5yKpkosPUUbnLonMnwtTyHoAgbgZYwNciFeeeoI
 DSio92BrtLWLtZQvYJ8aS3jRbcbv6znztI3V5l20vmOVvyW4mLiKAZ/2pR15BSzNr+0d
 gBY8MgdPQWLay9RabWiiPargb0RZLVqUgekyHGtfvfKKgFPfPmTh0XF7cAQR8rzgmrbL
 N5XWZAjXPIIcb3r0vGXVevwgRbqJhkMJGdpBpgFmVvbC7g0XiXwgSVOSY3KWkN/dyIaF
 ejqiik3tEGZ2NuSbibc/GBdO79lYedyBuIfOKAYzLVsoihep7OcJb7bIoo+uznP/gaC1
 AO/w==
X-Gm-Message-State: AOJu0YxaVz8U50Ltm3N4qp5JTFNG0ndSMIXxJe+SBGTmVc8LZHfo/UqI
 bIeg9AQeRtVtE0ci60wufyeAZxmT0X66dvFp7Gonl+foPKQ/0z2e8CKRUYJHf+PkfeubzYqj7Um
 +ep5aLCNizoBBlgiBGXCu0xGqyyOD+dVkUnEQYcJp
X-Google-Smtp-Source: AGHT+IFpD8Kra9oepxKmPUp8bzkvaNp9jpoW/4A8/vHe0BQ7tuKCHWQ75MDra6x9Zc+etwZ2Q4mP/sTu1I94
X-Received: by 2002:a17:90a:540e:b0:299:3035:aede with SMTP id
 z14-20020a17090a540e00b002993035aedemr1345906pjh.44.1710420762257; 
 Thu, 14 Mar 2024 05:52:42 -0700 (PDT)
Received: from postal.iol.unh.edu (postal.iol.unh.edu. [132.177.123.84])
 by smtp-relay.gmail.com with ESMTPS id
 gt18-20020a17090af2d200b0029bc57871e4sm24437pjb.1.2024.03.14.05.52.42
 (version=TLS1_2 cipher=ECDHE-ECDSA-AES128-GCM-SHA256 bits=128/128);
 Thu, 14 Mar 2024 05:52:42 -0700 (PDT)
X-Relaying-Domain: iol.unh.edu
Date: Thu, 14 Mar 2024 05:52:42 -0700 (PDT)
Message-ID: <65f2f31a.170a0220.50b45.1fa9SMTPIN_ADDED_MISSING@mx.google.com>
Received: from [172.21.0.6] (unknown [172.18.0.240])
 by postal.iol.unh.edu (Postfix) with ESMTP id 61CDA6052471;
 Thu, 14 Mar 2024 08:52:41 -0400 (EDT)
Subject: |SUCCESS| pw138376-138377 [PATCH] [v7,2/2] doc: announce Intel IPsec
From: dpdklab@iol.unh.edu
To: Test Report <test-report@dpdk.org>
Cc: dpdk-test-reports@iol.unh.edu
In-Reply-To: <20240314103731.3242086-2-brian.dooley@intel.com>
References: <20240314103731.3242086-2-brian.dooley@intel.com>
Content-Type: text/plain
X-BeenThere: test-report@dpdk.org
X-Mailman-Version: 2.1.29
Precedence: list
List-Id: automatic DPDK test reports <test-report.dpdk.org>
List-Unsubscribe: <https://mails.dpdk.org/options/test-report>,
 <mailto:test-report-request@dpdk.org?subject=unsubscribe>
List-Archive: <http://mails.dpdk.org/archives/test-report/>
List-Post: <mailto:test-report@dpdk.org>
List-Help: <mailto:test-report-request@dpdk.org?subject=help>
List-Subscribe: <https://mails.dpdk.org/listinfo/test-report>,
 <mailto:test-report-request@dpdk.org?subject=subscribe>
Errors-To: test-report-bounces@dpdk.org

Test-Label: iol-unit-amd64-testing
Test-Status: SUCCESS
http://dpdk.org/patch/138377

_Testing PASS_

Submitter: Brian Dooley <brian.dooley@intel.com>
Date: Thursday, March 14 2024 10:37:31 
DPDK git baseline: Repo:dpdk
  Branch: master
  CommitID:197bb4582c43df3c40db97a0da463afea5e74951

138376-138377 --> testing pass

Test environment and result as below:

+------------------+----------------+
|   Environment    | dpdk_unit_test |
+==================+================+
| CentOS Stream 9  | PASS           |
+------------------+----------------+
| Debian Bullseye  | PASS           |
+------------------+----------------+
| Debian 12 (arm)  | PASS           |
+------------------+----------------+
| Fedora 37        | PASS           |
+------------------+----------------+
| CentOS Stream 8  | PASS           |
+------------------+----------------+
| RHEL8            | PASS           |
+------------------+----------------+
| Fedora 38        | PASS           |
+------------------+----------------+
| openSUSE Leap 15 | PASS           |
+------------------+----------------+
| Ubuntu 22.04     | PASS           |
+------------------+----------------+
| Ubuntu 20.04     | PASS           |
+------------------+----------------+


CentOS Stream 9
	Kernel: 4.18.0-240.10.1.el8_3.x86_64
	Compiler: gcc 11.3.1 20220421

Debian Bullseye
	Kernel: 5.4.0-122-generic
	Compiler: gcc 10.2.1-6

Debian 12 (arm)
	Kernel: Container Host Kernel
	Compiler: gcc 11

Fedora 37
	Kernel: Depends on container host system
	Compiler: gcc 12.3.1

CentOS Stream 8
	Kernel: 4.18.0-240.10.1.el8_3.x86_64
	Compiler: gcc 8.4.1 20200928

RHEL8
	Kernel: 4.18.0-240.10.1.el8_3.x86_64
	Compiler: gcc 8.3.1 20191121 (Red Hat 8.3.1-5)

Fedora 38
	Kernel: Depends on container host
	Compiler: gcc 13.1.1

openSUSE Leap 15
	Kernel: 4.18.0-240.10.1.el8_3.x86_64
	Compiler: gcc 7.5.0

Ubuntu 22.04
	Kernel: 4.18.0-240.10.1.el8_3.x86_64
	Compiler: gcc 11.3.0

Ubuntu 20.04
	Kernel: 5.4.0-153-generic
	Compiler: gcc 9.4.0-1ubuntu1~20.04.1

To view detailed results, visit:
https://lab.dpdk.org/results/dashboard/patchsets/29548/

UNH-IOL DPDK Community Lab

To manage your email subscriptions, visit: 
https://lab.dpdk.org/results/dashboard/preferences/subscriptions/