From mboxrd@z Thu Jan  1 00:00:00 1970
Return-Path: <test-report-bounces@dpdk.org>
Received: from mails.dpdk.org (mails.dpdk.org [217.70.189.124])
	by inbox.dpdk.org (Postfix) with ESMTP id E634543CA5
	for <public@inbox.dpdk.org>; Thu, 14 Mar 2024 13:54:04 +0100 (CET)
Received: from mails.dpdk.org (localhost [127.0.0.1])
	by mails.dpdk.org (Postfix) with ESMTP id DF1934028C;
	Thu, 14 Mar 2024 13:54:04 +0100 (CET)
Received: from mail-yb1-f227.google.com (mail-yb1-f227.google.com
 [209.85.219.227])
 by mails.dpdk.org (Postfix) with ESMTP id CC8F040041
 for <test-report@dpdk.org>; Thu, 14 Mar 2024 13:54:03 +0100 (CET)
Received: by mail-yb1-f227.google.com with SMTP id
 3f1490d57ef6-dcc73148611so884022276.3
 for <test-report@dpdk.org>; Thu, 14 Mar 2024 05:54:03 -0700 (PDT)
DKIM-Signature: v=1; a=rsa-sha256; c=relaxed/relaxed;
 d=iol.unh.edu; s=unh-iol; t=1710420843; x=1711025643; darn=dpdk.org;
 h=references:in-reply-to:cc:to:from:subject:message-id:date:from:to
 :cc:subject:date:message-id:reply-to;
 bh=FPkg6v/9pEZC/EkC5YXDershG1L0gE1J49kRkE/4EqE=;
 b=TKKUwF10PDUl7edLYkTdFiS7CbItpqhnSnbB5LVL60yfDh5ewOYvzlqIatucSthbu+
 mSHumIsdWFgrbC0zyXrMgWVXJdUG6XdxvRdC9x11UsVjq5Uo/S/AJk3cWnUf/rqxIaPf
 Enwn7s5KBAQQ0M3kGXd51dn0qdNzltwk87JXQ=
X-Google-DKIM-Signature: v=1; a=rsa-sha256; c=relaxed/relaxed;
 d=1e100.net; s=20230601; t=1710420843; x=1711025643;
 h=references:in-reply-to:cc:to:from:subject:message-id:date
 :x-gm-message-state:from:to:cc:subject:date:message-id:reply-to;
 bh=FPkg6v/9pEZC/EkC5YXDershG1L0gE1J49kRkE/4EqE=;
 b=c5f0yDg5VtGd0FfdJxkj14AAY6fLhm5PJQAFRKH9M6iuuCjlYkYu3/rI+ElyhFUm6W
 D/2OcCNv5J1Jl/A651DHrb/yv7+YPlX/LNgboRuVThpNmhhy8qzD1BlRlwNPAF4bPf+F
 zvGEJzy65NPJTKRAG14y3sYhi33Rqg++CNTH5SS3xM1MzYVpSsqtUdl/RobcCeEcMaMu
 1ClORUip0+W+Pwdb8SoOayuZ8wEDAIzWJPlx03wRUqgv5EGD/WjzXaIfZ6Il03me5tpN
 O6NUAJGWpVRFgKUQJEwG7JJI+fVhZZEOULhkIBmP7Q+Hc06GylfPh1UaKaOK09HM4LdI
 RTzA==
X-Gm-Message-State: AOJu0YzY9BUU5LSUIYb9ZDBFQHfJbWQsoBDNIovdX0F57OaEwoMgMkCa
 1x4eOiyhteSeXOBLBxDDSyCNqac3Whz3lOgplGmWZx0M6VrXnZoOFBB73Qc53fQowlGnL1/7IeQ
 bLjWgYVdpKmBRawfwbpKfsqiMxOQD+iqnQkfhW6Ks
X-Google-Smtp-Source: AGHT+IGCspeJxtKPHZQB0V5lxSYm1BU0VgP1g/TjIHemJP1J/SOogLftz4fSErm1DIH5nW03wUndZNOlqptQ
X-Received: by 2002:a25:ac50:0:b0:dcf:bf94:bc30 with SMTP id
 r16-20020a25ac50000000b00dcfbf94bc30mr1502940ybd.34.1710420843250; 
 Thu, 14 Mar 2024 05:54:03 -0700 (PDT)
Received: from postal.iol.unh.edu (postal.iol.unh.edu. [132.177.123.84])
 by smtp-relay.gmail.com with ESMTPS id
 k5-20020a056902070500b00dcd2db7ad30sm23738ybt.29.2024.03.14.05.54.03
 (version=TLS1_2 cipher=ECDHE-ECDSA-AES128-GCM-SHA256 bits=128/128);
 Thu, 14 Mar 2024 05:54:03 -0700 (PDT)
X-Relaying-Domain: iol.unh.edu
Date: Thu, 14 Mar 2024 05:54:03 -0700 (PDT)
Message-ID: <65f2f36b.050a0220.ccc76.1656SMTPIN_ADDED_MISSING@mx.google.com>
Received: from [172.21.0.7] (unknown [172.18.0.240])
 by postal.iol.unh.edu (Postfix) with ESMTP id DD9156052471;
 Thu, 14 Mar 2024 08:54:02 -0400 (EDT)
Subject: |SUCCESS| pw138376-138377 [PATCH] [v7,2/2] doc: announce Intel IPsec
From: dpdklab@iol.unh.edu
To: Test Report <test-report@dpdk.org>
Cc: dpdk-test-reports@iol.unh.edu
In-Reply-To: <20240314103731.3242086-2-brian.dooley@intel.com>
References: <20240314103731.3242086-2-brian.dooley@intel.com>
Content-Type: text/plain
X-BeenThere: test-report@dpdk.org
X-Mailman-Version: 2.1.29
Precedence: list
List-Id: automatic DPDK test reports <test-report.dpdk.org>
List-Unsubscribe: <https://mails.dpdk.org/options/test-report>,
 <mailto:test-report-request@dpdk.org?subject=unsubscribe>
List-Archive: <http://mails.dpdk.org/archives/test-report/>
List-Post: <mailto:test-report@dpdk.org>
List-Help: <mailto:test-report-request@dpdk.org?subject=help>
List-Subscribe: <https://mails.dpdk.org/listinfo/test-report>,
 <mailto:test-report-request@dpdk.org?subject=subscribe>
Errors-To: test-report-bounces@dpdk.org

Test-Label: iol-unit-amd64-testing
Test-Status: SUCCESS
http://dpdk.org/patch/138377

_Testing PASS_

Submitter: Brian Dooley <brian.dooley@intel.com>
Date: Thursday, March 14 2024 10:37:31 
DPDK git baseline: Repo:dpdk
  Branch: master
  CommitID:197bb4582c43df3c40db97a0da463afea5e74951

138376-138377 --> testing pass

Test environment and result as below:

+------------------+----------------+
|   Environment    | dpdk_unit_test |
+==================+================+
| CentOS Stream 9  | PASS           |
+------------------+----------------+
| Debian Bullseye  | PASS           |
+------------------+----------------+
| Debian 12 (arm)  | PASS           |
+------------------+----------------+
| Fedora 37        | PASS           |
+------------------+----------------+
| CentOS Stream 8  | PASS           |
+------------------+----------------+
| RHEL8            | PASS           |
+------------------+----------------+
| Fedora 38        | PASS           |
+------------------+----------------+
| openSUSE Leap 15 | PASS           |
+------------------+----------------+
| Ubuntu 22.04     | PASS           |
+------------------+----------------+
| Ubuntu 20.04     | PASS           |
+------------------+----------------+


CentOS Stream 9
	Kernel: 4.18.0-240.10.1.el8_3.x86_64
	Compiler: gcc 11.3.1 20220421

Debian Bullseye
	Kernel: 5.4.0-122-generic
	Compiler: gcc 10.2.1-6

Debian 12 (arm)
	Kernel: Container Host Kernel
	Compiler: gcc 11

Fedora 37
	Kernel: Depends on container host system
	Compiler: gcc 12.3.1

CentOS Stream 8
	Kernel: 4.18.0-240.10.1.el8_3.x86_64
	Compiler: gcc 8.4.1 20200928

RHEL8
	Kernel: 4.18.0-240.10.1.el8_3.x86_64
	Compiler: gcc 8.3.1 20191121 (Red Hat 8.3.1-5)

Fedora 38
	Kernel: Depends on container host
	Compiler: gcc 13.1.1

openSUSE Leap 15
	Kernel: 4.18.0-240.10.1.el8_3.x86_64
	Compiler: gcc 7.5.0

Ubuntu 22.04
	Kernel: 4.18.0-240.10.1.el8_3.x86_64
	Compiler: gcc 11.3.0

Ubuntu 20.04
	Kernel: 5.4.0-153-generic
	Compiler: gcc 9.4.0-1ubuntu1~20.04.1

To view detailed results, visit:
https://lab.dpdk.org/results/dashboard/patchsets/29548/

UNH-IOL DPDK Community Lab

To manage your email subscriptions, visit: 
https://lab.dpdk.org/results/dashboard/preferences/subscriptions/