From mboxrd@z Thu Jan  1 00:00:00 1970
Return-Path: <test-report-bounces@dpdk.org>
Received: from mails.dpdk.org (mails.dpdk.org [217.70.189.124])
	by inbox.dpdk.org (Postfix) with ESMTP id 45D6943CA5
	for <public@inbox.dpdk.org>; Thu, 14 Mar 2024 13:55:10 +0100 (CET)
Received: from mails.dpdk.org (localhost [127.0.0.1])
	by mails.dpdk.org (Postfix) with ESMTP id 412024028C;
	Thu, 14 Mar 2024 13:55:10 +0100 (CET)
Received: from mail-pg1-f225.google.com (mail-pg1-f225.google.com
 [209.85.215.225])
 by mails.dpdk.org (Postfix) with ESMTP id BE10A40041
 for <test-report@dpdk.org>; Thu, 14 Mar 2024 13:55:03 +0100 (CET)
Received: by mail-pg1-f225.google.com with SMTP id
 41be03b00d2f7-5dcc4076c13so618057a12.0
 for <test-report@dpdk.org>; Thu, 14 Mar 2024 05:55:03 -0700 (PDT)
DKIM-Signature: v=1; a=rsa-sha256; c=relaxed/relaxed;
 d=iol.unh.edu; s=unh-iol; t=1710420903; x=1711025703; darn=dpdk.org;
 h=references:in-reply-to:cc:to:from:subject:message-id:date:from:to
 :cc:subject:date:message-id:reply-to;
 bh=dqXMZ4dwQB7aW8GJmE2IxxWQQdZaoodcNz75kwfSKbw=;
 b=CxxEMa19Qe7jqyC8ZoQfAzkcyAdGTF+DWqzBJa4Fl7YMXxNDNBvjv38vLag5agiuvG
 P2ja9nXqMOlxQugk2W8/JnUg0Uv4mXN7EGya/Cm7HaEJCK+kHN14ihyWSrb5DqKGpNwq
 zXShU1e3QIAeZ5e332HsmrOYN9iB3QbLDcJwY=
X-Google-DKIM-Signature: v=1; a=rsa-sha256; c=relaxed/relaxed;
 d=1e100.net; s=20230601; t=1710420903; x=1711025703;
 h=references:in-reply-to:cc:to:from:subject:message-id:date
 :x-gm-message-state:from:to:cc:subject:date:message-id:reply-to;
 bh=dqXMZ4dwQB7aW8GJmE2IxxWQQdZaoodcNz75kwfSKbw=;
 b=A6hUOy/l2OqsHM/9juQ2ODa/zPxLJqDxdOJIc90rZCk9Du9Kh+Q1PvefEXxn4DRX1p
 d5hZg2a0fepShNVvkyZMLNZZLXspcgfy7ICYN7skFHEhzmBAmBtNhfgz2KLI+o+FBOpL
 afaLo3iMJG5EmJ8btdkLMQvq/gC59UEhv6HzKgece1/Wpw7Ei/mOgrPe+etuKZUNooRq
 KkT1wAa8gehu/b3FVfidYDhfH7sdKF0jZUwLSDvSjSk8aPJ6q1E14+AI29YJ6fusypL9
 7/hgkNZvFkdqGOl4kRrQRCLZ1xH8NFXBJRFyN7ntbGaBXACWzdu0Bt9SqsIwT3HpuYKD
 iJQQ==
X-Gm-Message-State: AOJu0YxkqtUKDU5/dWn8rewzS95kRLPRbxBqLdbdkK1kglQXah2qwlyt
 4Ri2yPziwa/wVF7ZlEDYaUkg4E8iDCU4YdDRZzwWfEtH6Z7oxvkg0TKfkhBaRkEdNJ8KRCt+cUf
 V1nPK2SXAEde7fs4jVAG3gOMixe4HFhPj4e7Yjq//
X-Google-Smtp-Source: AGHT+IFa6oicGfgcx4H/9no1Fvd9edei+h5P5p8J74vzn63fnPLTL/ton9YW9+47XOam18gQnF4XtFe/7ioT
X-Received: by 2002:a17:90b:808:b0:29b:ce2c:ce42 with SMTP id
 bk8-20020a17090b080800b0029bce2cce42mr7945324pjb.12.1710420902945; 
 Thu, 14 Mar 2024 05:55:02 -0700 (PDT)
Received: from postal.iol.unh.edu (postal.iol.unh.edu. [132.177.123.84])
 by smtp-relay.gmail.com with ESMTPS id
 i8-20020a17090a974800b0029affc57a5csm25736pjw.0.2024.03.14.05.55.02
 (version=TLS1_2 cipher=ECDHE-ECDSA-AES128-GCM-SHA256 bits=128/128);
 Thu, 14 Mar 2024 05:55:02 -0700 (PDT)
X-Relaying-Domain: iol.unh.edu
Date: Thu, 14 Mar 2024 05:55:02 -0700 (PDT)
Message-ID: <65f2f3a6.170a0220.33d11.22cfSMTPIN_ADDED_MISSING@mx.google.com>
Received: from [172.21.0.7] (unknown [172.18.0.240])
 by postal.iol.unh.edu (Postfix) with ESMTP id 26F0D6052471;
 Thu, 14 Mar 2024 08:55:02 -0400 (EDT)
Subject: |SUCCESS| pw138376-138377 [PATCH] [v7,2/2] doc: announce Intel IPsec
From: dpdklab@iol.unh.edu
To: Test Report <test-report@dpdk.org>
Cc: dpdk-test-reports@iol.unh.edu
In-Reply-To: <20240314103731.3242086-2-brian.dooley@intel.com>
References: <20240314103731.3242086-2-brian.dooley@intel.com>
Content-Type: text/plain
X-BeenThere: test-report@dpdk.org
X-Mailman-Version: 2.1.29
Precedence: list
List-Id: automatic DPDK test reports <test-report.dpdk.org>
List-Unsubscribe: <https://mails.dpdk.org/options/test-report>,
 <mailto:test-report-request@dpdk.org?subject=unsubscribe>
List-Archive: <http://mails.dpdk.org/archives/test-report/>
List-Post: <mailto:test-report@dpdk.org>
List-Help: <mailto:test-report-request@dpdk.org?subject=help>
List-Subscribe: <https://mails.dpdk.org/listinfo/test-report>,
 <mailto:test-report-request@dpdk.org?subject=subscribe>
Errors-To: test-report-bounces@dpdk.org

Test-Label: iol-compile-arm64-testing
Test-Status: SUCCESS
http://dpdk.org/patch/138377

_Testing PASS_

Submitter: Brian Dooley <brian.dooley@intel.com>
Date: Thursday, March 14 2024 10:37:31 
DPDK git baseline: Repo:dpdk
  Branch: master
  CommitID:197bb4582c43df3c40db97a0da463afea5e74951

138376-138377 --> testing pass

Test environment and result as below:

+----------------------------------------+--------------------+
|              Environment               | dpdk_meson_compile |
+========================================+====================+
| Ubuntu 20.04 ARM SVE                   | PASS               |
+----------------------------------------+--------------------+
| Ubuntu 20.04 ARM GCC Cross Compile     | PASS               |
+----------------------------------------+--------------------+
| Debian 12 with MUSDK                   | PASS               |
+----------------------------------------+--------------------+
| Ubuntu 20.04 aarch32 GCC Cross Compile | PASS               |
+----------------------------------------+--------------------+
| Fedora 37 (ARM)                        | PASS               |
+----------------------------------------+--------------------+
| Fedora 38 (ARM)                        | PASS               |
+----------------------------------------+--------------------+
| Ubuntu 20.04 (ARM)                     | PASS               |
+----------------------------------------+--------------------+
| CentOS Stream 9 (ARM)                  | PASS               |
+----------------------------------------+--------------------+
| Debian 11 (Buster) (ARM)               | PASS               |
+----------------------------------------+--------------------+
| Ubuntu 20.04 ARM Clang Cross Compile   | PASS               |
+----------------------------------------+--------------------+
| Debian 12 (arm)                        | PASS               |
+----------------------------------------+--------------------+


Ubuntu 20.04 ARM SVE
	Kernel: 5.4.0-80-generic
	Compiler: gcc 10.3.0 (Ubuntu 10.3.0-1ubuntu1~20.04)

Ubuntu 20.04 ARM GCC Cross Compile
	Kernel: 5.4.0-72-generic
	Compiler: aarch64-linux-gnu-gcc (Ubuntu 9.3.0-17ubuntu1~20.04) 9.3.0

Debian 12 with MUSDK
	Kernel: Container Host Kernel
	Compiler: gcc 12

Ubuntu 20.04 aarch32 GCC Cross Compile
	Kernel: 5.4.0-72-generic
	Compiler: gcc 9.3.0

Fedora 37 (ARM)
	Kernel: Depends on container host
	Compiler: gcc 12.3.1

Fedora 38 (ARM)
	Kernel: Depends on container host
	Compiler: gcc 13.1.1

Ubuntu 20.04 (ARM)
	Kernel: Container Host Kernel
	Compiler: gcc 9.4.0

CentOS Stream 9 (ARM)
	Kernel: Container Host Kernel
	Compiler: gcc 11.3.1

Debian 11 (Buster) (ARM)
	Kernel: Container Host Kernel
	Compiler: gcc 10.2.1

Ubuntu 20.04 ARM Clang Cross Compile
	Kernel: 5.4.0-72-generic
	Compiler: clang version 10.0.0-4ubuntu1

Debian 12 (arm)
	Kernel: Container Host Kernel
	Compiler: gcc 11

To view detailed results, visit:
https://lab.dpdk.org/results/dashboard/patchsets/29548/

UNH-IOL DPDK Community Lab

To manage your email subscriptions, visit: 
https://lab.dpdk.org/results/dashboard/preferences/subscriptions/