From mboxrd@z Thu Jan  1 00:00:00 1970
Return-Path: <test-report-bounces@dpdk.org>
Received: from mails.dpdk.org (mails.dpdk.org [217.70.189.124])
	by inbox.dpdk.org (Postfix) with ESMTP id ABB9543CA6
	for <public@inbox.dpdk.org>; Thu, 14 Mar 2024 14:05:27 +0100 (CET)
Received: from mails.dpdk.org (localhost [127.0.0.1])
	by mails.dpdk.org (Postfix) with ESMTP id A4DC742E9C;
	Thu, 14 Mar 2024 14:05:27 +0100 (CET)
Received: from mail-pl1-f228.google.com (mail-pl1-f228.google.com
 [209.85.214.228])
 by mails.dpdk.org (Postfix) with ESMTP id 725EB40041
 for <test-report@dpdk.org>; Thu, 14 Mar 2024 14:04:48 +0100 (CET)
Received: by mail-pl1-f228.google.com with SMTP id
 d9443c01a7336-1dcab44747bso6096385ad.1
 for <test-report@dpdk.org>; Thu, 14 Mar 2024 06:04:48 -0700 (PDT)
DKIM-Signature: v=1; a=rsa-sha256; c=relaxed/relaxed;
 d=iol.unh.edu; s=unh-iol; t=1710421487; x=1711026287; darn=dpdk.org;
 h=references:in-reply-to:cc:to:from:subject:message-id:date:from:to
 :cc:subject:date:message-id:reply-to;
 bh=BPtMsGBKxx7uwQ1XiU9f+1/IVCdTRWjlrqkRhMRxBPQ=;
 b=ATx0zl3MIg4wGEhv1Inu6p7S6ULRwWeS02WN0XFCGqbu/Kk7+/EcXIjcIUjEqhVIvX
 +3S8IDxPXSeQAQWxJ2uyBLN5t1GhQwW3nPM7hw54TsVhOqDN8LVag8tfNx9YR46gG62h
 BAwo6KUZv0wSopDpSEzNo2aNsNMaGiPJrx0TQ=
X-Google-DKIM-Signature: v=1; a=rsa-sha256; c=relaxed/relaxed;
 d=1e100.net; s=20230601; t=1710421487; x=1711026287;
 h=references:in-reply-to:cc:to:from:subject:message-id:date
 :x-gm-message-state:from:to:cc:subject:date:message-id:reply-to;
 bh=BPtMsGBKxx7uwQ1XiU9f+1/IVCdTRWjlrqkRhMRxBPQ=;
 b=n7p8T115ERbRkJE1CdzWOYAMDXdWgHCJD4C/y+K/YGm5AcNJFvbgg7TkwKvoB5H680
 1HvoVzfoZafUIuiVdZ1CXSxJdAqBrwCxtxTJQBHAf+8Iko6eZPAIxKfyh08ubJD+axjB
 b7R9291Q/3Ki3vaTK07VIpnDPUSKwL5Re2oD2oBU7ehGMkekeRw85jDfUruUQh9IVICg
 sWvjIakO58v+dEtg8x9bR5Vg7f+jHiocIDqex408H5aA5OXkKgCq7r0dcNB72cWBf2xY
 KvjMHr3MfTzChQh8mkd5iZZlrWRwbvJ/53BJ3Ay2HxNpS5yj5woz9ZK+JJV2+ZPNhdOY
 neYg==
X-Gm-Message-State: AOJu0YwK6np0Cqos6mTjTDQBWKCfR+rExvdcGs9lF29brBYJSAwL43A8
 hqNszQxFndwI97MNELMVusqUJ0hCqUWq9W0B44R7moTkxMrL8G7tReC6fhsXXA1JJCHjW1TQ98p
 /vrf4qFX57huES1zDfDiagl6zT8/2DG2lY6ndufD6/WHOb2WUNPEQ+pof
X-Google-Smtp-Source: AGHT+IFw2N9me+CdTPTqUjEIWdHULXcKvKEhfwX/EBlQYhn/jT61LQzu/QBkCux99JfRA/FMbw5rd7lZNDjf
X-Received: by 2002:a17:902:d2c4:b0:1de:e6a5:e549 with SMTP id
 n4-20020a170902d2c400b001dee6a5e549mr177760plc.47.1710421487643; 
 Thu, 14 Mar 2024 06:04:47 -0700 (PDT)
Received: from postal.iol.unh.edu (postal.iol.unh.edu.
 [2606:4100:3880:1234::84]) by smtp-relay.gmail.com with ESMTPS id
 iw6-20020a170903044600b001dbdef3f8c1sm28023plb.94.2024.03.14.06.04.47
 (version=TLS1_2 cipher=ECDHE-ECDSA-AES128-GCM-SHA256 bits=128/128);
 Thu, 14 Mar 2024 06:04:47 -0700 (PDT)
X-Relaying-Domain: iol.unh.edu
Date: Thu, 14 Mar 2024 06:04:47 -0700 (PDT)
Message-ID: <65f2f5ef.170a0220.764c0.1cdeSMTPIN_ADDED_MISSING@mx.google.com>
Received: from [172.17.0.7] (unknown [172.18.0.217])
 by postal.iol.unh.edu (Postfix) with ESMTP id C77BE6052471;
 Thu, 14 Mar 2024 09:04:46 -0400 (EDT)
Subject: |SUCCESS| pw138376-138377 [PATCH] [v7,2/2] doc: announce Intel IPsec
From: dpdklab@iol.unh.edu
To: Test Report <test-report@dpdk.org>
Cc: dpdk-test-reports@iol.unh.edu
In-Reply-To: <20240314103731.3242086-2-brian.dooley@intel.com>
References: <20240314103731.3242086-2-brian.dooley@intel.com>
Content-Type: text/plain
X-BeenThere: test-report@dpdk.org
X-Mailman-Version: 2.1.29
Precedence: list
List-Id: automatic DPDK test reports <test-report.dpdk.org>
List-Unsubscribe: <https://mails.dpdk.org/options/test-report>,
 <mailto:test-report-request@dpdk.org?subject=unsubscribe>
List-Archive: <http://mails.dpdk.org/archives/test-report/>
List-Post: <mailto:test-report@dpdk.org>
List-Help: <mailto:test-report-request@dpdk.org?subject=help>
List-Subscribe: <https://mails.dpdk.org/listinfo/test-report>,
 <mailto:test-report-request@dpdk.org?subject=subscribe>
Errors-To: test-report-bounces@dpdk.org

Test-Label: iol-compile-amd64-testing
Test-Status: SUCCESS
http://dpdk.org/patch/138377

_Testing PASS_

Submitter: Brian Dooley <brian.dooley@intel.com>
Date: Thursday, March 14 2024 10:37:31 
DPDK git baseline: Repo:dpdk
  Branch: master
  CommitID:197bb4582c43df3c40db97a0da463afea5e74951

138376-138377 --> testing pass

Test environment and result as below:

+---------------------+--------------------+----------------------+
|     Environment     | dpdk_meson_compile | dpdk_mingw64_compile |
+=====================+====================+======================+
| Windows Server 2022 | PASS               | PASS                 |
+---------------------+--------------------+----------------------+
| Debian Bullseye     | PASS               | SKIPPED              |
+---------------------+--------------------+----------------------+
| FreeBSD 13.2        | PASS               | SKIPPED              |
+---------------------+--------------------+----------------------+
| CentOS Stream 9     | PASS               | SKIPPED              |
+---------------------+--------------------+----------------------+
| CentOS Stream 8     | PASS               | SKIPPED              |
+---------------------+--------------------+----------------------+
| Debian 12 (arm)     | PASS               | SKIPPED              |
+---------------------+--------------------+----------------------+
| Fedora 37           | PASS               | SKIPPED              |
+---------------------+--------------------+----------------------+
| Ubuntu 22.04        | PASS               | SKIPPED              |
+---------------------+--------------------+----------------------+
| Ubuntu 20.04        | PASS               | SKIPPED              |
+---------------------+--------------------+----------------------+
| Fedora 38           | PASS               | SKIPPED              |
+---------------------+--------------------+----------------------+
| openSUSE Leap 15    | PASS               | SKIPPED              |
+---------------------+--------------------+----------------------+
| RHEL8               | PASS               | SKIPPED              |
+---------------------+--------------------+----------------------+
| Alpine              | PASS               | SKIPPED              |
+---------------------+--------------------+----------------------+
| Windows Server 2019 | PASS               | PASS                 |
+---------------------+--------------------+----------------------+


Windows Server 2022
	Kernel: OS Build 20348.2031
	Compiler: MSVC VS-Preview

Debian Bullseye
	Kernel: 5.4.0-122-generic
	Compiler: gcc 10.2.1-6

FreeBSD 13.2
	Kernel: 13.2
	Compiler: clang 11.3.0

CentOS Stream 9
	Kernel: 4.18.0-240.10.1.el8_3.x86_64
	Compiler: gcc 11.3.1 20220421

CentOS Stream 8
	Kernel: 4.18.0-240.10.1.el8_3.x86_64
	Compiler: gcc 8.4.1 20200928

Debian 12 (arm)
	Kernel: Container Host Kernel
	Compiler: gcc 11

Fedora 37
	Kernel: Depends on container host system
	Compiler: gcc 12.3.1

Ubuntu 22.04
	Kernel: 4.18.0-240.10.1.el8_3.x86_64
	Compiler: gcc 11.3.0

Ubuntu 20.04
	Kernel: 5.4.0-153-generic
	Compiler: gcc 9.4.0-1ubuntu1~20.04.1

Fedora 38
	Kernel: Depends on container host
	Compiler: gcc 13.1.1

openSUSE Leap 15
	Kernel: 4.18.0-240.10.1.el8_3.x86_64
	Compiler: gcc 7.5.0

RHEL8
	Kernel: 4.18.0-240.10.1.el8_3.x86_64
	Compiler: gcc 8.3.1 20191121 (Red Hat 8.3.1-5)

Alpine
	Kernel: 5.4.0-73-generic
	Compiler: gcc (Alpine 10.3.1_git20210424) 10.3.1 20210424

Windows Server 2019
	Kernel: 10.0
	Compiler: clang 14.0 and gcc 8.1.0 (MinGW)

To view detailed results, visit:
https://lab.dpdk.org/results/dashboard/patchsets/29548/

UNH-IOL DPDK Community Lab

To manage your email subscriptions, visit: 
https://lab.dpdk.org/results/dashboard/preferences/subscriptions/