From mboxrd@z Thu Jan  1 00:00:00 1970
Return-Path: <test-report-bounces@dpdk.org>
Received: from mails.dpdk.org (mails.dpdk.org [217.70.189.124])
	by inbox.dpdk.org (Postfix) with ESMTP id D191043CA3
	for <public@inbox.dpdk.org>; Thu, 14 Mar 2024 14:24:50 +0100 (CET)
Received: from mails.dpdk.org (localhost [127.0.0.1])
	by mails.dpdk.org (Postfix) with ESMTP id CA24542E8B;
	Thu, 14 Mar 2024 14:24:50 +0100 (CET)
Received: from mail-io1-f100.google.com (mail-io1-f100.google.com
 [209.85.166.100])
 by mails.dpdk.org (Postfix) with ESMTP id ED81140E28
 for <test-report@dpdk.org>; Thu, 14 Mar 2024 14:24:49 +0100 (CET)
Received: by mail-io1-f100.google.com with SMTP id
 ca18e2360f4ac-7c842725564so32992739f.0
 for <test-report@dpdk.org>; Thu, 14 Mar 2024 06:24:49 -0700 (PDT)
DKIM-Signature: v=1; a=rsa-sha256; c=relaxed/relaxed;
 d=iol.unh.edu; s=unh-iol; t=1710422689; x=1711027489; darn=dpdk.org;
 h=references:in-reply-to:cc:to:from:subject:message-id:date:from:to
 :cc:subject:date:message-id:reply-to;
 bh=r4MOuMIyoe75QuIArxsA1nIkH9FEm92FI6BkaAnUakw=;
 b=J0hUZP2bSO/xUqoQruO/X5dGC4qCAdBReM4SCB8N3++4n4DN0FeGhf/l9nva6X82AL
 FjrG7tEXttGDIDsgzD/2i4RvIcdHIGZB8fL3DT3GHQOMKKzxn3vtQAFOk0gMohAxNK/E
 tKUXMR6QuccCaO01M6pZ4I1AdA+eznfFRKqrE=
X-Google-DKIM-Signature: v=1; a=rsa-sha256; c=relaxed/relaxed;
 d=1e100.net; s=20230601; t=1710422689; x=1711027489;
 h=references:in-reply-to:cc:to:from:subject:message-id:date
 :x-gm-message-state:from:to:cc:subject:date:message-id:reply-to;
 bh=r4MOuMIyoe75QuIArxsA1nIkH9FEm92FI6BkaAnUakw=;
 b=YCebTRLm2jX6Qa/YPn6qXYDx7JcFvnzbs0oHLMfKRUN5YJ2y1zrNWXTp2WMj0Y1GVp
 jdqfu+zlLksiEqGmGhA5o57FqVTGH+YfoTBsWjfALQ6kWNAeLePxpHK90AKeXncPNY5W
 UC/TL17QhxvbvovPX+t12ycC4pAe7MX/FHseplMLwe/Im4bBhItKlKcCpJkyT031PVdf
 kMWoEJ3QDxw2KIUawZlrA07vJ2Ag1rimU9h/pzujK9xKrs5QWgGG2Z4EVXMD/FHBsPAc
 IPDfvQiWdzLbJGaDQM/ilkK5p9DvWKaaL1YvQdyB442eRuuXSEu5B6MRw5vGDzr/HIZR
 w8Xg==
X-Gm-Message-State: AOJu0YyhUJRiguQfoLNiRluZ7aIG9mykNnM6188pTIaNGYV8AwSqfoyG
 PrRlknR4oBKCuuBu+TiMz+L4swRpYp5aTZpxC+QrqddddY3dr017hASj+agUiOj55Nx3gkzQ7Ia
 53Ep9X8TYLRRWQG68TEXr2HfLdSpBZSnLvPW8Qnv7
X-Google-Smtp-Source: AGHT+IFlcpKCD39MVuvENFkKQWFw0dXq90u0BLWIM/jLxzYTH1jfvajdcX4U7cwVZXkM2R8eb914ogae5U8R
X-Received: by 2002:a5e:8f4b:0:b0:7c8:961e:b680 with SMTP id
 x11-20020a5e8f4b000000b007c8961eb680mr183509iop.4.1710422689398; 
 Thu, 14 Mar 2024 06:24:49 -0700 (PDT)
Received: from postal.iol.unh.edu (postal.iol.unh.edu. [132.177.123.84])
 by smtp-relay.gmail.com with ESMTPS id
 s5-20020a02c505000000b004772583e77csm19377jam.27.2024.03.14.06.24.49
 (version=TLS1_2 cipher=ECDHE-ECDSA-AES128-GCM-SHA256 bits=128/128);
 Thu, 14 Mar 2024 06:24:49 -0700 (PDT)
X-Relaying-Domain: iol.unh.edu
Date: Thu, 14 Mar 2024 06:24:49 -0700 (PDT)
Message-ID: <65f2faa1.020a0220.d3e6e.1574SMTPIN_ADDED_MISSING@mx.google.com>
Received: from [172.17.0.8] (unknown [172.18.0.217])
 by postal.iol.unh.edu (Postfix) with ESMTP id D7BB06052471;
 Thu, 14 Mar 2024 09:24:48 -0400 (EDT)
Subject: |SUCCESS| pw138379-138383 [PATCH] [v8,5/5] config/arm: allow WFE to 
From: dpdklab@iol.unh.edu
To: Test Report <test-report@dpdk.org>
Cc: dpdk-test-reports@iol.unh.edu
In-Reply-To: <20240314113829.2511-5-pbhagavatula@marvell.com>
References: <20240314113829.2511-5-pbhagavatula@marvell.com>
Content-Type: text/plain
X-BeenThere: test-report@dpdk.org
X-Mailman-Version: 2.1.29
Precedence: list
List-Id: automatic DPDK test reports <test-report.dpdk.org>
List-Unsubscribe: <https://mails.dpdk.org/options/test-report>,
 <mailto:test-report-request@dpdk.org?subject=unsubscribe>
List-Archive: <http://mails.dpdk.org/archives/test-report/>
List-Post: <mailto:test-report@dpdk.org>
List-Help: <mailto:test-report-request@dpdk.org?subject=help>
List-Subscribe: <https://mails.dpdk.org/listinfo/test-report>,
 <mailto:test-report-request@dpdk.org?subject=subscribe>
Errors-To: test-report-bounces@dpdk.org

Test-Label: iol-compile-amd64-testing
Test-Status: SUCCESS
http://dpdk.org/patch/138383

_Testing PASS_

Submitter: Pavan Nikhilesh Bhagavatula <pbhagavatula@marvell.com>
Date: Thursday, March 14 2024 11:38:29 
DPDK git baseline: Repo:dpdk
  Branch: master
  CommitID:cd218549b686d6be394ef3b171eafa16c038bfe3

138379-138383 --> testing pass

Test environment and result as below:

+---------------------+--------------------+
|     Environment     | dpdk_meson_compile |
+=====================+====================+
| Windows Server 2022 | PASS               |
+---------------------+--------------------+
| Debian 12 (arm)     | PASS               |
+---------------------+--------------------+
| FreeBSD 13.2        | PASS               |
+---------------------+--------------------+
| Fedora 38           | PASS               |
+---------------------+--------------------+
| Fedora 37           | PASS               |
+---------------------+--------------------+
| CentOS Stream 8     | PASS               |
+---------------------+--------------------+
| Debian Bullseye     | PASS               |
+---------------------+--------------------+
| RHEL8               | PASS               |
+---------------------+--------------------+
| Ubuntu 22.04        | PASS               |
+---------------------+--------------------+
| Ubuntu 20.04        | PASS               |
+---------------------+--------------------+
| openSUSE Leap 15    | PASS               |
+---------------------+--------------------+
| Alpine              | PASS               |
+---------------------+--------------------+


Windows Server 2022
	Kernel: OS Build 20348.2031
	Compiler: MSVC VS-Preview

Debian 12 (arm)
	Kernel: Container Host Kernel
	Compiler: gcc 11

FreeBSD 13.2
	Kernel: 13.2
	Compiler: clang 11.3.0

Fedora 38
	Kernel: Depends on container host
	Compiler: gcc 13.1.1

Fedora 37
	Kernel: Depends on container host system
	Compiler: gcc 12.3.1

CentOS Stream 8
	Kernel: 4.18.0-240.10.1.el8_3.x86_64
	Compiler: gcc 8.4.1 20200928

Debian Bullseye
	Kernel: 5.4.0-122-generic
	Compiler: gcc 10.2.1-6

RHEL8
	Kernel: 4.18.0-240.10.1.el8_3.x86_64
	Compiler: gcc 8.3.1 20191121 (Red Hat 8.3.1-5)

Ubuntu 22.04
	Kernel: 4.18.0-240.10.1.el8_3.x86_64
	Compiler: gcc 11.3.0

Ubuntu 20.04
	Kernel: 5.4.0-153-generic
	Compiler: gcc 9.4.0-1ubuntu1~20.04.1

openSUSE Leap 15
	Kernel: 4.18.0-240.10.1.el8_3.x86_64
	Compiler: gcc 7.5.0

Alpine
	Kernel: 5.4.0-73-generic
	Compiler: gcc (Alpine 10.3.1_git20210424) 10.3.1 20210424

To view detailed results, visit:
https://lab.dpdk.org/results/dashboard/patchsets/29550/

UNH-IOL DPDK Community Lab

To manage your email subscriptions, visit: 
https://lab.dpdk.org/results/dashboard/preferences/subscriptions/