From mboxrd@z Thu Jan  1 00:00:00 1970
Return-Path: <test-report-bounces@dpdk.org>
Received: from mails.dpdk.org (mails.dpdk.org [217.70.189.124])
	by inbox.dpdk.org (Postfix) with ESMTP id 349E443CA3
	for <public@inbox.dpdk.org>; Thu, 14 Mar 2024 14:26:44 +0100 (CET)
Received: from mails.dpdk.org (localhost [127.0.0.1])
	by mails.dpdk.org (Postfix) with ESMTP id 2B54042E51;
	Thu, 14 Mar 2024 14:26:44 +0100 (CET)
Received: from mail-yw1-f225.google.com (mail-yw1-f225.google.com
 [209.85.128.225])
 by mails.dpdk.org (Postfix) with ESMTP id 006D040E28
 for <test-report@dpdk.org>; Thu, 14 Mar 2024 14:26:40 +0100 (CET)
Received: by mail-yw1-f225.google.com with SMTP id
 00721157ae682-609408d4b31so10109217b3.0
 for <test-report@dpdk.org>; Thu, 14 Mar 2024 06:26:40 -0700 (PDT)
DKIM-Signature: v=1; a=rsa-sha256; c=relaxed/relaxed;
 d=iol.unh.edu; s=unh-iol; t=1710422800; x=1711027600; darn=dpdk.org;
 h=references:in-reply-to:cc:to:from:subject:message-id:date:from:to
 :cc:subject:date:message-id:reply-to;
 bh=r4MOuMIyoe75QuIArxsA1nIkH9FEm92FI6BkaAnUakw=;
 b=ip/i/qWlwNcz80V/K1OS9eOfT+M4Z/KT4Bi1hESyr81CLY6JbIpbOEABElirWHHcXP
 ytDE0Xkdr1uvQHgm+gDvY/hlH2vGtpeaRH9giGI331QEyzl8qCA7aFDorNMjDKDonC6m
 7fBNQ6nf+MjhWfqFD58IS9WJpARG6k61u1nkE=
X-Google-DKIM-Signature: v=1; a=rsa-sha256; c=relaxed/relaxed;
 d=1e100.net; s=20230601; t=1710422800; x=1711027600;
 h=references:in-reply-to:cc:to:from:subject:message-id:date
 :x-gm-message-state:from:to:cc:subject:date:message-id:reply-to;
 bh=r4MOuMIyoe75QuIArxsA1nIkH9FEm92FI6BkaAnUakw=;
 b=l9AJFb7d7A/K0BjaRuImeOEMw61IuqCQIx2ZMDUjY0QwE1iv3p3GutyT4XFXc8sxws
 PqSmaiP3XN2kCiKJ+0/TG3nam/QZdBymh0xdijyq1OzS6poYHVGyvO90L7QeVKatIWob
 Uq0DwqzT3tVQUAx6a8O15Kk4EoliNAQqAJiytaD77Vo2Fe3hLFdSmbm3PZXlGeaWhvv2
 0eAHwbTY6rb/VOPxo74B2Fin8/vOwct1s7NFd5YUahl/3Us5PAoRJ0aHXddhhgB/vuAa
 opVWzGktdFdkonha0yGNGyqkpg28J3YIwj3Bc9c+goFvxn09nleS6HXofvX2ZaAs8Kre
 pYDQ==
X-Gm-Message-State: AOJu0YyP37SKvDtRWGkkdbTfSbWwmpOymCan7TAvpI/ULS758rrrNoGm
 eksN8LZaYRF5k/syAybTASCOz3Sbtc68WTT2fITQoBpTe4VKl9ldHzIDone4LsTvvv/PVtAp2r1
 fR7f7+8oRD4RoJB/OsWGKV0bFbNjVGZqU+m9DXqXHTgnB+/9wPBoq7IEP
X-Google-Smtp-Source: AGHT+IG+3mdzhPlBoqr8pVOFii+46sJEMoe8GUeeLUNcYZpNQWG0zoMigPtlFYU36FrkM2DbukR1MzXJ1mUX
X-Received: by 2002:a25:9848:0:b0:dcf:f78f:a570 with SMTP id
 k8-20020a259848000000b00dcff78fa570mr1705372ybo.7.1710422800354; 
 Thu, 14 Mar 2024 06:26:40 -0700 (PDT)
Received: from postal.iol.unh.edu (postal.iol.unh.edu.
 [2606:4100:3880:1234::84]) by smtp-relay.gmail.com with ESMTPS id
 s17-20020a25aa11000000b00dcf5a12cd33sm55462ybi.18.2024.03.14.06.26.40
 (version=TLS1_2 cipher=ECDHE-ECDSA-AES128-GCM-SHA256 bits=128/128);
 Thu, 14 Mar 2024 06:26:40 -0700 (PDT)
X-Relaying-Domain: iol.unh.edu
Date: Thu, 14 Mar 2024 06:26:40 -0700 (PDT)
Message-ID: <65f2fb10.250a0220.68953.3b2cSMTPIN_ADDED_MISSING@mx.google.com>
Received: from [172.17.0.8] (unknown [172.18.0.217])
 by postal.iol.unh.edu (Postfix) with ESMTP id 05B526052471;
 Thu, 14 Mar 2024 09:26:40 -0400 (EDT)
Subject: |SUCCESS| pw138379-138383 [PATCH] [v8,5/5] config/arm: allow WFE to 
From: dpdklab@iol.unh.edu
To: Test Report <test-report@dpdk.org>
Cc: dpdk-test-reports@iol.unh.edu
In-Reply-To: <20240314113829.2511-5-pbhagavatula@marvell.com>
References: <20240314113829.2511-5-pbhagavatula@marvell.com>
Content-Type: text/plain
X-BeenThere: test-report@dpdk.org
X-Mailman-Version: 2.1.29
Precedence: list
List-Id: automatic DPDK test reports <test-report.dpdk.org>
List-Unsubscribe: <https://mails.dpdk.org/options/test-report>,
 <mailto:test-report-request@dpdk.org?subject=unsubscribe>
List-Archive: <http://mails.dpdk.org/archives/test-report/>
List-Post: <mailto:test-report@dpdk.org>
List-Help: <mailto:test-report-request@dpdk.org?subject=help>
List-Subscribe: <https://mails.dpdk.org/listinfo/test-report>,
 <mailto:test-report-request@dpdk.org?subject=subscribe>
Errors-To: test-report-bounces@dpdk.org

Test-Label: iol-compile-amd64-testing
Test-Status: SUCCESS
http://dpdk.org/patch/138383

_Testing PASS_

Submitter: Pavan Nikhilesh Bhagavatula <pbhagavatula@marvell.com>
Date: Thursday, March 14 2024 11:38:29 
DPDK git baseline: Repo:dpdk
  Branch: master
  CommitID:cd218549b686d6be394ef3b171eafa16c038bfe3

138379-138383 --> testing pass

Test environment and result as below:

+---------------------+--------------------+
|     Environment     | dpdk_meson_compile |
+=====================+====================+
| Windows Server 2022 | PASS               |
+---------------------+--------------------+
| Debian 12 (arm)     | PASS               |
+---------------------+--------------------+
| FreeBSD 13.2        | PASS               |
+---------------------+--------------------+
| Fedora 38           | PASS               |
+---------------------+--------------------+
| Fedora 37           | PASS               |
+---------------------+--------------------+
| CentOS Stream 8     | PASS               |
+---------------------+--------------------+
| Debian Bullseye     | PASS               |
+---------------------+--------------------+
| RHEL8               | PASS               |
+---------------------+--------------------+
| Ubuntu 22.04        | PASS               |
+---------------------+--------------------+
| Ubuntu 20.04        | PASS               |
+---------------------+--------------------+
| openSUSE Leap 15    | PASS               |
+---------------------+--------------------+
| Alpine              | PASS               |
+---------------------+--------------------+


Windows Server 2022
	Kernel: OS Build 20348.2031
	Compiler: MSVC VS-Preview

Debian 12 (arm)
	Kernel: Container Host Kernel
	Compiler: gcc 11

FreeBSD 13.2
	Kernel: 13.2
	Compiler: clang 11.3.0

Fedora 38
	Kernel: Depends on container host
	Compiler: gcc 13.1.1

Fedora 37
	Kernel: Depends on container host system
	Compiler: gcc 12.3.1

CentOS Stream 8
	Kernel: 4.18.0-240.10.1.el8_3.x86_64
	Compiler: gcc 8.4.1 20200928

Debian Bullseye
	Kernel: 5.4.0-122-generic
	Compiler: gcc 10.2.1-6

RHEL8
	Kernel: 4.18.0-240.10.1.el8_3.x86_64
	Compiler: gcc 8.3.1 20191121 (Red Hat 8.3.1-5)

Ubuntu 22.04
	Kernel: 4.18.0-240.10.1.el8_3.x86_64
	Compiler: gcc 11.3.0

Ubuntu 20.04
	Kernel: 5.4.0-153-generic
	Compiler: gcc 9.4.0-1ubuntu1~20.04.1

openSUSE Leap 15
	Kernel: 4.18.0-240.10.1.el8_3.x86_64
	Compiler: gcc 7.5.0

Alpine
	Kernel: 5.4.0-73-generic
	Compiler: gcc (Alpine 10.3.1_git20210424) 10.3.1 20210424

To view detailed results, visit:
https://lab.dpdk.org/results/dashboard/patchsets/29550/

UNH-IOL DPDK Community Lab

To manage your email subscriptions, visit: 
https://lab.dpdk.org/results/dashboard/preferences/subscriptions/