From mboxrd@z Thu Jan  1 00:00:00 1970
Return-Path: <test-report-bounces@dpdk.org>
Received: from mails.dpdk.org (mails.dpdk.org [217.70.189.124])
	by inbox.dpdk.org (Postfix) with ESMTP id 4BCAD43CA3
	for <public@inbox.dpdk.org>; Thu, 14 Mar 2024 14:26:57 +0100 (CET)
Received: from mails.dpdk.org (localhost [127.0.0.1])
	by mails.dpdk.org (Postfix) with ESMTP id 4572042E51;
	Thu, 14 Mar 2024 14:26:57 +0100 (CET)
Received: from mail-pj1-f97.google.com (mail-pj1-f97.google.com
 [209.85.216.97]) by mails.dpdk.org (Postfix) with ESMTP id 83E1740E28
 for <test-report@dpdk.org>; Thu, 14 Mar 2024 14:26:48 +0100 (CET)
Received: by mail-pj1-f97.google.com with SMTP id
 98e67ed59e1d1-29c16b324ecso783774a91.3
 for <test-report@dpdk.org>; Thu, 14 Mar 2024 06:26:48 -0700 (PDT)
DKIM-Signature: v=1; a=rsa-sha256; c=relaxed/relaxed;
 d=iol.unh.edu; s=unh-iol; t=1710422808; x=1711027608; darn=dpdk.org;
 h=references:in-reply-to:cc:to:from:subject:message-id:date:from:to
 :cc:subject:date:message-id:reply-to;
 bh=is6gc/5ViGdy81JfmBoxUVEnA3uDI7taSI6A9fGUQhk=;
 b=KtSbMVwC0YKcvZFgelqG2DN7+5Oi6wgUV415tsz2kvNo8GJrg1Xb/YU8c2JYzZ9TqY
 WN7GTLeTbZORcQyLoLpUHHuk1WmtuxsHT3h4NMhxPiRWTXIXlMF/nzW1dfJc9QftpHyD
 pXAPgHE+bW7mMG/cACvW6YZ/2v3hQfWqDZHv4=
X-Google-DKIM-Signature: v=1; a=rsa-sha256; c=relaxed/relaxed;
 d=1e100.net; s=20230601; t=1710422808; x=1711027608;
 h=references:in-reply-to:cc:to:from:subject:message-id:date
 :x-gm-message-state:from:to:cc:subject:date:message-id:reply-to;
 bh=is6gc/5ViGdy81JfmBoxUVEnA3uDI7taSI6A9fGUQhk=;
 b=rlMtKQrNpoeRuFdCimCOV7ot7NpEfqCPMUpmcuHeJrRgHgEZwuLtxPj+D1jEmB1Gdd
 xV32tUewG4hHkF8DjhmvwXaOXYtCfw76v0EYiafYKQj29/WUeax7fz0qaCb7fqmkqu0h
 ZPoQBXoeyjqk7dnlns7RLki0/cEiA6JiM+EmGr/FQq+JKPNDyLcxOcquAzvvFwU8+cVr
 hwaKMb3DhdKzasdefs21pag85o/wYcJ4tttAHnwtduWjDNlXqi2z/ftKui8tctoh5dpX
 7pAY39rzXQrxleRub1lDqgeNiB1Xa3rS4xYZjFwXDhXZOwYLW83RP+Qpl/8BIZSq4rUS
 pHDw==
X-Gm-Message-State: AOJu0Yy7yfGg5Oi5dhVUR58ovPW1H6koYjeu0ZpCaSZ39lLuLtbQAOEy
 yDdpZ+xE3d+/xFu1DfwR5/dpx119J5XZ7KKlXQSAHHpMX+tdqywHeJcaGCiPGnosOddbpjetpju
 Hhhd9ObanEyo8TwQ4+hfXDUaUjC/KC5br54Z2sT2U
X-Google-Smtp-Source: AGHT+IHBxEgDGZ4IOPnqO06hS+XEKCNsWXFPP/HOLBO3Yu4iZLZkB+dUdH+WuLtgm+akmKnjMVHxOuiCzK7R
X-Received: by 2002:a17:90a:ab12:b0:29b:95a:baaa with SMTP id
 m18-20020a17090aab1200b0029b095abaaamr1475422pjq.47.1710422807808; 
 Thu, 14 Mar 2024 06:26:47 -0700 (PDT)
Received: from postal.iol.unh.edu (postal.iol.unh.edu. [132.177.123.84])
 by smtp-relay.gmail.com with ESMTPS id
 t8-20020a17090aba8800b0029c03e84f88sm26622pjr.7.2024.03.14.06.26.47
 (version=TLS1_2 cipher=ECDHE-ECDSA-AES128-GCM-SHA256 bits=128/128);
 Thu, 14 Mar 2024 06:26:47 -0700 (PDT)
X-Relaying-Domain: iol.unh.edu
Date: Thu, 14 Mar 2024 06:26:47 -0700 (PDT)
Message-ID: <65f2fb17.170a0220.adddc.254dSMTPIN_ADDED_MISSING@mx.google.com>
Received: from [172.17.0.9] (unknown [172.18.0.217])
 by postal.iol.unh.edu (Postfix) with ESMTP id 01ED56052471;
 Thu, 14 Mar 2024 09:26:47 -0400 (EDT)
Subject: |SUCCESS| pw138379-138383 [PATCH] [v8,5/5] config/arm: allow WFE to 
From: dpdklab@iol.unh.edu
To: Test Report <test-report@dpdk.org>
Cc: dpdk-test-reports@iol.unh.edu
In-Reply-To: <20240314113829.2511-5-pbhagavatula@marvell.com>
References: <20240314113829.2511-5-pbhagavatula@marvell.com>
Content-Type: text/plain
X-BeenThere: test-report@dpdk.org
X-Mailman-Version: 2.1.29
Precedence: list
List-Id: automatic DPDK test reports <test-report.dpdk.org>
List-Unsubscribe: <https://mails.dpdk.org/options/test-report>,
 <mailto:test-report-request@dpdk.org?subject=unsubscribe>
List-Archive: <http://mails.dpdk.org/archives/test-report/>
List-Post: <mailto:test-report@dpdk.org>
List-Help: <mailto:test-report-request@dpdk.org?subject=help>
List-Subscribe: <https://mails.dpdk.org/listinfo/test-report>,
 <mailto:test-report-request@dpdk.org?subject=subscribe>
Errors-To: test-report-bounces@dpdk.org

Test-Label: iol-unit-amd64-testing
Test-Status: SUCCESS
http://dpdk.org/patch/138383

_Testing PASS_

Submitter: Pavan Nikhilesh Bhagavatula <pbhagavatula@marvell.com>
Date: Thursday, March 14 2024 11:38:29 
DPDK git baseline: Repo:dpdk
  Branch: master
  CommitID:cd218549b686d6be394ef3b171eafa16c038bfe3

138379-138383 --> testing pass

Test environment and result as below:

+------------------+----------------+
|   Environment    | dpdk_unit_test |
+==================+================+
| CentOS Stream 9  | PASS           |
+------------------+----------------+
| Debian Bullseye  | PASS           |
+------------------+----------------+
| Debian 12 (arm)  | PASS           |
+------------------+----------------+
| CentOS Stream 8  | PASS           |
+------------------+----------------+
| Fedora 37        | PASS           |
+------------------+----------------+
| Fedora 38        | PASS           |
+------------------+----------------+
| openSUSE Leap 15 | PASS           |
+------------------+----------------+
| Ubuntu 20.04     | PASS           |
+------------------+----------------+


CentOS Stream 9
	Kernel: 4.18.0-240.10.1.el8_3.x86_64
	Compiler: gcc 11.3.1 20220421

Debian Bullseye
	Kernel: 5.4.0-122-generic
	Compiler: gcc 10.2.1-6

Debian 12 (arm)
	Kernel: Container Host Kernel
	Compiler: gcc 11

CentOS Stream 8
	Kernel: 4.18.0-240.10.1.el8_3.x86_64
	Compiler: gcc 8.4.1 20200928

Fedora 37
	Kernel: Depends on container host system
	Compiler: gcc 12.3.1

Fedora 38
	Kernel: Depends on container host
	Compiler: gcc 13.1.1

openSUSE Leap 15
	Kernel: 4.18.0-240.10.1.el8_3.x86_64
	Compiler: gcc 7.5.0

Ubuntu 20.04
	Kernel: 5.4.0-153-generic
	Compiler: gcc 9.4.0-1ubuntu1~20.04.1

To view detailed results, visit:
https://lab.dpdk.org/results/dashboard/patchsets/29550/

UNH-IOL DPDK Community Lab

To manage your email subscriptions, visit: 
https://lab.dpdk.org/results/dashboard/preferences/subscriptions/