From mboxrd@z Thu Jan  1 00:00:00 1970
Return-Path: <test-report-bounces@dpdk.org>
Received: from mails.dpdk.org (mails.dpdk.org [217.70.189.124])
	by inbox.dpdk.org (Postfix) with ESMTP id 25B7C43CA3
	for <public@inbox.dpdk.org>; Thu, 14 Mar 2024 14:38:02 +0100 (CET)
Received: from mails.dpdk.org (localhost [127.0.0.1])
	by mails.dpdk.org (Postfix) with ESMTP id E838240E28;
	Thu, 14 Mar 2024 14:38:01 +0100 (CET)
Received: from mail-pf1-f227.google.com (mail-pf1-f227.google.com
 [209.85.210.227])
 by mails.dpdk.org (Postfix) with ESMTP id E56044028C
 for <test-report@dpdk.org>; Thu, 14 Mar 2024 14:37:59 +0100 (CET)
Received: by mail-pf1-f227.google.com with SMTP id
 d2e1a72fcca58-6e6b729669bso1103418b3a.3
 for <test-report@dpdk.org>; Thu, 14 Mar 2024 06:37:59 -0700 (PDT)
DKIM-Signature: v=1; a=rsa-sha256; c=relaxed/relaxed;
 d=iol.unh.edu; s=unh-iol; t=1710423479; x=1711028279; darn=dpdk.org;
 h=references:in-reply-to:cc:to:from:subject:message-id:date:from:to
 :cc:subject:date:message-id:reply-to;
 bh=Df96ZREvUOk9HRmyomSId4rqmTtYzR/eUK5eUOkOjrE=;
 b=WuJ78fl4nRMtOvkJ53DETBte5rMlv0crIF4WII6PXCskL44oK59oUI6/YbIdWxYd00
 Zh2jflebaqSMLicVMDDTre6nNAA/dLFH7l/rhjEtF2suvBsmRsHENEB45yiWeGPt8EUx
 06I2WlDHFIobDpCNY+DjM9Rv2nBgeN5gGi16w=
X-Google-DKIM-Signature: v=1; a=rsa-sha256; c=relaxed/relaxed;
 d=1e100.net; s=20230601; t=1710423479; x=1711028279;
 h=references:in-reply-to:cc:to:from:subject:message-id:date
 :x-gm-message-state:from:to:cc:subject:date:message-id:reply-to;
 bh=Df96ZREvUOk9HRmyomSId4rqmTtYzR/eUK5eUOkOjrE=;
 b=tO7vPFYh3macdCNARTFmkhfJhEL5TXBjsbK/3iUBnuE1Jj8VCplnAuAqyTd/sU1o92
 v8UEpZBXlHc5QEFBTw6GncbNqlmMO8dWoxPwKe+el4tR6OopeRWRqEUxkgOxwQHTF3G7
 BXh+SFrBY045f77iF39ZhGmNitGK761SiMjOysHdiUKhaXDpgftTT7pbrhQLEXt1VGlC
 TRstVjBZvEGKR9lPEoA258q7NVv+Wve77E4/Aua5FrKlWR3ixez3bCEQPzax96LmavUF
 720+da444dGPOPL6pAzxVin+TzKxJLOWJ9RJdWc9oU3bNY63a3DvqRMKgSN+OCWnRHI5
 DGFg==
X-Gm-Message-State: AOJu0YxQUnBfGRTeKXz4LcR9p16FHCS7Eb8QqvvaJKhEZpl2oUZS99zd
 kIJWrk1k0ZFx2H0Iowr63lXB/2vmuOk8/zkHIx7mA+IrXD/LCAjQl1A34a4RGu8QrGG5IsNj4L2
 3eSDwOwxs/5r0WSVM84KdD6QVzgMzvY2X1WokOsp7
X-Google-Smtp-Source: AGHT+IGpDqe7o9/Yu+2NbmDvc0Y2PdCWta8l5yfj+Nk+zHP971HmsdV1R9hzKfwHmx4ce4fDq78CcP4bde03
X-Received: by 2002:a05:6a20:e608:b0:1a1:7529:1942 with SMTP id
 my8-20020a056a20e60800b001a175291942mr1849062pzb.24.1710423479001; 
 Thu, 14 Mar 2024 06:37:59 -0700 (PDT)
Received: from postal.iol.unh.edu (postal.iol.unh.edu. [132.177.123.84])
 by smtp-relay.gmail.com with ESMTPS id
 fa40-20020a056a002d2800b006e653cec7c7sm77226pfb.16.2024.03.14.06.37.58
 (version=TLS1_2 cipher=ECDHE-ECDSA-AES128-GCM-SHA256 bits=128/128);
 Thu, 14 Mar 2024 06:37:58 -0700 (PDT)
X-Relaying-Domain: iol.unh.edu
Date: Thu, 14 Mar 2024 06:37:58 -0700 (PDT)
Message-ID: <65f2fdb6.050a0220.58969.5b30SMTPIN_ADDED_MISSING@mx.google.com>
Received: from [172.17.0.6] (unknown [172.18.0.217])
 by postal.iol.unh.edu (Postfix) with ESMTP id 2E1196052471;
 Thu, 14 Mar 2024 09:37:58 -0400 (EDT)
Subject: |SUCCESS| pw138376-138377 [PATCH] [v7,2/2] doc: announce Intel IPsec
From: dpdklab@iol.unh.edu
To: Test Report <test-report@dpdk.org>
Cc: dpdk-test-reports@iol.unh.edu
In-Reply-To: <20240314103731.3242086-2-brian.dooley@intel.com>
References: <20240314103731.3242086-2-brian.dooley@intel.com>
Content-Type: text/plain
X-BeenThere: test-report@dpdk.org
X-Mailman-Version: 2.1.29
Precedence: list
List-Id: automatic DPDK test reports <test-report.dpdk.org>
List-Unsubscribe: <https://mails.dpdk.org/options/test-report>,
 <mailto:test-report-request@dpdk.org?subject=unsubscribe>
List-Archive: <http://mails.dpdk.org/archives/test-report/>
List-Post: <mailto:test-report@dpdk.org>
List-Help: <mailto:test-report-request@dpdk.org?subject=help>
List-Subscribe: <https://mails.dpdk.org/listinfo/test-report>,
 <mailto:test-report-request@dpdk.org?subject=subscribe>
Errors-To: test-report-bounces@dpdk.org

Test-Label: iol-compile-arm64-testing
Test-Status: SUCCESS
http://dpdk.org/patch/138377

_Testing PASS_

Submitter: Brian Dooley <brian.dooley@intel.com>
Date: Thursday, March 14 2024 10:37:31 
DPDK git baseline: Repo:dpdk
  Branch: master
  CommitID:197bb4582c43df3c40db97a0da463afea5e74951

138376-138377 --> testing pass

Test environment and result as below:

+----------------------------------------+--------------------+
|              Environment               | dpdk_meson_compile |
+========================================+====================+
| Ubuntu 20.04 ARM SVE                   | PASS               |
+----------------------------------------+--------------------+
| Ubuntu 20.04 ARM GCC Cross Compile     | PASS               |
+----------------------------------------+--------------------+
| Debian 12 with MUSDK                   | PASS               |
+----------------------------------------+--------------------+
| Ubuntu 20.04 aarch32 GCC Cross Compile | PASS               |
+----------------------------------------+--------------------+
| Fedora 37 (ARM)                        | PASS               |
+----------------------------------------+--------------------+
| Fedora 38 (ARM)                        | PASS               |
+----------------------------------------+--------------------+
| Ubuntu 20.04 (ARM)                     | PASS               |
+----------------------------------------+--------------------+
| CentOS Stream 9 (ARM)                  | PASS               |
+----------------------------------------+--------------------+
| Debian 11 (Buster) (ARM)               | PASS               |
+----------------------------------------+--------------------+
| Ubuntu 20.04 ARM Clang Cross Compile   | PASS               |
+----------------------------------------+--------------------+
| Debian 12 (arm)                        | PASS               |
+----------------------------------------+--------------------+
| Fedora 38 (ARM Clang)                  | PASS               |
+----------------------------------------+--------------------+


Ubuntu 20.04 ARM SVE
	Kernel: 5.4.0-80-generic
	Compiler: gcc 10.3.0 (Ubuntu 10.3.0-1ubuntu1~20.04)

Ubuntu 20.04 ARM GCC Cross Compile
	Kernel: 5.4.0-72-generic
	Compiler: aarch64-linux-gnu-gcc (Ubuntu 9.3.0-17ubuntu1~20.04) 9.3.0

Debian 12 with MUSDK
	Kernel: Container Host Kernel
	Compiler: gcc 12

Ubuntu 20.04 aarch32 GCC Cross Compile
	Kernel: 5.4.0-72-generic
	Compiler: gcc 9.3.0

Fedora 37 (ARM)
	Kernel: Depends on container host
	Compiler: gcc 12.3.1

Fedora 38 (ARM)
	Kernel: Depends on container host
	Compiler: gcc 13.1.1

Ubuntu 20.04 (ARM)
	Kernel: Container Host Kernel
	Compiler: gcc 9.4.0

CentOS Stream 9 (ARM)
	Kernel: Container Host Kernel
	Compiler: gcc 11.3.1

Debian 11 (Buster) (ARM)
	Kernel: Container Host Kernel
	Compiler: gcc 10.2.1

Ubuntu 20.04 ARM Clang Cross Compile
	Kernel: 5.4.0-72-generic
	Compiler: clang version 10.0.0-4ubuntu1

Debian 12 (arm)
	Kernel: Container Host Kernel
	Compiler: gcc 11

Fedora 38 (ARM Clang)
	Kernel: Depends on container host
	Compiler: clang 16.0.3

To view detailed results, visit:
https://lab.dpdk.org/results/dashboard/patchsets/29548/

UNH-IOL DPDK Community Lab

To manage your email subscriptions, visit: 
https://lab.dpdk.org/results/dashboard/preferences/subscriptions/