From mboxrd@z Thu Jan  1 00:00:00 1970
Return-Path: <test-report-bounces@dpdk.org>
Received: from mails.dpdk.org (mails.dpdk.org [217.70.189.124])
	by inbox.dpdk.org (Postfix) with ESMTP id E1C6B43CA3
	for <public@inbox.dpdk.org>; Thu, 14 Mar 2024 15:18:02 +0100 (CET)
Received: from mails.dpdk.org (localhost [127.0.0.1])
	by mails.dpdk.org (Postfix) with ESMTP id B0E3E40297;
	Thu, 14 Mar 2024 15:18:02 +0100 (CET)
Received: from mail-il1-f228.google.com (mail-il1-f228.google.com
 [209.85.166.228])
 by mails.dpdk.org (Postfix) with ESMTP id 72B5F4028C
 for <test-report@dpdk.org>; Thu, 14 Mar 2024 15:18:01 +0100 (CET)
Received: by mail-il1-f228.google.com with SMTP id
 e9e14a558f8ab-366219c3916so6729105ab.3
 for <test-report@dpdk.org>; Thu, 14 Mar 2024 07:18:01 -0700 (PDT)
DKIM-Signature: v=1; a=rsa-sha256; c=relaxed/relaxed;
 d=iol.unh.edu; s=unh-iol; t=1710425881; x=1711030681; darn=dpdk.org;
 h=references:in-reply-to:cc:to:from:subject:message-id:date:from:to
 :cc:subject:date:message-id:reply-to;
 bh=gtrSTqcjC67O8x+B4AM1XfpjCP0txqtV1fQ0GplCreA=;
 b=SYnjyCVU873H66c2UGJmL6qU/YjCkj2Znpu1ykmrwfod57Z0agdM/0uNGJs8M4y3jV
 /46Np11y9Q86iQCsIo5tZ0JuR9Z8tbHcAS+iGf6aAq9Dlgi+dvEJvPmJ/7d1qnCsp4Jr
 cg19LE6OECQQSjQNBokipAtkvtLrf6jf43opQ=
X-Google-DKIM-Signature: v=1; a=rsa-sha256; c=relaxed/relaxed;
 d=1e100.net; s=20230601; t=1710425881; x=1711030681;
 h=references:in-reply-to:cc:to:from:subject:message-id:date
 :x-gm-message-state:from:to:cc:subject:date:message-id:reply-to;
 bh=gtrSTqcjC67O8x+B4AM1XfpjCP0txqtV1fQ0GplCreA=;
 b=kPXg1XvDVlY8K1iF1Bq2J270IwNojzhInAhSjnZ24Xg6WmOe8hwKQz5X/VjT4iOGCs
 riooy9tMW3BljKjYB2ZoM/yCfG2Uszk+UlSifyjTY4yv03+WYB8tzfcr2iXwUEA8YM04
 DbqrDlshzGmfwnYN+r/T7tv2Ug2SfIBkRkuke2/izcke6DtZA3Va2kgJGUMqkbwjht3j
 GotUZhag18dDoMdMg/D78mH1jo5EQRh1wG2+D9CaTGRPeHzCWhRYHHGc593HuG24Bpsi
 5kJi2FeiR+WlEk7+xUIqwgyhcI57+ABfwlJxyRXkUSwZtKbjruLHDFtWUwoxEqxkglu2
 ZDpg==
X-Gm-Message-State: AOJu0YzLEM+R0hfjTkrgcNZ2rNbyPvDG7eernyW7wwBpB5nbXjughwjZ
 87Tn53wI5kDTHUCKdHQVwGKKOLL7W08io47M8MgMMoQ1xqnqnPrR+VvODfgYZqlNQR5pAtnw9BF
 R0o1yOOuk7VdyJjwxBjTtyUzWc76xC5VFU5k9fxhB
X-Google-Smtp-Source: AGHT+IEN6izBI5RH43c9oa/hbFPUnzxoXztfdDVmPoy7cNNJevnqXf9M7lisBu39N4Jimukj6nxfmUecxby3
X-Received: by 2002:a92:c7c1:0:b0:366:5fc5:78d9 with SMTP id
 g1-20020a92c7c1000000b003665fc578d9mr1645113ilk.19.1710425880861; 
 Thu, 14 Mar 2024 07:18:00 -0700 (PDT)
Received: from postal.iol.unh.edu (postal.iol.unh.edu. [132.177.123.84])
 by smtp-relay.gmail.com with ESMTPS id
 t16-20020a92dc10000000b0036532c7e9d3sm34296iln.74.2024.03.14.07.18.00
 (version=TLS1_2 cipher=ECDHE-ECDSA-AES128-GCM-SHA256 bits=128/128);
 Thu, 14 Mar 2024 07:18:00 -0700 (PDT)
X-Relaying-Domain: iol.unh.edu
Date: Thu, 14 Mar 2024 07:18:00 -0700 (PDT)
Message-ID: <65f30718.920a0220.c3ee.2b93SMTPIN_ADDED_MISSING@mx.google.com>
Received: from [172.17.0.7] (unknown [172.18.0.217])
 by postal.iol.unh.edu (Postfix) with ESMTP id 74B276052471;
 Thu, 14 Mar 2024 10:18:00 -0400 (EDT)
Subject: |SUCCESS| pw138379-138383 [PATCH] [v8,5/5] config/arm: allow WFE to 
From: dpdklab@iol.unh.edu
To: Test Report <test-report@dpdk.org>
Cc: dpdk-test-reports@iol.unh.edu
In-Reply-To: <20240314113829.2511-5-pbhagavatula@marvell.com>
References: <20240314113829.2511-5-pbhagavatula@marvell.com>
Content-Type: text/plain
X-BeenThere: test-report@dpdk.org
X-Mailman-Version: 2.1.29
Precedence: list
List-Id: automatic DPDK test reports <test-report.dpdk.org>
List-Unsubscribe: <https://mails.dpdk.org/options/test-report>,
 <mailto:test-report-request@dpdk.org?subject=unsubscribe>
List-Archive: <http://mails.dpdk.org/archives/test-report/>
List-Post: <mailto:test-report@dpdk.org>
List-Help: <mailto:test-report-request@dpdk.org?subject=help>
List-Subscribe: <https://mails.dpdk.org/listinfo/test-report>,
 <mailto:test-report-request@dpdk.org?subject=subscribe>
Errors-To: test-report-bounces@dpdk.org

Test-Label: iol-unit-arm64-testing
Test-Status: SUCCESS
http://dpdk.org/patch/138383

_Testing PASS_

Submitter: Pavan Nikhilesh Bhagavatula <pbhagavatula@marvell.com>
Date: Thursday, March 14 2024 11:38:29 
DPDK git baseline: Repo:dpdk
  Branch: master
  CommitID:cd218549b686d6be394ef3b171eafa16c038bfe3

138379-138383 --> testing pass

Test environment and result as below:

+--------------------------+----------------+--------------+---------------------------+------------------------------+
|       Environment        | dpdk_unit_test | lpm_autotest | cryptodev_sw_zuc_autotest | cryptodev_sw_snow3g_autotest |
+==========================+================+==============+===========================+==============================+
| Debian 11 (Buster) (ARM) | PASS           | SKIPPED      | SKIPPED                   | SKIPPED                      |
+--------------------------+----------------+--------------+---------------------------+------------------------------+
| CentOS Stream 9 (ARM)    | PASS           | SKIPPED      | SKIPPED                   | SKIPPED                      |
+--------------------------+----------------+--------------+---------------------------+------------------------------+
| Debian 12 (arm)          | PASS           | SKIPPED      | PASS                      | PASS                         |
+--------------------------+----------------+--------------+---------------------------+------------------------------+
| Fedora 38 (ARM)          | PASS           | SKIPPED      | SKIPPED                   | SKIPPED                      |
+--------------------------+----------------+--------------+---------------------------+------------------------------+
| Ubuntu 20.04 (ARM)       | PASS           | SKIPPED      | SKIPPED                   | SKIPPED                      |
+--------------------------+----------------+--------------+---------------------------+------------------------------+
| Fedora 38 (ARM Clang)    | PASS           | SKIPPED      | SKIPPED                   | SKIPPED                      |
+--------------------------+----------------+--------------+---------------------------+------------------------------+
| Ubuntu 20.04 ARM SVE     | SKIPPED        | PASS         | SKIPPED                   | SKIPPED                      |
+--------------------------+----------------+--------------+---------------------------+------------------------------+


Debian 11 (Buster) (ARM)
	Kernel: Container Host Kernel
	Compiler: gcc 10.2.1

CentOS Stream 9 (ARM)
	Kernel: Container Host Kernel
	Compiler: gcc 11.3.1

Debian 12 (arm)
	Kernel: Container Host Kernel
	Compiler: gcc 11

Fedora 38 (ARM)
	Kernel: Depends on container host
	Compiler: gcc 13.1.1

Ubuntu 20.04 (ARM)
	Kernel: Container Host Kernel
	Compiler: gcc 9.4.0

Fedora 38 (ARM Clang)
	Kernel: Depends on container host
	Compiler: clang 16.0.3

Ubuntu 20.04 ARM SVE
	Kernel: 5.4.0-80-generic
	Compiler: gcc 10.3.0 (Ubuntu 10.3.0-1ubuntu1~20.04)

To view detailed results, visit:
https://lab.dpdk.org/results/dashboard/patchsets/29550/

UNH-IOL DPDK Community Lab

To manage your email subscriptions, visit: 
https://lab.dpdk.org/results/dashboard/preferences/subscriptions/