From mboxrd@z Thu Jan  1 00:00:00 1970
Return-Path: <test-report-bounces@dpdk.org>
Received: from mails.dpdk.org (mails.dpdk.org [217.70.189.124])
	by inbox.dpdk.org (Postfix) with ESMTP id 6DAE543CA3
	for <public@inbox.dpdk.org>; Thu, 14 Mar 2024 15:29:35 +0100 (CET)
Received: from mails.dpdk.org (localhost [127.0.0.1])
	by mails.dpdk.org (Postfix) with ESMTP id 6438340297;
	Thu, 14 Mar 2024 15:29:35 +0100 (CET)
Received: from mail-qt1-f226.google.com (mail-qt1-f226.google.com
 [209.85.160.226])
 by mails.dpdk.org (Postfix) with ESMTP id CD9684028C
 for <test-report@dpdk.org>; Thu, 14 Mar 2024 15:29:33 +0100 (CET)
Received: by mail-qt1-f226.google.com with SMTP id
 d75a77b69052e-42f2009e559so18246831cf.0
 for <test-report@dpdk.org>; Thu, 14 Mar 2024 07:29:33 -0700 (PDT)
DKIM-Signature: v=1; a=rsa-sha256; c=relaxed/relaxed;
 d=iol.unh.edu; s=unh-iol; t=1710426573; x=1711031373; darn=dpdk.org;
 h=references:in-reply-to:cc:to:from:subject:message-id:date:from:to
 :cc:subject:date:message-id:reply-to;
 bh=GFbFCUdZ55tYleVOdPc/V/aVAcdwprDMK4/7+cJbo3w=;
 b=ZVTnXx/J8kVd//kbdR0wYoQfzDYAZid2WCLQt+ID2nwjAu9qbgaYaWm7hBnZp7jO+i
 Wp07IBYdTTgasiyh0lFn0QTUoHPqWceDQZ+rKbllwPVPdQngkjWZGNnZiCw7w0CzLca4
 6QCNRLRI02ojjUGUUwUunFIMGk3rhTx2qZs5c=
X-Google-DKIM-Signature: v=1; a=rsa-sha256; c=relaxed/relaxed;
 d=1e100.net; s=20230601; t=1710426573; x=1711031373;
 h=references:in-reply-to:cc:to:from:subject:message-id:date
 :x-gm-message-state:from:to:cc:subject:date:message-id:reply-to;
 bh=GFbFCUdZ55tYleVOdPc/V/aVAcdwprDMK4/7+cJbo3w=;
 b=r/eOuVFqT0GkH/KIH+IT2NsC+3yExkAaEp4O5YJehaKpu0SE3vrN5BZyXy3HKKstmY
 aBkciF/V6WG9I25o9xq7IQyjBbM0txiEH7Phexw5uKsMN2JAMQI9A+3gsQ0Li5og8gVK
 mez/jgFxLcnPu4nCxqcS3l6uWe/cqo3UZi54R917XjxBcxLcN1F/rDfrgtEca6ZALpgl
 +BTIZeL+0XqcGdbHFZX8xS96NwOQUkNkSp+g+aTe+uNgMnfFh8k3UqrRG/ApU1QnTZQF
 5rQYy2jKLKCO4USq7QrekFo0FTKrqsmbQL4TXOVBhoryyMhAx8g2Hmun29O6bKbtJgTt
 nEow==
X-Gm-Message-State: AOJu0YwszCGMajVP5VcAcAYW4SQ+hy7bWprXhzmpW0Rk9ioG1zfcqHw2
 atKy6uptgqbcZUEYPynmZ+88Ga2maUuBi0mi8fk7BcUCMnJSWoGOaWsU/3xoTX7lDF0dGBt/ya5
 vDEr4+7RlYXItYUiDSYEag3BPsDMQnUw2IACa49vlWsJk8SlyyJI59F1q
X-Google-Smtp-Source: AGHT+IGKJ0e1bhCjyCanmzJmJYnLMEceSLqGIDq8YjQyl+9I3f5bP33P37YaOpXpHQpes4SuXEFlQ9aeXCQy
X-Received: by 2002:a0c:9c0a:0:b0:691:2de1:296c with SMTP id
 v10-20020a0c9c0a000000b006912de1296cmr2888784qve.11.1710426571507; 
 Thu, 14 Mar 2024 07:29:31 -0700 (PDT)
Received: from postal.iol.unh.edu (postal.iol.unh.edu.
 [2606:4100:3880:1234::84]) by smtp-relay.gmail.com with ESMTPS id
 b10-20020a0ce88a000000b0069160153bc0sm22452qvo.18.2024.03.14.07.29.31
 (version=TLS1_2 cipher=ECDHE-ECDSA-AES128-GCM-SHA256 bits=128/128);
 Thu, 14 Mar 2024 07:29:31 -0700 (PDT)
X-Relaying-Domain: iol.unh.edu
Date: Thu, 14 Mar 2024 07:29:31 -0700 (PDT)
Message-ID: <65f309cb.0c0a0220.d81f7.1ca1SMTPIN_ADDED_MISSING@mx.google.com>
Received: from [172.17.0.7] (unknown [172.18.0.217])
 by postal.iol.unh.edu (Postfix) with ESMTP id 2119D6052471;
 Thu, 14 Mar 2024 10:29:31 -0400 (EDT)
Subject: |SUCCESS| pw138379-138383 [PATCH] [v8,5/5] config/arm: allow WFE to 
From: dpdklab@iol.unh.edu
To: Test Report <test-report@dpdk.org>
Cc: dpdk-test-reports@iol.unh.edu
In-Reply-To: <20240314113829.2511-5-pbhagavatula@marvell.com>
References: <20240314113829.2511-5-pbhagavatula@marvell.com>
Content-Type: text/plain
X-BeenThere: test-report@dpdk.org
X-Mailman-Version: 2.1.29
Precedence: list
List-Id: automatic DPDK test reports <test-report.dpdk.org>
List-Unsubscribe: <https://mails.dpdk.org/options/test-report>,
 <mailto:test-report-request@dpdk.org?subject=unsubscribe>
List-Archive: <http://mails.dpdk.org/archives/test-report/>
List-Post: <mailto:test-report@dpdk.org>
List-Help: <mailto:test-report-request@dpdk.org?subject=help>
List-Subscribe: <https://mails.dpdk.org/listinfo/test-report>,
 <mailto:test-report-request@dpdk.org?subject=subscribe>
Errors-To: test-report-bounces@dpdk.org

Test-Label: iol-unit-arm64-testing
Test-Status: SUCCESS
http://dpdk.org/patch/138383

_Testing PASS_

Submitter: Pavan Nikhilesh Bhagavatula <pbhagavatula@marvell.com>
Date: Thursday, March 14 2024 11:38:29 
DPDK git baseline: Repo:dpdk
  Branch: master
  CommitID:cd218549b686d6be394ef3b171eafa16c038bfe3

138379-138383 --> testing pass

Test environment and result as below:

+--------------------------+----------------+--------------+---------------------------+------------------------------+
|       Environment        | dpdk_unit_test | lpm_autotest | cryptodev_sw_zuc_autotest | cryptodev_sw_snow3g_autotest |
+==========================+================+==============+===========================+==============================+
| Debian 11 (Buster) (ARM) | PASS           | SKIPPED      | SKIPPED                   | SKIPPED                      |
+--------------------------+----------------+--------------+---------------------------+------------------------------+
| CentOS Stream 9 (ARM)    | PASS           | SKIPPED      | SKIPPED                   | SKIPPED                      |
+--------------------------+----------------+--------------+---------------------------+------------------------------+
| Debian 12 (arm)          | PASS           | SKIPPED      | PASS                      | PASS                         |
+--------------------------+----------------+--------------+---------------------------+------------------------------+
| Fedora 38 (ARM)          | PASS           | SKIPPED      | SKIPPED                   | SKIPPED                      |
+--------------------------+----------------+--------------+---------------------------+------------------------------+
| Ubuntu 20.04 (ARM)       | PASS           | SKIPPED      | SKIPPED                   | SKIPPED                      |
+--------------------------+----------------+--------------+---------------------------+------------------------------+
| Fedora 38 (ARM Clang)    | PASS           | SKIPPED      | SKIPPED                   | SKIPPED                      |
+--------------------------+----------------+--------------+---------------------------+------------------------------+
| Fedora 37 (ARM)          | PASS           | SKIPPED      | SKIPPED                   | SKIPPED                      |
+--------------------------+----------------+--------------+---------------------------+------------------------------+
| Ubuntu 20.04 ARM SVE     | SKIPPED        | PASS         | SKIPPED                   | SKIPPED                      |
+--------------------------+----------------+--------------+---------------------------+------------------------------+


Debian 11 (Buster) (ARM)
	Kernel: Container Host Kernel
	Compiler: gcc 10.2.1

CentOS Stream 9 (ARM)
	Kernel: Container Host Kernel
	Compiler: gcc 11.3.1

Debian 12 (arm)
	Kernel: Container Host Kernel
	Compiler: gcc 11

Fedora 38 (ARM)
	Kernel: Depends on container host
	Compiler: gcc 13.1.1

Ubuntu 20.04 (ARM)
	Kernel: Container Host Kernel
	Compiler: gcc 9.4.0

Fedora 38 (ARM Clang)
	Kernel: Depends on container host
	Compiler: clang 16.0.3

Fedora 37 (ARM)
	Kernel: Depends on container host
	Compiler: gcc 12.3.1

Ubuntu 20.04 ARM SVE
	Kernel: 5.4.0-80-generic
	Compiler: gcc 10.3.0 (Ubuntu 10.3.0-1ubuntu1~20.04)

To view detailed results, visit:
https://lab.dpdk.org/results/dashboard/patchsets/29550/

UNH-IOL DPDK Community Lab

To manage your email subscriptions, visit: 
https://lab.dpdk.org/results/dashboard/preferences/subscriptions/