From mboxrd@z Thu Jan  1 00:00:00 1970
Return-Path: <test-report-bounces@dpdk.org>
Received: from mails.dpdk.org (mails.dpdk.org [217.70.189.124])
	by inbox.dpdk.org (Postfix) with ESMTP id 32D6D43CA3
	for <public@inbox.dpdk.org>; Thu, 14 Mar 2024 15:37:34 +0100 (CET)
Received: from mails.dpdk.org (localhost [127.0.0.1])
	by mails.dpdk.org (Postfix) with ESMTP id 1288D40297;
	Thu, 14 Mar 2024 15:37:34 +0100 (CET)
Received: from mail-io1-f97.google.com (mail-io1-f97.google.com
 [209.85.166.97]) by mails.dpdk.org (Postfix) with ESMTP id 1FA184028C
 for <test-report@dpdk.org>; Thu, 14 Mar 2024 15:37:33 +0100 (CET)
Received: by mail-io1-f97.google.com with SMTP id
 ca18e2360f4ac-7c89cd8df36so26392439f.1
 for <test-report@dpdk.org>; Thu, 14 Mar 2024 07:37:33 -0700 (PDT)
DKIM-Signature: v=1; a=rsa-sha256; c=relaxed/relaxed;
 d=iol.unh.edu; s=unh-iol; t=1710427052; x=1711031852; darn=dpdk.org;
 h=references:in-reply-to:cc:to:from:subject:message-id:date:from:to
 :cc:subject:date:message-id:reply-to;
 bh=rWKRdsZEDt1QfVZh6sZdxJtBugejPa/Jc9na0dkXK8g=;
 b=GK2XwiORb+SnXQRcTcDtaTHqj7ZU6QwlITaeh6/iiDbIMhr1x+ZG9XlV03yYW9E6Ch
 7weq+VcCk0iPvJYCnIMgTFvRv2kScJGzefDKoNVQRcWN3k9U79mnz1VsbxmOyHMAvjLX
 6Rc+4AEMwfHgT8+yyZN47a+uVtDoMNBao2fCE=
X-Google-DKIM-Signature: v=1; a=rsa-sha256; c=relaxed/relaxed;
 d=1e100.net; s=20230601; t=1710427052; x=1711031852;
 h=references:in-reply-to:cc:to:from:subject:message-id:date
 :x-gm-message-state:from:to:cc:subject:date:message-id:reply-to;
 bh=rWKRdsZEDt1QfVZh6sZdxJtBugejPa/Jc9na0dkXK8g=;
 b=mw6w4EEFFc51WhhOwvFu4V+4d7sBs6IjD6Y6nohqnYoS58Mf24yMAoBYzOOOqr0Lad
 jn38vSM4VjDHdPt8SY01JCXQrcjohJO7AFTEyRd5Bt9yC5NhCCHJXIe2qa+kVAK09/XO
 /AgxK6PdC5iklEAgO0ZDUFAbDT4SzBiYbyDhwwEHiQdkSd8ozbLTk7fQar8CJb5/yjRq
 xUEghPl/RJ17mcrOc8NeqVoAfRhKt18GUHKw8gJEvQJMfO8hM/467BWqZfmrq9JsM03s
 SgzJfoML7xXzeH0b8wluLf88ymnNSmfYfpQpf8Xn8X78pOLBBSIgCs2kXiwPjURDCFdo
 +4cQ==
X-Gm-Message-State: AOJu0YyPZJYQpnpG6RerCXiTIe66+/VZqCaCUUgQ7EIetHs/tp6BlFVB
 qa1/6ADK95kRjm+S6imt7HNm/tCFunnduBBlaQPgYwMeK/mgDjB9ASlyYglJ5aPpYOUZeRlPAL9
 hOTrBq96j8zcYZM4oJrjxFhMxCfHrjuLJrl7liVg5
X-Google-Smtp-Source: AGHT+IEqrnbgL/IlMhFmaJBAt4bWkKJ2BMN1W9MQ0/M6GqCDT4RxMHtK1ZN3VTLn84FdnQ9BY7JJ101ZX5rc
X-Received: by 2002:a05:6602:21c1:b0:7c8:d791:68a with SMTP id
 c1-20020a05660221c100b007c8d791068amr2297699ioc.18.1710427052406; 
 Thu, 14 Mar 2024 07:37:32 -0700 (PDT)
Received: from postal.iol.unh.edu (postal.iol.unh.edu. [132.177.123.84])
 by smtp-relay.gmail.com with ESMTPS id
 s22-20020a056638219600b0047477d752d8sm25761jaj.58.2024.03.14.07.37.32
 (version=TLS1_2 cipher=ECDHE-ECDSA-AES128-GCM-SHA256 bits=128/128);
 Thu, 14 Mar 2024 07:37:32 -0700 (PDT)
X-Relaying-Domain: iol.unh.edu
Date: Thu, 14 Mar 2024 07:37:32 -0700 (PDT)
Message-ID: <65f30bac.050a0220.d5567.1c8eSMTPIN_ADDED_MISSING@mx.google.com>
Received: from [172.17.0.7] (unknown [172.18.0.217])
 by postal.iol.unh.edu (Postfix) with ESMTP id D926C6052471;
 Thu, 14 Mar 2024 10:37:31 -0400 (EDT)
Subject: |SUCCESS| pw138379-138383 [PATCH] [v8,5/5] config/arm: allow WFE to 
From: dpdklab@iol.unh.edu
To: Test Report <test-report@dpdk.org>
Cc: dpdk-test-reports@iol.unh.edu
In-Reply-To: <20240314113829.2511-5-pbhagavatula@marvell.com>
References: <20240314113829.2511-5-pbhagavatula@marvell.com>
Content-Type: text/plain
X-BeenThere: test-report@dpdk.org
X-Mailman-Version: 2.1.29
Precedence: list
List-Id: automatic DPDK test reports <test-report.dpdk.org>
List-Unsubscribe: <https://mails.dpdk.org/options/test-report>,
 <mailto:test-report-request@dpdk.org?subject=unsubscribe>
List-Archive: <http://mails.dpdk.org/archives/test-report/>
List-Post: <mailto:test-report@dpdk.org>
List-Help: <mailto:test-report-request@dpdk.org?subject=help>
List-Subscribe: <https://mails.dpdk.org/listinfo/test-report>,
 <mailto:test-report-request@dpdk.org?subject=subscribe>
Errors-To: test-report-bounces@dpdk.org

Test-Label: iol-compile-arm64-testing
Test-Status: SUCCESS
http://dpdk.org/patch/138383

_Testing PASS_

Submitter: Pavan Nikhilesh Bhagavatula <pbhagavatula@marvell.com>
Date: Thursday, March 14 2024 11:38:29 
DPDK git baseline: Repo:dpdk
  Branch: master
  CommitID:cd218549b686d6be394ef3b171eafa16c038bfe3

138379-138383 --> testing pass

Test environment and result as below:

+----------------------------------------+--------------------+
|              Environment               | dpdk_meson_compile |
+========================================+====================+
| Ubuntu 20.04 ARM SVE                   | PASS               |
+----------------------------------------+--------------------+
| Ubuntu 20.04 aarch32 GCC Cross Compile | PASS               |
+----------------------------------------+--------------------+
| Debian 12 with MUSDK                   | PASS               |
+----------------------------------------+--------------------+
| Ubuntu 20.04 ARM GCC Cross Compile     | PASS               |
+----------------------------------------+--------------------+
| Fedora 38 (ARM)                        | PASS               |
+----------------------------------------+--------------------+
| CentOS Stream 9 (ARM)                  | PASS               |
+----------------------------------------+--------------------+
| Fedora 37 (ARM)                        | PASS               |
+----------------------------------------+--------------------+
| Ubuntu 20.04 ARM Clang Cross Compile   | PASS               |
+----------------------------------------+--------------------+
| Debian 12 (arm)                        | PASS               |
+----------------------------------------+--------------------+
| Fedora 38 (ARM Clang)                  | PASS               |
+----------------------------------------+--------------------+


Ubuntu 20.04 ARM SVE
	Kernel: 5.4.0-80-generic
	Compiler: gcc 10.3.0 (Ubuntu 10.3.0-1ubuntu1~20.04)

Ubuntu 20.04 aarch32 GCC Cross Compile
	Kernel: 5.4.0-72-generic
	Compiler: gcc 9.3.0

Debian 12 with MUSDK
	Kernel: Container Host Kernel
	Compiler: gcc 12

Ubuntu 20.04 ARM GCC Cross Compile
	Kernel: 5.4.0-72-generic
	Compiler: aarch64-linux-gnu-gcc (Ubuntu 9.3.0-17ubuntu1~20.04) 9.3.0

Fedora 38 (ARM)
	Kernel: Depends on container host
	Compiler: gcc 13.1.1

CentOS Stream 9 (ARM)
	Kernel: Container Host Kernel
	Compiler: gcc 11.3.1

Fedora 37 (ARM)
	Kernel: Depends on container host
	Compiler: gcc 12.3.1

Ubuntu 20.04 ARM Clang Cross Compile
	Kernel: 5.4.0-72-generic
	Compiler: clang version 10.0.0-4ubuntu1

Debian 12 (arm)
	Kernel: Container Host Kernel
	Compiler: gcc 11

Fedora 38 (ARM Clang)
	Kernel: Depends on container host
	Compiler: clang 16.0.3

To view detailed results, visit:
https://lab.dpdk.org/results/dashboard/patchsets/29550/

UNH-IOL DPDK Community Lab

To manage your email subscriptions, visit: 
https://lab.dpdk.org/results/dashboard/preferences/subscriptions/