From mboxrd@z Thu Jan  1 00:00:00 1970
Return-Path: <test-report-bounces@dpdk.org>
Received: from mails.dpdk.org (mails.dpdk.org [217.70.189.124])
	by inbox.dpdk.org (Postfix) with ESMTP id 2241F43CB2
	for <public@inbox.dpdk.org>; Thu, 14 Mar 2024 19:34:07 +0100 (CET)
Received: from mails.dpdk.org (localhost [127.0.0.1])
	by mails.dpdk.org (Postfix) with ESMTP id 1E48B40E28;
	Thu, 14 Mar 2024 19:34:07 +0100 (CET)
Received: from mail-il1-f225.google.com (mail-il1-f225.google.com
 [209.85.166.225])
 by mails.dpdk.org (Postfix) with ESMTP id CC948400D7
 for <test-report@dpdk.org>; Thu, 14 Mar 2024 19:34:04 +0100 (CET)
Received: by mail-il1-f225.google.com with SMTP id
 e9e14a558f8ab-36683ec01bfso3366795ab.3
 for <test-report@dpdk.org>; Thu, 14 Mar 2024 11:34:04 -0700 (PDT)
DKIM-Signature: v=1; a=rsa-sha256; c=relaxed/relaxed;
 d=iol.unh.edu; s=unh-iol; t=1710441244; x=1711046044; darn=dpdk.org;
 h=references:in-reply-to:cc:to:from:subject:message-id:date:from:to
 :cc:subject:date:message-id:reply-to;
 bh=sqEsCvnNHYTxFaXD0Jpm6wEW1o0K2SDDiLAvQrRMdZg=;
 b=R5DZ7Uh+vwjoviiSOI6ZZux3awLiBX75B5JnrPO1gENVJgLtNug5+gciuFmZM1UKyr
 G7TMFzr0bRyddJugtJFnXt9hGKt7NpDojVaMF5MqVu6L0CDyfYpB2z4lCtKx0pJJhBvM
 5/+tFJOaWFwMllHZq/cesjwc9bCC1bvgpxCWA=
X-Google-DKIM-Signature: v=1; a=rsa-sha256; c=relaxed/relaxed;
 d=1e100.net; s=20230601; t=1710441244; x=1711046044;
 h=references:in-reply-to:cc:to:from:subject:message-id:date
 :x-gm-message-state:from:to:cc:subject:date:message-id:reply-to;
 bh=sqEsCvnNHYTxFaXD0Jpm6wEW1o0K2SDDiLAvQrRMdZg=;
 b=uVWHIXxuE9n6Y0ZLhGkDLWgCJIuP46t8iEYkHTtg6Z19W2gJ9WdIX/OhLblO9SfwEh
 Opkler5l+Wkoi9fA2fSbiT5qo70XEkt2Y82R/gYAwFCAj3TGTHTjIF4wWlhz/O/1R+bk
 D2VaHS/q8dhqUt3J3Pbdt8ZZJkF5nt4Mf/pcZmSDbZGeS7Tbw/sSc1vrIq4FTMIMzta5
 //pL75LgdSsWojHwB8GupGank0i0LaWylHbCBcfzr3+ArNNQwG9uxB8wMle81BLVSPW0
 g8UZTrzK8+ZPptxLnGd3mpR3++2EtPQCA1uj8J1f+0wtaIHksYkCbgY7q0sCjekxj1PT
 +BXA==
X-Gm-Message-State: AOJu0Yy0fOLRdy45TEqMw3kEXUxjyCUApFjEsHQIBSQLjUDdOS0vOt5G
 N5yqEDeHSOdgNHcfSZxCKeA7sK5paI4HrO9c1HPVVtuZ6F27pySgG1TYLaD79gAHm7pBreeKxuA
 xeSfZTcrCHn1lxzau6+5ER1hidhMPBIKq8KjvZmJHaDIQuqLiPi3YZ2ZQ
X-Google-Smtp-Source: AGHT+IEvLwX/eIr6TASSI6LBNeVAFBjGxiSvbHa9zgFBl09f9+VnCj06QUimmB6XUEvcSmHJCYOEJcMawKhZ
X-Received: by 2002:a92:d312:0:b0:366:5af3:3e34 with SMTP id
 x18-20020a92d312000000b003665af33e34mr1098961ila.17.1710441244242; 
 Thu, 14 Mar 2024 11:34:04 -0700 (PDT)
Received: from postal.iol.unh.edu (postal.iol.unh.edu.
 [2606:4100:3880:1234::84]) by smtp-relay.gmail.com with ESMTPS id
 ay1-20020a056638410100b00476c54259ffsm50279jab.67.2024.03.14.11.34.04
 (version=TLS1_2 cipher=ECDHE-ECDSA-AES128-GCM-SHA256 bits=128/128);
 Thu, 14 Mar 2024 11:34:04 -0700 (PDT)
X-Relaying-Domain: iol.unh.edu
Date: Thu, 14 Mar 2024 11:34:04 -0700 (PDT)
Message-ID: <65f3431c.050a0220.7da6a.3a76SMTPIN_ADDED_MISSING@mx.google.com>
Received: from [172.21.0.6] (unknown [172.18.0.240])
 by postal.iol.unh.edu (Postfix) with ESMTP id B47CF6052471;
 Thu, 14 Mar 2024 14:34:03 -0400 (EDT)
Subject: |SUCCESS| pw138384-138396 [PATCH] [13/13] net/mlx5/hws: fix port ID 
From: dpdklab@iol.unh.edu
To: Test Report <test-report@dpdk.org>
Cc: dpdk-test-reports@iol.unh.edu
In-Reply-To: <20240314114220.203241-13-igozlan@nvidia.com>
References: <20240314114220.203241-13-igozlan@nvidia.com>
Content-Type: text/plain
X-BeenThere: test-report@dpdk.org
X-Mailman-Version: 2.1.29
Precedence: list
List-Id: automatic DPDK test reports <test-report.dpdk.org>
List-Unsubscribe: <https://mails.dpdk.org/options/test-report>,
 <mailto:test-report-request@dpdk.org?subject=unsubscribe>
List-Archive: <http://mails.dpdk.org/archives/test-report/>
List-Post: <mailto:test-report@dpdk.org>
List-Help: <mailto:test-report-request@dpdk.org?subject=help>
List-Subscribe: <https://mails.dpdk.org/listinfo/test-report>,
 <mailto:test-report-request@dpdk.org?subject=subscribe>
Errors-To: test-report-bounces@dpdk.org

Test-Label: iol-unit-amd64-testing
Test-Status: SUCCESS
http://dpdk.org/patch/138396

_Testing PASS_

Submitter: Itamar Gozlan <igozlan@nvidia.com>
Date: Thursday, March 14 2024 11:42:20 
DPDK git baseline: Repo:dpdk
  Branch: master
  CommitID:1585a8ddae09ea651ec0bfd462783b71b90534ab

138384-138396 --> testing pass

Test environment and result as below:

+------------------+----------------+
|   Environment    | dpdk_unit_test |
+==================+================+
| CentOS Stream 8  | PASS           |
+------------------+----------------+
| Debian Bullseye  | PASS           |
+------------------+----------------+
| CentOS Stream 9  | PASS           |
+------------------+----------------+
| Fedora 38        | PASS           |
+------------------+----------------+
| Fedora 37        | PASS           |
+------------------+----------------+
| Debian 12 (arm)  | PASS           |
+------------------+----------------+
| Ubuntu 22.04     | PASS           |
+------------------+----------------+
| openSUSE Leap 15 | PASS           |
+------------------+----------------+
| Ubuntu 20.04     | PASS           |
+------------------+----------------+


CentOS Stream 8
	Kernel: 4.18.0-240.10.1.el8_3.x86_64
	Compiler: gcc 8.4.1 20200928

Debian Bullseye
	Kernel: 5.4.0-122-generic
	Compiler: gcc 10.2.1-6

CentOS Stream 9
	Kernel: 4.18.0-240.10.1.el8_3.x86_64
	Compiler: gcc 11.3.1 20220421

Fedora 38
	Kernel: Depends on container host
	Compiler: gcc 13.1.1

Fedora 37
	Kernel: Depends on container host system
	Compiler: gcc 12.3.1

Debian 12 (arm)
	Kernel: Container Host Kernel
	Compiler: gcc 11

Ubuntu 22.04
	Kernel: 4.18.0-240.10.1.el8_3.x86_64
	Compiler: gcc 11.3.0

openSUSE Leap 15
	Kernel: 4.18.0-240.10.1.el8_3.x86_64
	Compiler: gcc 7.5.0

Ubuntu 20.04
	Kernel: 5.4.0-153-generic
	Compiler: gcc 9.4.0-1ubuntu1~20.04.1

To view detailed results, visit:
https://lab.dpdk.org/results/dashboard/patchsets/29551/

UNH-IOL DPDK Community Lab

To manage your email subscriptions, visit: 
https://lab.dpdk.org/results/dashboard/preferences/subscriptions/