From mboxrd@z Thu Jan  1 00:00:00 1970
Return-Path: <test-report-bounces@dpdk.org>
Received: from mails.dpdk.org (mails.dpdk.org [217.70.189.124])
	by inbox.dpdk.org (Postfix) with ESMTP id EB2A843CB2
	for <public@inbox.dpdk.org>; Thu, 14 Mar 2024 19:37:31 +0100 (CET)
Received: from mails.dpdk.org (localhost [127.0.0.1])
	by mails.dpdk.org (Postfix) with ESMTP id E799742EAC;
	Thu, 14 Mar 2024 19:37:31 +0100 (CET)
Received: from mail-il1-f228.google.com (mail-il1-f228.google.com
 [209.85.166.228])
 by mails.dpdk.org (Postfix) with ESMTP id 8D978400D7
 for <test-report@dpdk.org>; Thu, 14 Mar 2024 19:37:28 +0100 (CET)
Received: by mail-il1-f228.google.com with SMTP id
 e9e14a558f8ab-36677ca95dfso7044245ab.2
 for <test-report@dpdk.org>; Thu, 14 Mar 2024 11:37:28 -0700 (PDT)
DKIM-Signature: v=1; a=rsa-sha256; c=relaxed/relaxed;
 d=iol.unh.edu; s=unh-iol; t=1710441448; x=1711046248; darn=dpdk.org;
 h=references:in-reply-to:cc:to:from:subject:message-id:date:from:to
 :cc:subject:date:message-id:reply-to;
 bh=95B8HHkYCPGt84bg2bk45dWj37CisVZ5ayqxqxIDt6g=;
 b=KT7RE1Uwqjwi2dFQBuUF+jGHpdBtfuTtzPh6nC90WER3nI0c69hSbhOlx82r5hVz4+
 r9LPuShzCgtcAPkXyf7LKbtrpmTNRmNlNqIRxaxSPS8xV28iLyaFqRg8/NOi12qZYOyM
 b5g9dD47sSkBXgXTUkl2v8oxgg27G0JEpHs1A=
X-Google-DKIM-Signature: v=1; a=rsa-sha256; c=relaxed/relaxed;
 d=1e100.net; s=20230601; t=1710441448; x=1711046248;
 h=references:in-reply-to:cc:to:from:subject:message-id:date
 :x-gm-message-state:from:to:cc:subject:date:message-id:reply-to;
 bh=95B8HHkYCPGt84bg2bk45dWj37CisVZ5ayqxqxIDt6g=;
 b=c8ehp55VN6xlHh7FCXD0+hpl01yyf5SU3CkQL5ykF6pOpsZ3poSq+ymvyL75tC7OjL
 iWS1SDN5tTCNaiSsoOAKmLgAypSAstjkjoSAZoAHs/jeqSi5V8TI0tFgbCpqc3a3r+LW
 Xcp6K1F18jfmotSutWNW7vF3B5ygOJFVTItc//ep5wZi31a4O3ZpAoiNrgp0nvXW7RQ2
 sZSl71wpYwYHzpvm2+rHPNApxsAoGwZ/TKWFMDn5ZPWiNKRYSVgwuWMcrBpw2uj/MJJj
 Xt1FKTq/nidQiCAhYEGx0lFGezzpeA5cwuIlm0vOPzwCp6kNhvVw9vXH6Nz0Ul8hfNlO
 NIoQ==
X-Gm-Message-State: AOJu0Yxp2JiBAkioa2FwgN/S+0LMIBV4ziqvt6tEiMXjz9dIqR90TUc7
 RT/e7bHN0+kLhWcaxzaAIEwauh7gAuKa8QJ2BCRjTN6ZMb5WE3zh0SKZKXCaiuYt4rwuiXFTSsc
 oCnzLVNKkdCK37jfXGERxrydtwq09m7SkHrhuHH8A
X-Google-Smtp-Source: AGHT+IHAXBFOiK4uFdKJYoWSwgMiEfhEuraQs3WuSzsQm+zbeD3oM3rS8BTSewZbE2481H7kF0YdQDIWz8NW
X-Received: by 2002:a92:c7ce:0:b0:366:31dc:ed4a with SMTP id
 g14-20020a92c7ce000000b0036631dced4amr1069825ilk.13.1710441448011; 
 Thu, 14 Mar 2024 11:37:28 -0700 (PDT)
Received: from postal.iol.unh.edu (postal.iol.unh.edu. [132.177.123.84])
 by smtp-relay.gmail.com with ESMTPS id
 l5-20020a056e0212e500b0036660d84fcdsm54709iln.10.2024.03.14.11.37.27
 (version=TLS1_2 cipher=ECDHE-ECDSA-AES128-GCM-SHA256 bits=128/128);
 Thu, 14 Mar 2024 11:37:27 -0700 (PDT)
X-Relaying-Domain: iol.unh.edu
Date: Thu, 14 Mar 2024 11:37:27 -0700 (PDT)
Message-ID: <65f343e7.050a0220.fadb4.339eSMTPIN_ADDED_MISSING@mx.google.com>
Received: from [172.21.0.6] (unknown [172.18.0.240])
 by postal.iol.unh.edu (Postfix) with ESMTP id 8338F6052471;
 Thu, 14 Mar 2024 14:37:27 -0400 (EDT)
Subject: |SUCCESS| pw138384-138396 [PATCH] [13/13] net/mlx5/hws: fix port ID 
From: dpdklab@iol.unh.edu
To: Test Report <test-report@dpdk.org>
Cc: dpdk-test-reports@iol.unh.edu
In-Reply-To: <20240314114220.203241-13-igozlan@nvidia.com>
References: <20240314114220.203241-13-igozlan@nvidia.com>
Content-Type: text/plain
X-BeenThere: test-report@dpdk.org
X-Mailman-Version: 2.1.29
Precedence: list
List-Id: automatic DPDK test reports <test-report.dpdk.org>
List-Unsubscribe: <https://mails.dpdk.org/options/test-report>,
 <mailto:test-report-request@dpdk.org?subject=unsubscribe>
List-Archive: <http://mails.dpdk.org/archives/test-report/>
List-Post: <mailto:test-report@dpdk.org>
List-Help: <mailto:test-report-request@dpdk.org?subject=help>
List-Subscribe: <https://mails.dpdk.org/listinfo/test-report>,
 <mailto:test-report-request@dpdk.org?subject=subscribe>
Errors-To: test-report-bounces@dpdk.org

Test-Label: iol-unit-amd64-testing
Test-Status: SUCCESS
http://dpdk.org/patch/138396

_Testing PASS_

Submitter: Itamar Gozlan <igozlan@nvidia.com>
Date: Thursday, March 14 2024 11:42:20 
DPDK git baseline: Repo:dpdk
  Branch: master
  CommitID:1585a8ddae09ea651ec0bfd462783b71b90534ab

138384-138396 --> testing pass

Test environment and result as below:

+------------------+----------------+
|   Environment    | dpdk_unit_test |
+==================+================+
| CentOS Stream 8  | PASS           |
+------------------+----------------+
| Debian Bullseye  | PASS           |
+------------------+----------------+
| CentOS Stream 9  | PASS           |
+------------------+----------------+
| Fedora 38        | PASS           |
+------------------+----------------+
| Fedora 37        | PASS           |
+------------------+----------------+
| Debian 12 (arm)  | PASS           |
+------------------+----------------+
| Ubuntu 22.04     | PASS           |
+------------------+----------------+
| openSUSE Leap 15 | PASS           |
+------------------+----------------+
| Ubuntu 20.04     | PASS           |
+------------------+----------------+
| RHEL8            | PASS           |
+------------------+----------------+


CentOS Stream 8
	Kernel: 4.18.0-240.10.1.el8_3.x86_64
	Compiler: gcc 8.4.1 20200928

Debian Bullseye
	Kernel: 5.4.0-122-generic
	Compiler: gcc 10.2.1-6

CentOS Stream 9
	Kernel: 4.18.0-240.10.1.el8_3.x86_64
	Compiler: gcc 11.3.1 20220421

Fedora 38
	Kernel: Depends on container host
	Compiler: gcc 13.1.1

Fedora 37
	Kernel: Depends on container host system
	Compiler: gcc 12.3.1

Debian 12 (arm)
	Kernel: Container Host Kernel
	Compiler: gcc 11

Ubuntu 22.04
	Kernel: 4.18.0-240.10.1.el8_3.x86_64
	Compiler: gcc 11.3.0

openSUSE Leap 15
	Kernel: 4.18.0-240.10.1.el8_3.x86_64
	Compiler: gcc 7.5.0

Ubuntu 20.04
	Kernel: 5.4.0-153-generic
	Compiler: gcc 9.4.0-1ubuntu1~20.04.1

RHEL8
	Kernel: 4.18.0-240.10.1.el8_3.x86_64
	Compiler: gcc 8.3.1 20191121 (Red Hat 8.3.1-5)

To view detailed results, visit:
https://lab.dpdk.org/results/dashboard/patchsets/29551/

UNH-IOL DPDK Community Lab

To manage your email subscriptions, visit: 
https://lab.dpdk.org/results/dashboard/preferences/subscriptions/