From mboxrd@z Thu Jan  1 00:00:00 1970
Return-Path: <test-report-bounces@dpdk.org>
Received: from mails.dpdk.org (mails.dpdk.org [217.70.189.124])
	by inbox.dpdk.org (Postfix) with ESMTP id 1385C43CB2
	for <public@inbox.dpdk.org>; Thu, 14 Mar 2024 19:40:16 +0100 (CET)
Received: from mails.dpdk.org (localhost [127.0.0.1])
	by mails.dpdk.org (Postfix) with ESMTP id 0FE1A4029B;
	Thu, 14 Mar 2024 19:40:16 +0100 (CET)
Received: from mail-yw1-f227.google.com (mail-yw1-f227.google.com
 [209.85.128.227])
 by mails.dpdk.org (Postfix) with ESMTP id CF836400D7
 for <test-report@dpdk.org>; Thu, 14 Mar 2024 19:39:35 +0100 (CET)
Received: by mail-yw1-f227.google.com with SMTP id
 00721157ae682-609eb3e5a56so14707897b3.1
 for <test-report@dpdk.org>; Thu, 14 Mar 2024 11:39:35 -0700 (PDT)
DKIM-Signature: v=1; a=rsa-sha256; c=relaxed/relaxed;
 d=iol.unh.edu; s=unh-iol; t=1710441575; x=1711046375; darn=dpdk.org;
 h=references:in-reply-to:cc:to:from:subject:message-id:date:from:to
 :cc:subject:date:message-id:reply-to;
 bh=yRCBCpqcl/9FAo5knezvJ/qMSsozoS3y86dSgljAgT0=;
 b=LoTzlB1gFj2z3u/F4IRStsOdq5Dbz5ZpNziQp7gMXY0d2m9g9dLHlTijgQtkhCOu0i
 9sUV97ceXVKAXxb+G2QC5piZW2R8oztId+2nTcS6m8g8z9kHUTHBkPjdfpIIwuQDqhJm
 8vWMkEqnhJtNaX+owQL/WCEkVU1Fk4M+mB6tI=
X-Google-DKIM-Signature: v=1; a=rsa-sha256; c=relaxed/relaxed;
 d=1e100.net; s=20230601; t=1710441575; x=1711046375;
 h=references:in-reply-to:cc:to:from:subject:message-id:date
 :x-gm-message-state:from:to:cc:subject:date:message-id:reply-to;
 bh=yRCBCpqcl/9FAo5knezvJ/qMSsozoS3y86dSgljAgT0=;
 b=E/xNf34tv/Ln4xabWnBgVYJCaptkZTgg9C+KrwstiAnkoocdyca1at17ZRbjDgsxu5
 91LBjz0DjYpahuLxzw8Z1BdT7FyVpqPDk0fW/BZnbgWg1iThUL1/dZ8bQIaJT5A1K+xZ
 B8w8rRoVSFowp6tI7EV9ceqZD9oCdz5BQyCfbr266Olj0pK2UwQXFFM3mI1MOjgSwtEk
 M/H873hwgY2Qe5OD9edIWNxelTHsEJtg2jBrMToqstE6fIkHAVSLKQYW2yaVGZ9AxPtB
 r3rkR8mPisrkWgyNLmEmsQJ3U2yHKj77g00Ux0gcpj4BE813QFWO8VKk93UsgmTnKTpZ
 6lIw==
X-Gm-Message-State: AOJu0YzAiGLy0H2LOCNWzeO2S/i0DJEeq7C22SqUvGwralkP8uxzUwdv
 LELQbcXk8wDsYR5fpaqu8cOosL6PfUVlkN1VSFAcziP/HRodavCKucDDc9DWhAvLXph2Q1pS00D
 9ylEwcm7o3fDrLFym013hYjlcubb4R+V0k0x4NVznfzXeiUUZqq4PRhfW
X-Google-Smtp-Source: AGHT+IH5TLXRpRvM15U7e0hUEBrmx+vsTL1ieU8mywaH737lDWG8vHERKVA0cFWBBaZaa1CWE7yHaq0VgEJd
X-Received: by 2002:a81:4e93:0:b0:609:7055:f725 with SMTP id
 c141-20020a814e93000000b006097055f725mr2500013ywb.18.1710441575290; 
 Thu, 14 Mar 2024 11:39:35 -0700 (PDT)
Received: from postal.iol.unh.edu (postal.iol.unh.edu.
 [2606:4100:3880:1234::84]) by smtp-relay.gmail.com with ESMTPS id
 j188-20020a0de0c5000000b0060cd13d455fsm79297ywe.5.2024.03.14.11.39.35
 (version=TLS1_2 cipher=ECDHE-ECDSA-AES128-GCM-SHA256 bits=128/128);
 Thu, 14 Mar 2024 11:39:35 -0700 (PDT)
X-Relaying-Domain: iol.unh.edu
Date: Thu, 14 Mar 2024 11:39:35 -0700 (PDT)
Message-ID: <65f34467.0d0a0220.54f7d.5a85SMTPIN_ADDED_MISSING@mx.google.com>
Received: from [172.21.0.6] (unknown [172.18.0.240])
 by postal.iol.unh.edu (Postfix) with ESMTP id E9A2A6052471;
 Thu, 14 Mar 2024 14:39:34 -0400 (EDT)
Subject: |SUCCESS| pw138384-138396 [PATCH] [13/13] net/mlx5/hws: fix port ID 
From: dpdklab@iol.unh.edu
To: Test Report <test-report@dpdk.org>
Cc: dpdk-test-reports@iol.unh.edu
In-Reply-To: <20240314114220.203241-13-igozlan@nvidia.com>
References: <20240314114220.203241-13-igozlan@nvidia.com>
Content-Type: text/plain
X-BeenThere: test-report@dpdk.org
X-Mailman-Version: 2.1.29
Precedence: list
List-Id: automatic DPDK test reports <test-report.dpdk.org>
List-Unsubscribe: <https://mails.dpdk.org/options/test-report>,
 <mailto:test-report-request@dpdk.org?subject=unsubscribe>
List-Archive: <http://mails.dpdk.org/archives/test-report/>
List-Post: <mailto:test-report@dpdk.org>
List-Help: <mailto:test-report-request@dpdk.org?subject=help>
List-Subscribe: <https://mails.dpdk.org/listinfo/test-report>,
 <mailto:test-report-request@dpdk.org?subject=subscribe>
Errors-To: test-report-bounces@dpdk.org

Test-Label: iol-compile-arm64-testing
Test-Status: SUCCESS
http://dpdk.org/patch/138396

_Testing PASS_

Submitter: Itamar Gozlan <igozlan@nvidia.com>
Date: Thursday, March 14 2024 11:42:20 
DPDK git baseline: Repo:dpdk
  Branch: master
  CommitID:1585a8ddae09ea651ec0bfd462783b71b90534ab

138384-138396 --> testing pass

Test environment and result as below:

+----------------------------------------+--------------------+
|              Environment               | dpdk_meson_compile |
+========================================+====================+
| Ubuntu 20.04 ARM SVE                   | PASS               |
+----------------------------------------+--------------------+
| Debian 12 with MUSDK                   | PASS               |
+----------------------------------------+--------------------+
| Ubuntu 20.04 ARM Clang Cross Compile   | PASS               |
+----------------------------------------+--------------------+
| Ubuntu 20.04 aarch32 GCC Cross Compile | PASS               |
+----------------------------------------+--------------------+
| Fedora 37 (ARM)                        | PASS               |
+----------------------------------------+--------------------+


Ubuntu 20.04 ARM SVE
	Kernel: 5.4.0-80-generic
	Compiler: gcc 10.3.0 (Ubuntu 10.3.0-1ubuntu1~20.04)

Debian 12 with MUSDK
	Kernel: Container Host Kernel
	Compiler: gcc 12

Ubuntu 20.04 ARM Clang Cross Compile
	Kernel: 5.4.0-72-generic
	Compiler: clang version 10.0.0-4ubuntu1

Ubuntu 20.04 aarch32 GCC Cross Compile
	Kernel: 5.4.0-72-generic
	Compiler: gcc 9.3.0

Fedora 37 (ARM)
	Kernel: Depends on container host
	Compiler: gcc 12.3.1

To view detailed results, visit:
https://lab.dpdk.org/results/dashboard/patchsets/29551/

UNH-IOL DPDK Community Lab

To manage your email subscriptions, visit: 
https://lab.dpdk.org/results/dashboard/preferences/subscriptions/