From mboxrd@z Thu Jan  1 00:00:00 1970
Return-Path: <test-report-bounces@dpdk.org>
Received: from mails.dpdk.org (mails.dpdk.org [217.70.189.124])
	by inbox.dpdk.org (Postfix) with ESMTP id 6DBE243CB2
	for <public@inbox.dpdk.org>; Thu, 14 Mar 2024 19:40:49 +0100 (CET)
Received: from mails.dpdk.org (localhost [127.0.0.1])
	by mails.dpdk.org (Postfix) with ESMTP id 6966042E9D;
	Thu, 14 Mar 2024 19:40:49 +0100 (CET)
Received: from mail-pf1-f226.google.com (mail-pf1-f226.google.com
 [209.85.210.226])
 by mails.dpdk.org (Postfix) with ESMTP id 61CA2400D7
 for <test-report@dpdk.org>; Thu, 14 Mar 2024 19:40:48 +0100 (CET)
Received: by mail-pf1-f226.google.com with SMTP id
 d2e1a72fcca58-6e6aa5c5a6fso1456620b3a.0
 for <test-report@dpdk.org>; Thu, 14 Mar 2024 11:40:48 -0700 (PDT)
DKIM-Signature: v=1; a=rsa-sha256; c=relaxed/relaxed;
 d=iol.unh.edu; s=unh-iol; t=1710441647; x=1711046447; darn=dpdk.org;
 h=references:in-reply-to:cc:to:from:subject:message-id:date:from:to
 :cc:subject:date:message-id:reply-to;
 bh=95B8HHkYCPGt84bg2bk45dWj37CisVZ5ayqxqxIDt6g=;
 b=HgQl+Ywv24BMeBKEi9YKBAGUojtbXv2F7QN5ZsujMtQibCZ1QozcmEbG+sw9Be7Yez
 UzV15LjvylQzJ6GEPCZKQMJ3HS/y7yw+yKVoPlHNmWrPBK9kMGLc5LNla496quSWF8rJ
 R2H4yOKSm65FbelQRCAv23bC8Mx4zfD1iYGXs=
X-Google-DKIM-Signature: v=1; a=rsa-sha256; c=relaxed/relaxed;
 d=1e100.net; s=20230601; t=1710441647; x=1711046447;
 h=references:in-reply-to:cc:to:from:subject:message-id:date
 :x-gm-message-state:from:to:cc:subject:date:message-id:reply-to;
 bh=95B8HHkYCPGt84bg2bk45dWj37CisVZ5ayqxqxIDt6g=;
 b=uwecKl4DwfxghVcGivH4xjbpNjVkw+kDxQu1Dnnt0FtMwYJVv2O2d/c/ztPSYCs1O/
 X1YAXbgcF9TSj9mDlEsAiDjkPpnFCZMwaxLJnXajA1lIKNgt2w9j2XSCtR+buTxAru7T
 G1HoEjkxAgzjtpHLul86WI1AXEBBLfeewtE91XGK95sJlbKr0O0blKMIe9LFO3j9bUO4
 EV7aDl3mZrzyVGJwgBixf2lCQG1u/fYcCMNME4RPtPjKXk3Bc7/rHt32rg9k0BQ+LqSi
 DPbayXOv6ZbWZQ0JXBomYblF+GwEypNFFCQbV1eOlzS/74z/XvNbQd17kAp7WycHXl9m
 Nx9w==
X-Gm-Message-State: AOJu0YyuBTwKgXeO0sYvbAYT4jsrJ8Q6a0SqI4k4G8Hm7l99GksSKrdf
 koLC6dT7BiYuns565A1kFzzzzboXdmg+UKPOPPaU4+MzxBx6DkGNv6tDrRtKC5F9EfnpnvOO8zG
 MJw5Qy1IH3zr2xTFrY158hwWQZJgxZCSKkNa09Y87AQzsNA+r/A3RNpRp
X-Google-Smtp-Source: AGHT+IGQyPJAO0fiqrtrNT4kJzpG2fJxqvn33/8Gm54i36sLEOyvZmFoAKEurF4eeh3GJcbEDLR50Tl+/kyg
X-Received: by 2002:a05:6a00:cd3:b0:6e6:9ad2:903a with SMTP id
 b19-20020a056a000cd300b006e69ad2903amr3028527pfv.34.1710441647307; 
 Thu, 14 Mar 2024 11:40:47 -0700 (PDT)
Received: from postal.iol.unh.edu (postal.iol.unh.edu.
 [2606:4100:3880:1234::84]) by smtp-relay.gmail.com with ESMTPS id
 p37-20020a056a000a2500b006e647716b73sm104061pfh.26.2024.03.14.11.40.47
 (version=TLS1_2 cipher=ECDHE-ECDSA-AES128-GCM-SHA256 bits=128/128);
 Thu, 14 Mar 2024 11:40:47 -0700 (PDT)
X-Relaying-Domain: iol.unh.edu
Date: Thu, 14 Mar 2024 11:40:47 -0700 (PDT)
Message-ID: <65f344af.050a0220.d7af8.74f5SMTPIN_ADDED_MISSING@mx.google.com>
Received: from [172.17.0.9] (unknown [172.18.0.217])
 by postal.iol.unh.edu (Postfix) with ESMTP id 7772B6052471;
 Thu, 14 Mar 2024 14:40:46 -0400 (EDT)
Subject: |SUCCESS| pw138384-138396 [PATCH] [13/13] net/mlx5/hws: fix port ID 
From: dpdklab@iol.unh.edu
To: Test Report <test-report@dpdk.org>
Cc: dpdk-test-reports@iol.unh.edu
In-Reply-To: <20240314114220.203241-13-igozlan@nvidia.com>
References: <20240314114220.203241-13-igozlan@nvidia.com>
Content-Type: text/plain
X-BeenThere: test-report@dpdk.org
X-Mailman-Version: 2.1.29
Precedence: list
List-Id: automatic DPDK test reports <test-report.dpdk.org>
List-Unsubscribe: <https://mails.dpdk.org/options/test-report>,
 <mailto:test-report-request@dpdk.org?subject=unsubscribe>
List-Archive: <http://mails.dpdk.org/archives/test-report/>
List-Post: <mailto:test-report@dpdk.org>
List-Help: <mailto:test-report-request@dpdk.org?subject=help>
List-Subscribe: <https://mails.dpdk.org/listinfo/test-report>,
 <mailto:test-report-request@dpdk.org?subject=subscribe>
Errors-To: test-report-bounces@dpdk.org

Test-Label: iol-unit-amd64-testing
Test-Status: SUCCESS
http://dpdk.org/patch/138396

_Testing PASS_

Submitter: Itamar Gozlan <igozlan@nvidia.com>
Date: Thursday, March 14 2024 11:42:20 
DPDK git baseline: Repo:dpdk
  Branch: master
  CommitID:1585a8ddae09ea651ec0bfd462783b71b90534ab

138384-138396 --> testing pass

Test environment and result as below:

+------------------+----------------+
|   Environment    | dpdk_unit_test |
+==================+================+
| CentOS Stream 8  | PASS           |
+------------------+----------------+
| Debian Bullseye  | PASS           |
+------------------+----------------+
| CentOS Stream 9  | PASS           |
+------------------+----------------+
| Fedora 38        | PASS           |
+------------------+----------------+
| Fedora 37        | PASS           |
+------------------+----------------+
| Debian 12 (arm)  | PASS           |
+------------------+----------------+
| Ubuntu 22.04     | PASS           |
+------------------+----------------+
| openSUSE Leap 15 | PASS           |
+------------------+----------------+
| Ubuntu 20.04     | PASS           |
+------------------+----------------+
| RHEL8            | PASS           |
+------------------+----------------+


CentOS Stream 8
	Kernel: 4.18.0-240.10.1.el8_3.x86_64
	Compiler: gcc 8.4.1 20200928

Debian Bullseye
	Kernel: 5.4.0-122-generic
	Compiler: gcc 10.2.1-6

CentOS Stream 9
	Kernel: 4.18.0-240.10.1.el8_3.x86_64
	Compiler: gcc 11.3.1 20220421

Fedora 38
	Kernel: Depends on container host
	Compiler: gcc 13.1.1

Fedora 37
	Kernel: Depends on container host system
	Compiler: gcc 12.3.1

Debian 12 (arm)
	Kernel: Container Host Kernel
	Compiler: gcc 11

Ubuntu 22.04
	Kernel: 4.18.0-240.10.1.el8_3.x86_64
	Compiler: gcc 11.3.0

openSUSE Leap 15
	Kernel: 4.18.0-240.10.1.el8_3.x86_64
	Compiler: gcc 7.5.0

Ubuntu 20.04
	Kernel: 5.4.0-153-generic
	Compiler: gcc 9.4.0-1ubuntu1~20.04.1

RHEL8
	Kernel: 4.18.0-240.10.1.el8_3.x86_64
	Compiler: gcc 8.3.1 20191121 (Red Hat 8.3.1-5)

To view detailed results, visit:
https://lab.dpdk.org/results/dashboard/patchsets/29551/

UNH-IOL DPDK Community Lab

To manage your email subscriptions, visit: 
https://lab.dpdk.org/results/dashboard/preferences/subscriptions/