From mboxrd@z Thu Jan  1 00:00:00 1970
Return-Path: <test-report-bounces@dpdk.org>
Received: from mails.dpdk.org (mails.dpdk.org [217.70.189.124])
	by inbox.dpdk.org (Postfix) with ESMTP id CA32243CB2
	for <public@inbox.dpdk.org>; Thu, 14 Mar 2024 19:47:47 +0100 (CET)
Received: from mails.dpdk.org (localhost [127.0.0.1])
	by mails.dpdk.org (Postfix) with ESMTP id C40F84029B;
	Thu, 14 Mar 2024 19:47:47 +0100 (CET)
Received: from mail-oa1-f97.google.com (mail-oa1-f97.google.com
 [209.85.160.97]) by mails.dpdk.org (Postfix) with ESMTP id 28D6F400D7
 for <test-report@dpdk.org>; Thu, 14 Mar 2024 19:47:46 +0100 (CET)
Received: by mail-oa1-f97.google.com with SMTP id
 586e51a60fabf-22200c78d4fso620261fac.1
 for <test-report@dpdk.org>; Thu, 14 Mar 2024 11:47:46 -0700 (PDT)
DKIM-Signature: v=1; a=rsa-sha256; c=relaxed/relaxed;
 d=iol.unh.edu; s=unh-iol; t=1710442065; x=1711046865; darn=dpdk.org;
 h=references:in-reply-to:cc:to:from:subject:message-id:date:from:to
 :cc:subject:date:message-id:reply-to;
 bh=AF2ptBS69SgDdDHg4Gq4E5pVjMi4aPNWD3b079j5FkA=;
 b=dyqtlCU3AQJr1u9sdkNlCjoe203BeM8hhFGdQW8C2Bw7mSH5Sd+TysUPBJ4SNHTR6f
 r+SndRuW6x8o6CjWVhldkVrqsCB8NhxdQSNcEWp8Sh9zQzyQUxai9vooQq7Z6kI1QVw6
 8HHZZsWfoKGvOq+WlIjW6vqb4Dpp/X6Q3BPa0=
X-Google-DKIM-Signature: v=1; a=rsa-sha256; c=relaxed/relaxed;
 d=1e100.net; s=20230601; t=1710442065; x=1711046865;
 h=references:in-reply-to:cc:to:from:subject:message-id:date
 :x-gm-message-state:from:to:cc:subject:date:message-id:reply-to;
 bh=AF2ptBS69SgDdDHg4Gq4E5pVjMi4aPNWD3b079j5FkA=;
 b=hFiQRO06PXyjy9LDDFPGKDwtor6irbuS6jrl+E4V53dgSANdvZ71bPHwe/T6tD6Rwq
 OzQyhEvoy4+61wLSr0DdufeVr3if7MCImHl8Hh0ih4vgb2+wroGBaLZmYn7N4gAgEbxj
 l6dr4D4j/YbXdK6noKTow9kc8tfxQuiUgoO1897Wn1B6g/3yFgzbT5QBFEYEA4mbl4UZ
 SqaJJ66qtGEANFvBa2y1NFpAIWFO/Ay3HyVnL4NxJ0h0iH65w3JEnDsxWNry288UhCOC
 tl7FiIMkLqOkNciemQQIx4nhwcer7Cy0KpFoQwVlV3Yv98xzeJg5OUT5gbueW1O0dIzW
 XpVw==
X-Gm-Message-State: AOJu0Yx/HTbHgQYbQhN/Guqqrz0YW2z+Km/kQgYRKjMshA5xdCeIrDIJ
 9KEuX/P3GbyGQAzKQlNnAEwZhR6vcmWVxwl/k2/OMeA+5nAECund/HLlUDGvdLfX2g/rSiaT3JW
 JddE0RxVfAbCLmg3o9m4KS2myfTrLeHMXjIdGNQAh
X-Google-Smtp-Source: AGHT+IGxdnxMldyR+AZCN2QyEgGSRuPWUwUHKMbMvWRA4QdnGuiXgblBOAxDa5jDGH8Y1TnujIIZ7QXwlRek
X-Received: by 2002:a05:6870:4345:b0:221:c9ef:3e with SMTP id
 x5-20020a056870434500b00221c9ef003emr2788931oah.13.1710442065525; 
 Thu, 14 Mar 2024 11:47:45 -0700 (PDT)
Received: from postal.iol.unh.edu (postal.iol.unh.edu. [132.177.123.84])
 by smtp-relay.gmail.com with ESMTPS id
 21-20020a05687011d500b002217d702472sm47106oav.41.2024.03.14.11.47.45
 (version=TLS1_2 cipher=ECDHE-ECDSA-AES128-GCM-SHA256 bits=128/128);
 Thu, 14 Mar 2024 11:47:45 -0700 (PDT)
X-Relaying-Domain: iol.unh.edu
Date: Thu, 14 Mar 2024 11:47:45 -0700 (PDT)
Message-ID: <65f34651.050a0220.17d0b.3516SMTPIN_ADDED_MISSING@mx.google.com>
Received: from [172.17.0.6] (unknown [172.18.0.217])
 by postal.iol.unh.edu (Postfix) with ESMTP id F0C6A6052471;
 Thu, 14 Mar 2024 14:47:44 -0400 (EDT)
Subject: |SUCCESS| pw138384-138396 [PATCH] [13/13] net/mlx5/hws: fix port ID 
From: dpdklab@iol.unh.edu
To: Test Report <test-report@dpdk.org>
Cc: dpdk-test-reports@iol.unh.edu
In-Reply-To: <20240314114220.203241-13-igozlan@nvidia.com>
References: <20240314114220.203241-13-igozlan@nvidia.com>
Content-Type: text/plain
X-BeenThere: test-report@dpdk.org
X-Mailman-Version: 2.1.29
Precedence: list
List-Id: automatic DPDK test reports <test-report.dpdk.org>
List-Unsubscribe: <https://mails.dpdk.org/options/test-report>,
 <mailto:test-report-request@dpdk.org?subject=unsubscribe>
List-Archive: <http://mails.dpdk.org/archives/test-report/>
List-Post: <mailto:test-report@dpdk.org>
List-Help: <mailto:test-report-request@dpdk.org?subject=help>
List-Subscribe: <https://mails.dpdk.org/listinfo/test-report>,
 <mailto:test-report-request@dpdk.org?subject=subscribe>
Errors-To: test-report-bounces@dpdk.org

Test-Label: iol-compile-arm64-testing
Test-Status: SUCCESS
http://dpdk.org/patch/138396

_Testing PASS_

Submitter: Itamar Gozlan <igozlan@nvidia.com>
Date: Thursday, March 14 2024 11:42:20 
DPDK git baseline: Repo:dpdk
  Branch: master
  CommitID:1585a8ddae09ea651ec0bfd462783b71b90534ab

138384-138396 --> testing pass

Test environment and result as below:

+----------------------------------------+--------------------+
|              Environment               | dpdk_meson_compile |
+========================================+====================+
| Ubuntu 20.04 ARM SVE                   | PASS               |
+----------------------------------------+--------------------+
| Debian 12 with MUSDK                   | PASS               |
+----------------------------------------+--------------------+
| Ubuntu 20.04 ARM Clang Cross Compile   | PASS               |
+----------------------------------------+--------------------+
| Ubuntu 20.04 aarch32 GCC Cross Compile | PASS               |
+----------------------------------------+--------------------+
| Fedora 37 (ARM)                        | PASS               |
+----------------------------------------+--------------------+
| Debian 11 (Buster) (ARM)               | PASS               |
+----------------------------------------+--------------------+
| Ubuntu 20.04 (ARM)                     | PASS               |
+----------------------------------------+--------------------+
| Fedora 38 (ARM)                        | PASS               |
+----------------------------------------+--------------------+
| Debian 12 (arm)                        | PASS               |
+----------------------------------------+--------------------+


Ubuntu 20.04 ARM SVE
	Kernel: 5.4.0-80-generic
	Compiler: gcc 10.3.0 (Ubuntu 10.3.0-1ubuntu1~20.04)

Debian 12 with MUSDK
	Kernel: Container Host Kernel
	Compiler: gcc 12

Ubuntu 20.04 ARM Clang Cross Compile
	Kernel: 5.4.0-72-generic
	Compiler: clang version 10.0.0-4ubuntu1

Ubuntu 20.04 aarch32 GCC Cross Compile
	Kernel: 5.4.0-72-generic
	Compiler: gcc 9.3.0

Fedora 37 (ARM)
	Kernel: Depends on container host
	Compiler: gcc 12.3.1

Debian 11 (Buster) (ARM)
	Kernel: Container Host Kernel
	Compiler: gcc 10.2.1

Ubuntu 20.04 (ARM)
	Kernel: Container Host Kernel
	Compiler: gcc 9.4.0

Fedora 38 (ARM)
	Kernel: Depends on container host
	Compiler: gcc 13.1.1

Debian 12 (arm)
	Kernel: Container Host Kernel
	Compiler: gcc 11

To view detailed results, visit:
https://lab.dpdk.org/results/dashboard/patchsets/29551/

UNH-IOL DPDK Community Lab

To manage your email subscriptions, visit: 
https://lab.dpdk.org/results/dashboard/preferences/subscriptions/