From mboxrd@z Thu Jan  1 00:00:00 1970
Return-Path: <test-report-bounces@dpdk.org>
Received: from mails.dpdk.org (mails.dpdk.org [217.70.189.124])
	by inbox.dpdk.org (Postfix) with ESMTP id 0D2DE43CA8
	for <public@inbox.dpdk.org>; Fri, 15 Mar 2024 08:07:03 +0100 (CET)
Received: from mails.dpdk.org (localhost [127.0.0.1])
	by mails.dpdk.org (Postfix) with ESMTP id F245F42E6B;
	Fri, 15 Mar 2024 08:07:02 +0100 (CET)
Received: from mail-ua1-f97.google.com (mail-ua1-f97.google.com
 [209.85.222.97]) by mails.dpdk.org (Postfix) with ESMTP id 4E2314025C
 for <test-report@dpdk.org>; Fri, 15 Mar 2024 08:06:43 +0100 (CET)
Received: by mail-ua1-f97.google.com with SMTP id
 a1e0cc1a2514c-7dec16fc4b2so81673241.3
 for <test-report@dpdk.org>; Fri, 15 Mar 2024 00:06:43 -0700 (PDT)
DKIM-Signature: v=1; a=rsa-sha256; c=relaxed/relaxed;
 d=iol.unh.edu; s=unh-iol; t=1710486402; x=1711091202; darn=dpdk.org;
 h=references:in-reply-to:cc:to:from:subject:message-id:date:from:to
 :cc:subject:date:message-id:reply-to;
 bh=5ALCVpfzyZZr3waQ0PJ0VtkZEKtztqFffuKZ9MtZ7lk=;
 b=GVXKh19t0yLevniJOjEJGHD1afD2agXWwLyjwHlpORM9NZG88tXnKubqBYB3eiDlXO
 lTMBV28ODVeuG8Ie5mqLd9fXUhHY5Kre5IZ5yOgyVqzQagiaEbMs+ZrEyaUwGUrAA5dY
 MDdyXpJW7qmrctKOcHoT2loWSVqK20pOGo6Mw=
X-Google-DKIM-Signature: v=1; a=rsa-sha256; c=relaxed/relaxed;
 d=1e100.net; s=20230601; t=1710486402; x=1711091202;
 h=references:in-reply-to:cc:to:from:subject:message-id:date
 :x-gm-message-state:from:to:cc:subject:date:message-id:reply-to;
 bh=5ALCVpfzyZZr3waQ0PJ0VtkZEKtztqFffuKZ9MtZ7lk=;
 b=SXO9BoqKHFI5GpK/eyXowLPJoVv+xsu3DqzsznAlIioGwVc8KyDjH80NpGJ6B/NqeW
 YUmwB+hc4zC5XLHnOYQKGDHohm3sMEHaGq/5YA2wsf4QOz74j7VP1v88QsjJ20jBfxgZ
 OEWyVvJGCdxg8ugbFpgImpVT7djPAxYPvUMHEWGxCZF+MBbdEUBm2jxrUihHQMAWw7+B
 6x3nwyJEB4CWlEnImZG+2REmlb0BL659tpw8nVRJKO49CKNxNzQqKzgENX7bvlJctbxM
 h7OrvyNtNf/FkvYWtUnakaojvcwIXQyzXuJpYHTBcwmBkZxm7I3y5lpmLi0pnjG5+AB3
 deaQ==
X-Gm-Message-State: AOJu0YyjESORs/QfYd2kfGi8ikU4HLtIsNnnFI8qTBc8v/3oFW/lMZUB
 1TeA4JSkjoYIMXogge8IIzs1l6INZub79b8o+ydqgArLcPPUQyOSfSxck3EK0Uwy8arK9ak0xxk
 kDQXcF8MMuWHXtO1Uy8AiTKKyUHA9qJOKxrnvb1tiaSAhVHrOoFbyjAt+
X-Google-Smtp-Source: AGHT+IFsGVinQvwDfGwAIsEvmnifyBuXk5SPzxg35zvQWuBih0SnVaKrFbZHHACTJEjJUzK94GHzRGDKFXKT
X-Received: by 2002:a05:6102:22f2:b0:474:c580:c519 with SMTP id
 b18-20020a05610222f200b00474c580c519mr1990717vsh.33.1710486402696; 
 Fri, 15 Mar 2024 00:06:42 -0700 (PDT)
Received: from postal.iol.unh.edu (postal.iol.unh.edu.
 [2606:4100:3880:1234::84]) by smtp-relay.gmail.com with ESMTPS id
 n28-20020a9f315c000000b007dae7db0b82sm95831uab.15.2024.03.15.00.06.42
 (version=TLS1_2 cipher=ECDHE-ECDSA-AES128-GCM-SHA256 bits=128/128);
 Fri, 15 Mar 2024 00:06:42 -0700 (PDT)
X-Relaying-Domain: iol.unh.edu
Date: Fri, 15 Mar 2024 00:06:42 -0700 (PDT)
Message-ID: <65f3f382.9f0a0220.314a5.641cSMTPIN_ADDED_MISSING@mx.google.com>
Received: from [172.21.0.6] (unknown [172.18.0.240])
 by postal.iol.unh.edu (Postfix) with ESMTP id 48A556052471;
 Fri, 15 Mar 2024 03:06:42 -0400 (EDT)
Subject: |SUCCESS| pw138413-138420 [PATCH] [v3,8/8] crypto/cnxk: update the c
From: dpdklab@iol.unh.edu
To: Test Report <test-report@dpdk.org>
Cc: dpdk-test-reports@iol.unh.edu
In-Reply-To: <20240315054213.540-9-vvelumuri@marvell.com>
References: <20240315054213.540-9-vvelumuri@marvell.com>
Content-Type: text/plain
X-BeenThere: test-report@dpdk.org
X-Mailman-Version: 2.1.29
Precedence: list
List-Id: automatic DPDK test reports <test-report.dpdk.org>
List-Unsubscribe: <https://mails.dpdk.org/options/test-report>,
 <mailto:test-report-request@dpdk.org?subject=unsubscribe>
List-Archive: <http://mails.dpdk.org/archives/test-report/>
List-Post: <mailto:test-report@dpdk.org>
List-Help: <mailto:test-report-request@dpdk.org?subject=help>
List-Subscribe: <https://mails.dpdk.org/listinfo/test-report>,
 <mailto:test-report-request@dpdk.org?subject=subscribe>
Errors-To: test-report-bounces@dpdk.org

Test-Label: iol-compile-amd64-testing
Test-Status: SUCCESS
http://dpdk.org/patch/138420

_Testing PASS_

Submitter: Vidya Sagar Velumuri <vvelumuri@marvell.com>
Date: Friday, March 15 2024 05:42:13 
DPDK git baseline: Repo:dpdk
  Branch: master
  CommitID:cd218549b686d6be394ef3b171eafa16c038bfe3

138413-138420 --> testing pass

Test environment and result as below:

+---------------------+--------------------+----------------------+
|     Environment     | dpdk_meson_compile | dpdk_mingw64_compile |
+=====================+====================+======================+
| Windows Server 2022 | PASS               | SKIPPED              |
+---------------------+--------------------+----------------------+
| FreeBSD 13.2        | PASS               | SKIPPED              |
+---------------------+--------------------+----------------------+
| CentOS Stream 9     | PASS               | SKIPPED              |
+---------------------+--------------------+----------------------+
| Debian Bullseye     | PASS               | SKIPPED              |
+---------------------+--------------------+----------------------+
| Debian 12 (arm)     | PASS               | SKIPPED              |
+---------------------+--------------------+----------------------+
| Windows Server 2019 | PASS               | PASS                 |
+---------------------+--------------------+----------------------+
| Fedora 37           | PASS               | SKIPPED              |
+---------------------+--------------------+----------------------+
| Fedora 38           | PASS               | SKIPPED              |
+---------------------+--------------------+----------------------+
| openSUSE Leap 15    | PASS               | SKIPPED              |
+---------------------+--------------------+----------------------+
| Ubuntu 20.04        | PASS               | SKIPPED              |
+---------------------+--------------------+----------------------+
| RHEL8               | PASS               | SKIPPED              |
+---------------------+--------------------+----------------------+
| CentOS Stream 8     | PASS               | SKIPPED              |
+---------------------+--------------------+----------------------+
| Ubuntu 22.04        | PASS               | SKIPPED              |
+---------------------+--------------------+----------------------+
| Alpine              | PASS               | SKIPPED              |
+---------------------+--------------------+----------------------+


Windows Server 2022
	Kernel: OS Build 20348.2031
	Compiler: clang 15.0.7, gcc 8.1.0 (MinGW), and MSVC VS 17.9

FreeBSD 13.2
	Kernel: 13.2
	Compiler: clang 11.3.0

CentOS Stream 9
	Kernel: 4.18.0-240.10.1.el8_3.x86_64
	Compiler: gcc 11.3.1 20220421

Debian Bullseye
	Kernel: 5.4.0-122-generic
	Compiler: gcc 10.2.1-6

Debian 12 (arm)
	Kernel: Container Host Kernel
	Compiler: gcc 11

Windows Server 2019
	Kernel: 10.0
	Compiler: clang 14.0 and gcc 8.1.0 (MinGW)

Fedora 37
	Kernel: Depends on container host system
	Compiler: gcc 12.3.1

Fedora 38
	Kernel: Depends on container host
	Compiler: gcc 13.1.1

openSUSE Leap 15
	Kernel: 4.18.0-240.10.1.el8_3.x86_64
	Compiler: gcc 7.5.0

Ubuntu 20.04
	Kernel: 5.4.0-153-generic
	Compiler: gcc 9.4.0-1ubuntu1~20.04.1

RHEL8
	Kernel: 4.18.0-240.10.1.el8_3.x86_64
	Compiler: gcc 8.3.1 20191121 (Red Hat 8.3.1-5)

CentOS Stream 8
	Kernel: 4.18.0-240.10.1.el8_3.x86_64
	Compiler: gcc 8.4.1 20200928

Ubuntu 22.04
	Kernel: 4.18.0-240.10.1.el8_3.x86_64
	Compiler: gcc 11.3.0

Alpine
	Kernel: 5.4.0-167-generic
	Compiler: gcc (Alpine 12.2.1_git20220924-r10) 12.2.1 20220924

To view detailed results, visit:
https://lab.dpdk.org/results/dashboard/patchsets/29568/

UNH-IOL DPDK Community Lab

To manage your email subscriptions, visit: 
https://lab.dpdk.org/results/dashboard/preferences/subscriptions/