From mboxrd@z Thu Jan  1 00:00:00 1970
Return-Path: <test-report-bounces@dpdk.org>
Received: from mails.dpdk.org (mails.dpdk.org [217.70.189.124])
	by inbox.dpdk.org (Postfix) with ESMTP id 901BB43CB3
	for <public@inbox.dpdk.org>; Fri, 15 Mar 2024 08:17:19 +0100 (CET)
Received: from mails.dpdk.org (localhost [127.0.0.1])
	by mails.dpdk.org (Postfix) with ESMTP id 8680142EB3;
	Fri, 15 Mar 2024 08:17:19 +0100 (CET)
Received: from mail-io1-f100.google.com (mail-io1-f100.google.com
 [209.85.166.100])
 by mails.dpdk.org (Postfix) with ESMTP id D0A464027B
 for <test-report@dpdk.org>; Fri, 15 Mar 2024 08:17:11 +0100 (CET)
Received: by mail-io1-f100.google.com with SMTP id
 ca18e2360f4ac-7c8b95f7f73so62664339f.1
 for <test-report@dpdk.org>; Fri, 15 Mar 2024 00:17:11 -0700 (PDT)
DKIM-Signature: v=1; a=rsa-sha256; c=relaxed/relaxed;
 d=iol.unh.edu; s=unh-iol; t=1710487031; x=1711091831; darn=dpdk.org;
 h=references:in-reply-to:cc:to:from:subject:message-id:date:from:to
 :cc:subject:date:message-id:reply-to;
 bh=xHnYFiQAxwXdCj3eCAAAkIqa3nxFuMws4yc3vl1s8QY=;
 b=BPDgEGgLyvaVz7k1tqznJcp44ONRb3YqGM8H4yv6hEtFXJh1TTROOmb9+h4qIg4vN8
 0MkfIz7hw/wxup5c1KX4GbwFQq1e/tRSMhNQt+gy8zfeBumkA/aIAh2nK1WYLWFE8EY7
 IusgZpZtlF6ga/k55gHA7wwWRDajrxmvCNjug=
X-Google-DKIM-Signature: v=1; a=rsa-sha256; c=relaxed/relaxed;
 d=1e100.net; s=20230601; t=1710487031; x=1711091831;
 h=references:in-reply-to:cc:to:from:subject:message-id:date
 :x-gm-message-state:from:to:cc:subject:date:message-id:reply-to;
 bh=xHnYFiQAxwXdCj3eCAAAkIqa3nxFuMws4yc3vl1s8QY=;
 b=Xa33vviyCPOeu5pZTez76unER7J2nHwbI/EZlHxmOfj87vIwJRlbMBDJDGzJH/Mtzw
 0XvXh3NMuWkwPr//ilXfS/EvRGTulsdEvh+vq8rqvzFg/oRWGR0ZBo7bTTTA2vLqwNcN
 9IymdgiZ7nQYt/5EtGqDthQPxn166tlWvbGC5BqBLSq9qfmfpYK9u6iPwq7aAiCEIOho
 wQHn/wFk+Jyiq3Vx88bvpjL7g2TrDq7uPuAEJxvLGznzxS0GvVth8hk02lcdy0nLdDHQ
 giJ6b36h5oN//juIhHUZ6rsd/zMn9/eckrnx//KP2cQuHzorca20ogSobAN3uO4oQ2jA
 9c3A==
X-Gm-Message-State: AOJu0YwDuBnEW+xGkv96dTO+o544fBARuTOaxqc9y7Xvhbc36e3tNOGT
 BNx4+mnLXr5mSM8oDie+oiq7ATQiF9KLrQcbBjZ6EUTP4xK1+n3FaPQ5xM1kEnJiIKpa5i6o5GC
 Zz9MNbqSTn/7J+fuzvHmuy2jaRRN2CYdrnLKvyNqzUQ7/krQ9cBK5Yp+Z
X-Google-Smtp-Source: AGHT+IG3j6vCOs8rlUfDaunkNKicqH011YzNy+ociop6X1Qbub+ynKY1g8SPHFfz/IvERAnbCZy/M6MLA0c4
X-Received: by 2002:a6b:e204:0:b0:7c8:e947:551e with SMTP id
 z4-20020a6be204000000b007c8e947551emr4191842ioc.7.1710487031263; 
 Fri, 15 Mar 2024 00:17:11 -0700 (PDT)
Received: from postal.iol.unh.edu (postal.iol.unh.edu.
 [2606:4100:3880:1234::84]) by smtp-relay.gmail.com with ESMTPS id
 o3-20020a056638124300b004770c20638esm91487jas.31.2024.03.15.00.17.11
 (version=TLS1_2 cipher=ECDHE-ECDSA-AES128-GCM-SHA256 bits=128/128);
 Fri, 15 Mar 2024 00:17:11 -0700 (PDT)
X-Relaying-Domain: iol.unh.edu
Date: Fri, 15 Mar 2024 00:17:11 -0700 (PDT)
Message-ID: <65f3f5f7.050a0220.b4aaf.75e7SMTPIN_ADDED_MISSING@mx.google.com>
Received: from [172.17.0.9] (unknown [172.18.0.217])
 by postal.iol.unh.edu (Postfix) with ESMTP id A93206052471;
 Fri, 15 Mar 2024 03:17:10 -0400 (EDT)
Subject: |SUCCESS| pw138413-138420 [PATCH] [v3,8/8] crypto/cnxk: update the c
From: dpdklab@iol.unh.edu
To: Test Report <test-report@dpdk.org>
Cc: dpdk-test-reports@iol.unh.edu
In-Reply-To: <20240315054213.540-9-vvelumuri@marvell.com>
References: <20240315054213.540-9-vvelumuri@marvell.com>
Content-Type: text/plain
X-BeenThere: test-report@dpdk.org
X-Mailman-Version: 2.1.29
Precedence: list
List-Id: automatic DPDK test reports <test-report.dpdk.org>
List-Unsubscribe: <https://mails.dpdk.org/options/test-report>,
 <mailto:test-report-request@dpdk.org?subject=unsubscribe>
List-Archive: <http://mails.dpdk.org/archives/test-report/>
List-Post: <mailto:test-report@dpdk.org>
List-Help: <mailto:test-report-request@dpdk.org?subject=help>
List-Subscribe: <https://mails.dpdk.org/listinfo/test-report>,
 <mailto:test-report-request@dpdk.org?subject=subscribe>
Errors-To: test-report-bounces@dpdk.org

Test-Label: iol-compile-arm64-testing
Test-Status: SUCCESS
http://dpdk.org/patch/138420

_Testing PASS_

Submitter: Vidya Sagar Velumuri <vvelumuri@marvell.com>
Date: Friday, March 15 2024 05:42:13 
DPDK git baseline: Repo:dpdk
  Branch: master
  CommitID:cd218549b686d6be394ef3b171eafa16c038bfe3

138413-138420 --> testing pass

Test environment and result as below:

+----------------------------------------+--------------------+
|              Environment               | dpdk_meson_compile |
+========================================+====================+
| Ubuntu 20.04 ARM SVE                   | PASS               |
+----------------------------------------+--------------------+
| Debian 12 with MUSDK                   | PASS               |
+----------------------------------------+--------------------+
| Ubuntu 20.04 (ARM)                     | PASS               |
+----------------------------------------+--------------------+
| Fedora 38 (ARM)                        | PASS               |
+----------------------------------------+--------------------+
| Fedora 37 (ARM)                        | PASS               |
+----------------------------------------+--------------------+
| Debian 12 (arm)                        | PASS               |
+----------------------------------------+--------------------+
| Debian 11 (Buster) (ARM)               | PASS               |
+----------------------------------------+--------------------+
| Ubuntu 20.04 aarch32 GCC Cross Compile | PASS               |
+----------------------------------------+--------------------+
| CentOS Stream 9 (ARM)                  | PASS               |
+----------------------------------------+--------------------+
| Ubuntu 20.04 ARM GCC Cross Compile     | PASS               |
+----------------------------------------+--------------------+


Ubuntu 20.04 ARM SVE
	Kernel: 5.4.0-80-generic
	Compiler: gcc 10.3.0 (Ubuntu 10.3.0-1ubuntu1~20.04)

Debian 12 with MUSDK
	Kernel: Container Host Kernel
	Compiler: gcc 12

Ubuntu 20.04 (ARM)
	Kernel: Container Host Kernel
	Compiler: gcc 9.4.0

Fedora 38 (ARM)
	Kernel: Depends on container host
	Compiler: gcc 13.1.1

Fedora 37 (ARM)
	Kernel: Depends on container host
	Compiler: gcc 12.3.1

Debian 12 (arm)
	Kernel: Container Host Kernel
	Compiler: gcc 11

Debian 11 (Buster) (ARM)
	Kernel: Container Host Kernel
	Compiler: gcc 10.2.1

Ubuntu 20.04 aarch32 GCC Cross Compile
	Kernel: 5.4.0-72-generic
	Compiler: gcc 9.3.0

CentOS Stream 9 (ARM)
	Kernel: Container Host Kernel
	Compiler: gcc 11.3.1

Ubuntu 20.04 ARM GCC Cross Compile
	Kernel: 5.4.0-72-generic
	Compiler: aarch64-linux-gnu-gcc (Ubuntu 9.3.0-17ubuntu1~20.04) 9.3.0

To view detailed results, visit:
https://lab.dpdk.org/results/dashboard/patchsets/29568/

UNH-IOL DPDK Community Lab

To manage your email subscriptions, visit: 
https://lab.dpdk.org/results/dashboard/preferences/subscriptions/