From mboxrd@z Thu Jan  1 00:00:00 1970
Return-Path: <test-report-bounces@dpdk.org>
Received: from mails.dpdk.org (mails.dpdk.org [217.70.189.124])
	by inbox.dpdk.org (Postfix) with ESMTP id 014A143CB8
	for <public@inbox.dpdk.org>; Fri, 15 Mar 2024 08:54:22 +0100 (CET)
Received: from mails.dpdk.org (localhost [127.0.0.1])
	by mails.dpdk.org (Postfix) with ESMTP id EDE0542E6B;
	Fri, 15 Mar 2024 08:54:21 +0100 (CET)
Received: from mail-yw1-f226.google.com (mail-yw1-f226.google.com
 [209.85.128.226])
 by mails.dpdk.org (Postfix) with ESMTP id C9B304027B
 for <test-report@dpdk.org>; Fri, 15 Mar 2024 08:54:19 +0100 (CET)
Received: by mail-yw1-f226.google.com with SMTP id
 00721157ae682-609f1b77728so18757067b3.3
 for <test-report@dpdk.org>; Fri, 15 Mar 2024 00:54:19 -0700 (PDT)
DKIM-Signature: v=1; a=rsa-sha256; c=relaxed/relaxed;
 d=iol.unh.edu; s=unh-iol; t=1710489259; x=1711094059; darn=dpdk.org;
 h=references:in-reply-to:cc:to:from:subject:message-id:date:from:to
 :cc:subject:date:message-id:reply-to;
 bh=XZPbS+BrqUS3GILzFS5WTbr+lNen3SLxFPAZN2MHrRQ=;
 b=XAKDAKhO+o7/3irwtr+QKqruMkk21jmJbs1CbOGCQbWvwqqhw1kkRjBEDejfAiUDXG
 ZbR4yREa5Q7uXB74Mpcib/w8iY5x7wNBDfNkXmwKNC2NpNnMqZ89VqO3ZDWFjwQ10brK
 6DVfICLR2JI6cxQ/UCBO9Zoedzz6EXGusM4Xg=
X-Google-DKIM-Signature: v=1; a=rsa-sha256; c=relaxed/relaxed;
 d=1e100.net; s=20230601; t=1710489259; x=1711094059;
 h=references:in-reply-to:cc:to:from:subject:message-id:date
 :x-gm-message-state:from:to:cc:subject:date:message-id:reply-to;
 bh=XZPbS+BrqUS3GILzFS5WTbr+lNen3SLxFPAZN2MHrRQ=;
 b=MKA2iIHYuC0Ru1B/D9rV15DGPBsYJSW9BbDhXHF/G3hQh4by1Rjo77O/1KZo9BDTjg
 nD6ogQ7W/mDR00yMb956+S3lHosmxP1aP5FbzUra14HkapU0c7dXhVOan9Q//nZg2MSF
 H0rzQo0nMBBtUyDtO/QsHGpbJqWclRGZiXh9D0FLE7y6flqrfCwm090HQPv2gjUSNJ1n
 TlpF/5JOqr4sgMF4SCUOaDl8jBPf/v39p2tfdeAWT4vuD858UQNm4f6uDY2f1UxgSb8a
 QzLnMN1KQIZk7UWTIlYOUu3QK1NwkKGQu5JrXwWBnQNfJPM3sWPxwjKcfNBB99yZqKLe
 nLcA==
X-Gm-Message-State: AOJu0YyRVDxxmBgZiVVSCwWTusyhd1rTpxCOBeTUkZlG/J9qknC7E1sl
 8p3UjWJ57AMtCp2TZUhyDo72/+2+nGBjuJizn8OknjRDygStcGVEcOlEYYXTZ2S7gpANGazUVBZ
 q/Px/novbpa9nK+rDcHxchnlEcLJa829WpRCYIZDlz6+4fvce4M+/YrAU
X-Google-Smtp-Source: AGHT+IF1xBf54B5fBC2dgjVCQhFhtJMefgxPT/eMulDf1fvhsCGO2QRz4bUGzncFYTfNA17ToekQH5q/bHsH
X-Received: by 2002:a81:bf4a:0:b0:60a:66d3:c021 with SMTP id
 s10-20020a81bf4a000000b0060a66d3c021mr4405631ywk.22.1710489259260; 
 Fri, 15 Mar 2024 00:54:19 -0700 (PDT)
Received: from postal.iol.unh.edu (postal.iol.unh.edu.
 [2606:4100:3880:1234::84]) by smtp-relay.gmail.com with ESMTPS id
 b137-20020a0dd98f000000b0060a42096f15sm191307ywe.57.2024.03.15.00.54.19
 (version=TLS1_2 cipher=ECDHE-ECDSA-AES128-GCM-SHA256 bits=128/128);
 Fri, 15 Mar 2024 00:54:19 -0700 (PDT)
X-Relaying-Domain: iol.unh.edu
Date: Fri, 15 Mar 2024 00:54:19 -0700 (PDT)
Message-ID: <65f3feab.0d0a0220.c7876.da19SMTPIN_ADDED_MISSING@mx.google.com>
Received: from [172.17.0.6] (unknown [172.18.0.217])
 by postal.iol.unh.edu (Postfix) with ESMTP id F32396052471;
 Fri, 15 Mar 2024 03:54:18 -0400 (EDT)
Subject: |SUCCESS| pw138413-138420 [PATCH] [v3,8/8] crypto/cnxk: update the c
From: dpdklab@iol.unh.edu
To: Test Report <test-report@dpdk.org>
Cc: dpdk-test-reports@iol.unh.edu
In-Reply-To: <20240315054213.540-9-vvelumuri@marvell.com>
References: <20240315054213.540-9-vvelumuri@marvell.com>
Content-Type: text/plain
X-BeenThere: test-report@dpdk.org
X-Mailman-Version: 2.1.29
Precedence: list
List-Id: automatic DPDK test reports <test-report.dpdk.org>
List-Unsubscribe: <https://mails.dpdk.org/options/test-report>,
 <mailto:test-report-request@dpdk.org?subject=unsubscribe>
List-Archive: <http://mails.dpdk.org/archives/test-report/>
List-Post: <mailto:test-report@dpdk.org>
List-Help: <mailto:test-report-request@dpdk.org?subject=help>
List-Subscribe: <https://mails.dpdk.org/listinfo/test-report>,
 <mailto:test-report-request@dpdk.org?subject=subscribe>
Errors-To: test-report-bounces@dpdk.org

Test-Label: iol-unit-arm64-testing
Test-Status: SUCCESS
http://dpdk.org/patch/138420

_Testing PASS_

Submitter: Vidya Sagar Velumuri <vvelumuri@marvell.com>
Date: Friday, March 15 2024 05:42:13 
DPDK git baseline: Repo:dpdk
  Branch: master
  CommitID:cd218549b686d6be394ef3b171eafa16c038bfe3

138413-138420 --> testing pass

Test environment and result as below:

+--------------------------+------------------------------+---------------------------+----------------+--------------+
|       Environment        | cryptodev_sw_snow3g_autotest | cryptodev_sw_zuc_autotest | dpdk_unit_test | lpm_autotest |
+==========================+==============================+===========================+================+==============+
| Debian 12 (arm)          | PASS                         | PASS                      | PASS           | SKIPPED      |
+--------------------------+------------------------------+---------------------------+----------------+--------------+
| Debian 11 (Buster) (ARM) | SKIPPED                      | SKIPPED                   | PASS           | SKIPPED      |
+--------------------------+------------------------------+---------------------------+----------------+--------------+
| CentOS Stream 9 (ARM)    | SKIPPED                      | SKIPPED                   | PASS           | SKIPPED      |
+--------------------------+------------------------------+---------------------------+----------------+--------------+
| Fedora 37 (ARM)          | SKIPPED                      | SKIPPED                   | PASS           | SKIPPED      |
+--------------------------+------------------------------+---------------------------+----------------+--------------+
| Fedora 38 (ARM)          | SKIPPED                      | SKIPPED                   | PASS           | SKIPPED      |
+--------------------------+------------------------------+---------------------------+----------------+--------------+
| Ubuntu 20.04 (ARM)       | SKIPPED                      | SKIPPED                   | PASS           | SKIPPED      |
+--------------------------+------------------------------+---------------------------+----------------+--------------+
| Fedora 38 (ARM Clang)    | SKIPPED                      | SKIPPED                   | PASS           | SKIPPED      |
+--------------------------+------------------------------+---------------------------+----------------+--------------+
| Ubuntu 20.04 ARM SVE     | SKIPPED                      | SKIPPED                   | SKIPPED        | PASS         |
+--------------------------+------------------------------+---------------------------+----------------+--------------+


Debian 12 (arm)
	Kernel: Container Host Kernel
	Compiler: gcc 11

Debian 11 (Buster) (ARM)
	Kernel: Container Host Kernel
	Compiler: gcc 10.2.1

CentOS Stream 9 (ARM)
	Kernel: Container Host Kernel
	Compiler: gcc 11.3.1

Fedora 37 (ARM)
	Kernel: Depends on container host
	Compiler: gcc 12.3.1

Fedora 38 (ARM)
	Kernel: Depends on container host
	Compiler: gcc 13.1.1

Ubuntu 20.04 (ARM)
	Kernel: Container Host Kernel
	Compiler: gcc 9.4.0

Fedora 38 (ARM Clang)
	Kernel: Depends on container host
	Compiler: clang 16.0.3

Ubuntu 20.04 ARM SVE
	Kernel: 5.4.0-80-generic
	Compiler: gcc 10.3.0 (Ubuntu 10.3.0-1ubuntu1~20.04)

To view detailed results, visit:
https://lab.dpdk.org/results/dashboard/patchsets/29568/

UNH-IOL DPDK Community Lab

To manage your email subscriptions, visit: 
https://lab.dpdk.org/results/dashboard/preferences/subscriptions/