From mboxrd@z Thu Jan  1 00:00:00 1970
Return-Path: <test-report-bounces@dpdk.org>
Received: from mails.dpdk.org (mails.dpdk.org [217.70.189.124])
	by inbox.dpdk.org (Postfix) with ESMTP id 03D534342E
	for <public@inbox.dpdk.org>; Fri, 15 Mar 2024 09:04:53 +0100 (CET)
Received: from mails.dpdk.org (localhost [127.0.0.1])
	by mails.dpdk.org (Postfix) with ESMTP id F3C5442E6B;
	Fri, 15 Mar 2024 09:04:52 +0100 (CET)
Received: from mail-il1-f228.google.com (mail-il1-f228.google.com
 [209.85.166.228])
 by mails.dpdk.org (Postfix) with ESMTP id 7C5D242E6B
 for <test-report@dpdk.org>; Fri, 15 Mar 2024 09:04:51 +0100 (CET)
Received: by mail-il1-f228.google.com with SMTP id
 e9e14a558f8ab-3666affcb59so8144885ab.2
 for <test-report@dpdk.org>; Fri, 15 Mar 2024 01:04:51 -0700 (PDT)
DKIM-Signature: v=1; a=rsa-sha256; c=relaxed/relaxed;
 d=iol.unh.edu; s=unh-iol; t=1710489891; x=1711094691; darn=dpdk.org;
 h=references:in-reply-to:cc:to:from:subject:message-id:date:from:to
 :cc:subject:date:message-id:reply-to;
 bh=ZZ7b35dTeVZHJZt1EqW4In3G5V+8mxCOghgzz9so6L4=;
 b=jmLZfGtzwUstS7CTCbJjyoyB+fUfDOp4UdD3hoJIhKRpmaJxHVQYQkwC/qykJv1BnA
 i1Q+6M+1OWTR6n0M5qQg+ER3nTKl2tGuu7nuwDreTgxVJmlZMmaoeRfP2XxIYTF/J6qB
 hjEiiYp6jWaXMxWOe2usuwG92E+wci4PP2Zdk=
X-Google-DKIM-Signature: v=1; a=rsa-sha256; c=relaxed/relaxed;
 d=1e100.net; s=20230601; t=1710489891; x=1711094691;
 h=references:in-reply-to:cc:to:from:subject:message-id:date
 :x-gm-message-state:from:to:cc:subject:date:message-id:reply-to;
 bh=ZZ7b35dTeVZHJZt1EqW4In3G5V+8mxCOghgzz9so6L4=;
 b=tWG9gDEDwHB/3O4YPIDsdQFYDewJ9iM27zCUYSkrctFQZoq+eJ6I7mlm91qnM3kiX3
 yff595eBPG7qkEgpXtk1+lZUTTK1LAb4qV5Vju6yS3VBAstfndMGL+HnCkDzB5IfMhjE
 /OUCQ7xpdDE9Gr1YAV6T9gw8ovtJyzE+Vis5YA/dpAA/GdYYYrf4+FZNdUCxdp1Z9rZs
 V3AwWw5dCAuAO2hdxV/hbj1Hfr9SBVaDjew0aUsDRmW2cBqn2WImp0oMMmChN0ltdcHa
 UpDuDWN32H7DF2aN5uudfsF7RgO71LTu6q8cgfRhbf3rJlFavSvtU4zZr2dFeNuN9GlK
 w9PQ==
X-Gm-Message-State: AOJu0YzDWMT6DEh0IFWCWaIdskZZPFhMCFrz2HF3HTThfumyojiRBQxZ
 HtAQjZgeAof9YMDcvV/xRMgYK7sUaxdrrTthIcpQcGtwi+PDhfOU2KGwIkjpMIeMrRDagqRkfdk
 Hs08sSieo5UmrqsTliYbYkSwD3ePhqFA45yyKalvA3iQHb/ul78cjhngi
X-Google-Smtp-Source: AGHT+IEsh2xJ4gT1jNiQhjERt/4DIrT7u60kDOKQO29Ej5idm+Lak31jhgWiASkETX5vgUEzEPIiaNg831tH
X-Received: by 2002:a5d:959a:0:b0:7c8:55c2:63dc with SMTP id
 a26-20020a5d959a000000b007c855c263dcmr4734136ioo.9.1710489890892; 
 Fri, 15 Mar 2024 01:04:50 -0700 (PDT)
Received: from postal.iol.unh.edu (postal.iol.unh.edu.
 [2606:4100:3880:1234::84]) by smtp-relay.gmail.com with ESMTPS id
 dq35-20020a0566384d2300b00475d6e216ccsm92220jab.28.2024.03.15.01.04.50
 (version=TLS1_2 cipher=ECDHE-ECDSA-AES128-GCM-SHA256 bits=128/128);
 Fri, 15 Mar 2024 01:04:50 -0700 (PDT)
X-Relaying-Domain: iol.unh.edu
Date: Fri, 15 Mar 2024 01:04:50 -0700 (PDT)
Message-ID: <65f40122.050a0220.ce719.69b7SMTPIN_ADDED_MISSING@mx.google.com>
Received: from [172.17.0.8] (unknown [172.18.0.217])
 by postal.iol.unh.edu (Postfix) with ESMTP id 6B18C6052471;
 Fri, 15 Mar 2024 04:04:50 -0400 (EDT)
Subject: |SUCCESS| pw138413-138420 [PATCH] [v3,8/8] crypto/cnxk: update the c
From: dpdklab@iol.unh.edu
To: Test Report <test-report@dpdk.org>
Cc: dpdk-test-reports@iol.unh.edu
In-Reply-To: <20240315054213.540-9-vvelumuri@marvell.com>
References: <20240315054213.540-9-vvelumuri@marvell.com>
Content-Type: text/plain
X-BeenThere: test-report@dpdk.org
X-Mailman-Version: 2.1.29
Precedence: list
List-Id: automatic DPDK test reports <test-report.dpdk.org>
List-Unsubscribe: <https://mails.dpdk.org/options/test-report>,
 <mailto:test-report-request@dpdk.org?subject=unsubscribe>
List-Archive: <http://mails.dpdk.org/archives/test-report/>
List-Post: <mailto:test-report@dpdk.org>
List-Help: <mailto:test-report-request@dpdk.org?subject=help>
List-Subscribe: <https://mails.dpdk.org/listinfo/test-report>,
 <mailto:test-report-request@dpdk.org?subject=subscribe>
Errors-To: test-report-bounces@dpdk.org

Test-Label: iol-unit-amd64-testing
Test-Status: SUCCESS
http://dpdk.org/patch/138420

_Testing PASS_

Submitter: Vidya Sagar Velumuri <vvelumuri@marvell.com>
Date: Friday, March 15 2024 05:42:13 
DPDK git baseline: Repo:dpdk
  Branch: master
  CommitID:cd218549b686d6be394ef3b171eafa16c038bfe3

138413-138420 --> testing pass

Test environment and result as below:

+---------------------+----------------+
|     Environment     | dpdk_unit_test |
+=====================+================+
| Windows Server 2019 | PASS           |
+---------------------+----------------+
| CentOS Stream 9     | PASS           |
+---------------------+----------------+
| Debian 12 (arm)     | PASS           |
+---------------------+----------------+
| Debian Bullseye     | PASS           |
+---------------------+----------------+
| openSUSE Leap 15    | PASS           |
+---------------------+----------------+
| CentOS Stream 8     | PASS           |
+---------------------+----------------+
| Fedora 37           | PASS           |
+---------------------+----------------+
| Fedora 38           | PASS           |
+---------------------+----------------+
| Ubuntu 20.04        | PASS           |
+---------------------+----------------+
| RHEL8               | PASS           |
+---------------------+----------------+
| Ubuntu 22.04        | PASS           |
+---------------------+----------------+
| Windows Server 2022 | PASS           |
+---------------------+----------------+


Windows Server 2019
	Kernel: 10.0
	Compiler: clang 14.0 and gcc 8.1.0 (MinGW)

CentOS Stream 9
	Kernel: 4.18.0-240.10.1.el8_3.x86_64
	Compiler: gcc 11.3.1 20220421

Debian 12 (arm)
	Kernel: Container Host Kernel
	Compiler: gcc 11

Debian Bullseye
	Kernel: 5.4.0-122-generic
	Compiler: gcc 10.2.1-6

openSUSE Leap 15
	Kernel: 4.18.0-240.10.1.el8_3.x86_64
	Compiler: gcc 7.5.0

CentOS Stream 8
	Kernel: 4.18.0-240.10.1.el8_3.x86_64
	Compiler: gcc 8.4.1 20200928

Fedora 37
	Kernel: Depends on container host system
	Compiler: gcc 12.3.1

Fedora 38
	Kernel: Depends on container host
	Compiler: gcc 13.1.1

Ubuntu 20.04
	Kernel: 5.4.0-153-generic
	Compiler: gcc 9.4.0-1ubuntu1~20.04.1

RHEL8
	Kernel: 4.18.0-240.10.1.el8_3.x86_64
	Compiler: gcc 8.3.1 20191121 (Red Hat 8.3.1-5)

Ubuntu 22.04
	Kernel: 4.18.0-240.10.1.el8_3.x86_64
	Compiler: gcc 11.3.0

Windows Server 2022
	Kernel: OS Build 20348.2031
	Compiler: clang 15.0.7, gcc 8.1.0 (MinGW), and MSVC VS 17.9

To view detailed results, visit:
https://lab.dpdk.org/results/dashboard/patchsets/29568/

UNH-IOL DPDK Community Lab

To manage your email subscriptions, visit: 
https://lab.dpdk.org/results/dashboard/preferences/subscriptions/