From mboxrd@z Thu Jan  1 00:00:00 1970
Return-Path: <test-report-bounces@dpdk.org>
Received: from mails.dpdk.org (mails.dpdk.org [217.70.189.124])
	by inbox.dpdk.org (Postfix) with ESMTP id 49A194342E
	for <public@inbox.dpdk.org>; Fri, 15 Mar 2024 09:41:43 +0100 (CET)
Received: from mails.dpdk.org (localhost [127.0.0.1])
	by mails.dpdk.org (Postfix) with ESMTP id 44A1A42EE7;
	Fri, 15 Mar 2024 09:41:43 +0100 (CET)
Received: from mail-oo1-f99.google.com (mail-oo1-f99.google.com
 [209.85.161.99]) by mails.dpdk.org (Postfix) with ESMTP id B3B0F42EE7
 for <test-report@dpdk.org>; Fri, 15 Mar 2024 09:41:41 +0100 (CET)
Received: by mail-oo1-f99.google.com with SMTP id
 006d021491bc7-5a1aa46c975so623694eaf.3
 for <test-report@dpdk.org>; Fri, 15 Mar 2024 01:41:41 -0700 (PDT)
DKIM-Signature: v=1; a=rsa-sha256; c=relaxed/relaxed;
 d=iol.unh.edu; s=unh-iol; t=1710492101; x=1711096901; darn=dpdk.org;
 h=references:in-reply-to:cc:to:from:subject:message-id:date:from:to
 :cc:subject:date:message-id:reply-to;
 bh=3Sr2/dMfx36B13odwdP86q1RUx2hePPe0GW9tARvESM=;
 b=EpPdcjibENQ4r5pBHgXJXkTXhffhCKBu0RWBPEFf1N3giIhU8BZIaLfE2z36HF3Sej
 VAa4R5rFoWJikTstza7Ti9ub0VZ5ZtgjCNjz/ZNODK6Juwam6YzNZwNv36SxYEHIUske
 hruKQMwWh7DBzb3i4HPx5GX2p1NXSaVUziItM=
X-Google-DKIM-Signature: v=1; a=rsa-sha256; c=relaxed/relaxed;
 d=1e100.net; s=20230601; t=1710492101; x=1711096901;
 h=references:in-reply-to:cc:to:from:subject:message-id:date
 :x-gm-message-state:from:to:cc:subject:date:message-id:reply-to;
 bh=3Sr2/dMfx36B13odwdP86q1RUx2hePPe0GW9tARvESM=;
 b=MGGU8rmJcy7esHbiCKOBb0q+DkMiTwESbHecmLis5sx6tOHnaQWVgzc4p2PGkgUIVt
 PDFdui96A3EXsDo+91sNu52VjFOjOv9T3icE508BSMPfOCYmu8fsNZODhAaUbxYtBh5I
 0k9DGvhej37TZ/Mcm5qaZdKP7J4JMr/f7X43GnwwVuT/pOLTcOJScATqGVGIkK7UHM0m
 enodj303Pbn2ox8tzyDawAhqDxktQ2cunBlFZP/QyEQH2WQBn3x3Q1fAYwh5CH8VUBw/
 iQREHkx+KJycWkZnpWjBQpL+ntVnDPwTiomnFj34Aivzv9wmhbqkT3c5miwmlPCrjCj5
 bYKQ==
X-Gm-Message-State: AOJu0YxR8N//LxJfA1K0Rt8cz/OKJF0kcwtUUu/xx6Yt+L9tV6spMn7U
 dA+xr/BGi9rJCwzofMb1AH8J7KJokHN57zu29Wr+PDFiifoNVtqwyKonwGUTdrmH6V3YkC+qgzj
 MAYmSgAoEf+XpZpWqIcOJOtIoJA4d3Hdsj9WYvljx
X-Google-Smtp-Source: AGHT+IHc3x3KnzerhzAKVEugM0bepi3Coid9nKqgY4CYwwrBKz4onHRRcjCHCsE0LLcYUzd9vfrcuuE+swMS
X-Received: by 2002:a4a:925a:0:b0:5a2:3864:4ab0 with SMTP id
 g26-20020a4a925a000000b005a238644ab0mr4576953ooh.3.1710492101166; 
 Fri, 15 Mar 2024 01:41:41 -0700 (PDT)
Received: from postal.iol.unh.edu (postal.iol.unh.edu. [132.177.123.84])
 by smtp-relay.gmail.com with ESMTPS id
 cj27-20020a056820221b00b005988cc5059csm86641oob.16.2024.03.15.01.41.37
 (version=TLS1_2 cipher=ECDHE-ECDSA-AES128-GCM-SHA256 bits=128/128);
 Fri, 15 Mar 2024 01:41:41 -0700 (PDT)
X-Relaying-Domain: iol.unh.edu
Date: Fri, 15 Mar 2024 01:41:41 -0700 (PDT)
Message-ID: <65f409c5.050a0220.d9b79.5b70SMTPIN_ADDED_MISSING@mx.google.com>
Received: from [172.21.0.6] (unknown [172.18.0.240])
 by postal.iol.unh.edu (Postfix) with ESMTP id 132946052471;
 Fri, 15 Mar 2024 04:41:37 -0400 (EDT)
Subject: |SUCCESS| pw138413-138420 [PATCH] [v3,8/8] crypto/cnxk: update the c
From: dpdklab@iol.unh.edu
To: Test Report <test-report@dpdk.org>
Cc: dpdk-test-reports@iol.unh.edu
In-Reply-To: <20240315054213.540-9-vvelumuri@marvell.com>
References: <20240315054213.540-9-vvelumuri@marvell.com>
Content-Type: text/plain
X-BeenThere: test-report@dpdk.org
X-Mailman-Version: 2.1.29
Precedence: list
List-Id: automatic DPDK test reports <test-report.dpdk.org>
List-Unsubscribe: <https://mails.dpdk.org/options/test-report>,
 <mailto:test-report-request@dpdk.org?subject=unsubscribe>
List-Archive: <http://mails.dpdk.org/archives/test-report/>
List-Post: <mailto:test-report@dpdk.org>
List-Help: <mailto:test-report-request@dpdk.org?subject=help>
List-Subscribe: <https://mails.dpdk.org/listinfo/test-report>,
 <mailto:test-report-request@dpdk.org?subject=subscribe>
Errors-To: test-report-bounces@dpdk.org

Test-Label: iol-compile-arm64-testing
Test-Status: SUCCESS
http://dpdk.org/patch/138420

_Testing PASS_

Submitter: Vidya Sagar Velumuri <vvelumuri@marvell.com>
Date: Friday, March 15 2024 05:42:13 
DPDK git baseline: Repo:dpdk
  Branch: master
  CommitID:cd218549b686d6be394ef3b171eafa16c038bfe3

138413-138420 --> testing pass

Test environment and result as below:

+----------------------------------------+--------------------+
|              Environment               | dpdk_meson_compile |
+========================================+====================+
| Ubuntu 20.04 ARM SVE                   | PASS               |
+----------------------------------------+--------------------+
| Debian 12 with MUSDK                   | PASS               |
+----------------------------------------+--------------------+
| Ubuntu 20.04 (ARM)                     | PASS               |
+----------------------------------------+--------------------+
| Fedora 38 (ARM)                        | PASS               |
+----------------------------------------+--------------------+
| Fedora 37 (ARM)                        | PASS               |
+----------------------------------------+--------------------+
| Debian 12 (arm)                        | PASS               |
+----------------------------------------+--------------------+
| Debian 11 (Buster) (ARM)               | PASS               |
+----------------------------------------+--------------------+
| Ubuntu 20.04 aarch32 GCC Cross Compile | PASS               |
+----------------------------------------+--------------------+
| CentOS Stream 9 (ARM)                  | PASS               |
+----------------------------------------+--------------------+
| Ubuntu 20.04 ARM GCC Cross Compile     | PASS               |
+----------------------------------------+--------------------+
| Ubuntu 20.04 ARM Clang Cross Compile   | PASS               |
+----------------------------------------+--------------------+
| Fedora 38 (ARM Clang)                  | PASS               |
+----------------------------------------+--------------------+


Ubuntu 20.04 ARM SVE
	Kernel: 5.4.0-80-generic
	Compiler: gcc 10.3.0 (Ubuntu 10.3.0-1ubuntu1~20.04)

Debian 12 with MUSDK
	Kernel: Container Host Kernel
	Compiler: gcc 12

Ubuntu 20.04 (ARM)
	Kernel: Container Host Kernel
	Compiler: gcc 9.4.0

Fedora 38 (ARM)
	Kernel: Depends on container host
	Compiler: gcc 13.1.1

Fedora 37 (ARM)
	Kernel: Depends on container host
	Compiler: gcc 12.3.1

Debian 12 (arm)
	Kernel: Container Host Kernel
	Compiler: gcc 11

Debian 11 (Buster) (ARM)
	Kernel: Container Host Kernel
	Compiler: gcc 10.2.1

Ubuntu 20.04 aarch32 GCC Cross Compile
	Kernel: 5.4.0-72-generic
	Compiler: gcc 9.3.0

CentOS Stream 9 (ARM)
	Kernel: Container Host Kernel
	Compiler: gcc 11.3.1

Ubuntu 20.04 ARM GCC Cross Compile
	Kernel: 5.4.0-72-generic
	Compiler: aarch64-linux-gnu-gcc (Ubuntu 9.3.0-17ubuntu1~20.04) 9.3.0

Ubuntu 20.04 ARM Clang Cross Compile
	Kernel: 5.4.0-72-generic
	Compiler: clang version 10.0.0-4ubuntu1

Fedora 38 (ARM Clang)
	Kernel: Depends on container host
	Compiler: clang 16.0.3

To view detailed results, visit:
https://lab.dpdk.org/results/dashboard/patchsets/29568/

UNH-IOL DPDK Community Lab

To manage your email subscriptions, visit: 
https://lab.dpdk.org/results/dashboard/preferences/subscriptions/