From mboxrd@z Thu Jan  1 00:00:00 1970
Return-Path: <test-report-bounces@dpdk.org>
Received: from mails.dpdk.org (mails.dpdk.org [217.70.189.124])
	by inbox.dpdk.org (Postfix) with ESMTP id 7858D4342E
	for <public@inbox.dpdk.org>; Fri, 15 Mar 2024 09:42:04 +0100 (CET)
Received: from mails.dpdk.org (localhost [127.0.0.1])
	by mails.dpdk.org (Postfix) with ESMTP id 739EB42DCA;
	Fri, 15 Mar 2024 09:42:04 +0100 (CET)
Received: from mail-yw1-f228.google.com (mail-yw1-f228.google.com
 [209.85.128.228])
 by mails.dpdk.org (Postfix) with ESMTP id E7BD34027B
 for <test-report@dpdk.org>; Fri, 15 Mar 2024 09:41:55 +0100 (CET)
Received: by mail-yw1-f228.google.com with SMTP id
 00721157ae682-60fff981e2aso792457b3.3
 for <test-report@dpdk.org>; Fri, 15 Mar 2024 01:41:55 -0700 (PDT)
DKIM-Signature: v=1; a=rsa-sha256; c=relaxed/relaxed;
 d=iol.unh.edu; s=unh-iol; t=1710492115; x=1711096915; darn=dpdk.org;
 h=references:in-reply-to:cc:to:from:subject:message-id:date:from:to
 :cc:subject:date:message-id:reply-to;
 bh=Ax9VExIWFHGA7G2W3xEr1ltEXUY9FLACk59mc/Flw+I=;
 b=a+y3cOnsK7zPm2Hfq/N5luLBDHTItCFCVYllMU3dPBDAJXyXyhCZgSpGYfXLR95eDd
 yw7/A7tNR/aXt7Fi4eVv8NFDFA45HlnlsfA2BnoJZkb5qi9epqPFAaYCM0H09kikHj0d
 bFUYiQbCkDICe1BuWqaqbDzCNQ6B4D6kjrUJw=
X-Google-DKIM-Signature: v=1; a=rsa-sha256; c=relaxed/relaxed;
 d=1e100.net; s=20230601; t=1710492115; x=1711096915;
 h=references:in-reply-to:cc:to:from:subject:message-id:date
 :x-gm-message-state:from:to:cc:subject:date:message-id:reply-to;
 bh=Ax9VExIWFHGA7G2W3xEr1ltEXUY9FLACk59mc/Flw+I=;
 b=mkTs8iRgNDR89C5NxgCvWwr9keg/xzl1mX1giIiXqyUOZl0x2t7uBEQJN/6V87fXvM
 zRfNCBKdHFhc61pWPGIuZksdDp8Ozal20Q6OoT4ujpi4a8JiFo4qWI1CtVTSmkY2O0i2
 yyBsznxY+XEghOjdjPgdEJGbNJ6PKOm88XgUZnFgr/T5wmgDEEwSZpNwK6zZrqcl/wdw
 iNOYwYqd4klfpcA9wIKj8bAkxdRHji3A5Xos+BkYWYGRB12kWy5WhjxDDB5zEsqUsKmD
 qEDzDD9g4CGtjuRmjplSynzKpdZrekXhFSjUiLzAyqIc22hKnwQOupZyOYtK7KjFSG7V
 dVNw==
X-Gm-Message-State: AOJu0Yy+FWXplzeid+s7YxMZjw7GiH+K0l0MvEBZi8QVRfB9J0xR0IfF
 DG7/YFt1C5hoG+rQOSRXeunxK2hT2qAfnXb4fQ0ydByjwLBzuD68A3NQgN6pzjtqhjzzeo3CUaC
 fedVcg8m5xdb7Sn9VncL1P04v/OPzGPymrWoJumAj
X-Google-Smtp-Source: AGHT+IGT38IPDiW0av+xdX3DbIugKMCI+v5h897STdIRBad1DwFt2ot+c0Cb5VPW9Z+xmNmuNO+jQbMqKqIB
X-Received: by 2002:a81:8a07:0:b0:60a:279:bbb8 with SMTP id
 a7-20020a818a07000000b0060a0279bbb8mr4961929ywg.37.1710492115336; 
 Fri, 15 Mar 2024 01:41:55 -0700 (PDT)
Received: from postal.iol.unh.edu (postal.iol.unh.edu. [132.177.123.84])
 by smtp-relay.gmail.com with ESMTPS id
 d14-20020a81ab4e000000b006048ac4286esm95451ywk.71.2024.03.15.01.41.55
 (version=TLS1_2 cipher=ECDHE-ECDSA-AES128-GCM-SHA256 bits=128/128);
 Fri, 15 Mar 2024 01:41:55 -0700 (PDT)
X-Relaying-Domain: iol.unh.edu
Date: Fri, 15 Mar 2024 01:41:55 -0700 (PDT)
Message-ID: <65f409d3.810a0220.726f8.5fa3SMTPIN_ADDED_MISSING@mx.google.com>
Received: from [172.17.0.8] (unknown [172.18.0.217])
 by postal.iol.unh.edu (Postfix) with ESMTP id F2B3A6052471;
 Fri, 15 Mar 2024 04:41:54 -0400 (EDT)
Subject: |SUCCESS| pw138423-138430 [PATCH] [v4,8/8] crypto/cnxk: update the c
From: dpdklab@iol.unh.edu
To: Test Report <test-report@dpdk.org>
Cc: dpdk-test-reports@iol.unh.edu
In-Reply-To: <20240315064511.639-9-vvelumuri@marvell.com>
References: <20240315064511.639-9-vvelumuri@marvell.com>
Content-Type: text/plain
X-BeenThere: test-report@dpdk.org
X-Mailman-Version: 2.1.29
Precedence: list
List-Id: automatic DPDK test reports <test-report.dpdk.org>
List-Unsubscribe: <https://mails.dpdk.org/options/test-report>,
 <mailto:test-report-request@dpdk.org?subject=unsubscribe>
List-Archive: <http://mails.dpdk.org/archives/test-report/>
List-Post: <mailto:test-report@dpdk.org>
List-Help: <mailto:test-report-request@dpdk.org?subject=help>
List-Subscribe: <https://mails.dpdk.org/listinfo/test-report>,
 <mailto:test-report-request@dpdk.org?subject=subscribe>
Errors-To: test-report-bounces@dpdk.org

Test-Label: iol-abi-testing
Test-Status: SUCCESS
http://dpdk.org/patch/138430

_Testing PASS_

Submitter: Vidya Sagar Velumuri <vvelumuri@marvell.com>
Date: Friday, March 15 2024 06:45:11 
DPDK git baseline: Repo:dpdk
  Branch: master
  CommitID:cd218549b686d6be394ef3b171eafa16c038bfe3

138423-138430 --> testing pass

Test environment and result as below:

+------------------+----------+
|   Environment    | abi_test |
+==================+==========+
| Fedora 37        | PASS     |
+------------------+----------+
| Fedora 38        | PASS     |
+------------------+----------+
| openSUSE Leap 15 | PASS     |
+------------------+----------+
| CentOS Stream 9  | PASS     |
+------------------+----------+
| Debian 12 (arm)  | PASS     |
+------------------+----------+
| RHEL8            | PASS     |
+------------------+----------+
| Debian Bullseye  | PASS     |
+------------------+----------+
| CentOS Stream 8  | PASS     |
+------------------+----------+
| Ubuntu 22.04     | PASS     |
+------------------+----------+


Fedora 37
	Kernel: Depends on container host system
	Compiler: gcc 12.3.1

Fedora 38
	Kernel: Depends on container host
	Compiler: gcc 13.1.1

openSUSE Leap 15
	Kernel: 4.18.0-240.10.1.el8_3.x86_64
	Compiler: gcc 7.5.0

CentOS Stream 9
	Kernel: 4.18.0-240.10.1.el8_3.x86_64
	Compiler: gcc 11.3.1 20220421

Debian 12 (arm)
	Kernel: Container Host Kernel
	Compiler: gcc 11

RHEL8
	Kernel: 4.18.0-240.10.1.el8_3.x86_64
	Compiler: gcc 8.3.1 20191121 (Red Hat 8.3.1-5)

Debian Bullseye
	Kernel: 5.4.0-122-generic
	Compiler: gcc 10.2.1-6

CentOS Stream 8
	Kernel: 4.18.0-240.10.1.el8_3.x86_64
	Compiler: gcc 8.4.1 20200928

Ubuntu 22.04
	Kernel: 4.18.0-240.10.1.el8_3.x86_64
	Compiler: gcc 11.3.0

To view detailed results, visit:
https://lab.dpdk.org/results/dashboard/patchsets/29570/

UNH-IOL DPDK Community Lab

To manage your email subscriptions, visit: 
https://lab.dpdk.org/results/dashboard/preferences/subscriptions/